BEGIN:VCALENDAR
VERSION:2.0
PRODID:-//Village of Millbrook - ECPv6.15.17.1//NONSGML v1.0//EN
CALSCALE:GREGORIAN
METHOD:PUBLISH
X-WR-CALNAME:Village of Millbrook
X-ORIGINAL-URL:https://villageofmillbrookny.com
X-WR-CALDESC:Events for Village of Millbrook
REFRESH-INTERVAL;VALUE=DURATION:PT1H
X-Robots-Tag:noindex
X-PUBLISHED-TTL:PT1H
BEGIN:VTIMEZONE
TZID:America/New_York
BEGIN:DAYLIGHT
TZOFFSETFROM:-0500
TZOFFSETTO:-0400
TZNAME:EDT
DTSTART:20250309T070000
END:DAYLIGHT
BEGIN:STANDARD
TZOFFSETFROM:-0400
TZOFFSETTO:-0500
TZNAME:EST
DTSTART:20251102T060000
END:STANDARD
BEGIN:DAYLIGHT
TZOFFSETFROM:-0500
TZOFFSETTO:-0400
TZNAME:EDT
DTSTART:20260308T070000
END:DAYLIGHT
BEGIN:STANDARD
TZOFFSETFROM:-0400
TZOFFSETTO:-0500
TZNAME:EST
DTSTART:20261101T060000
END:STANDARD
BEGIN:DAYLIGHT
TZOFFSETFROM:-0500
TZOFFSETTO:-0400
TZNAME:EDT
DTSTART:20270314T070000
END:DAYLIGHT
BEGIN:STANDARD
TZOFFSETFROM:-0400
TZOFFSETTO:-0500
TZNAME:EST
DTSTART:20271107T060000
END:STANDARD
END:VTIMEZONE
BEGIN:VEVENT
DTSTART;TZID=America/New_York:20260422T180000
DTEND;TZID=America/New_York:20260422T180000
DTSTAMP:20260420T100335
CREATED:20260420T114139Z
LAST-MODIFIED:20260420T114139Z
UID:15306-1776880800-1776880800@villageofmillbrookny.com
SUMMARY:Public Hearing: Games of Chance
DESCRIPTION:NOTICE OF PUBLIC HEARING \nTAKE NOTICE\, that the Board of Trustees of the Village of Millbrook will hold a public hearing at the Village Hall\, 35 Merritt Ave\, Millbrook\, New York\, on April 22nd\, 2026\, at 6:00 o’clock\, p.m.\, Prevailing Time\, on Proposed Local Law No. 3 of the Year 2026\, entitled “A Local Law Establishing Chapter 122 of the Village Code Entitled ‘Games of Chance’ Authorizing the Conduct of Games of Chance by Certain Organizations in the Village”.  TAKE FURTHER NOTICE\, that copies of the aforesaid proposed local law will be available on the Village of Millbrook website between the date of this notice and the date of the public hearing. \nTAKE FURTHER NOTICE\, that all persons interested and citizens shall have an opportunity to be heard on said proposal at the time and place aforesaid. \nDATED:\nMillbrook\, New York\nApril 9th\, 2026 \nSubmitted by:\nSarah J. Witt\nVillage Clerk \n 
URL:https://villageofmillbrookny.com/event/public-hearing-games-of-chance/
LOCATION:Millbrook Village Hall\, 35 Merritt Avenue\, Millbrook\, NY\, 12545\, United States
END:VEVENT
END:VCALENDAR