BEGIN:VCALENDAR
VERSION:2.0
PRODID:-//Village of Millbrook - ECPv6.15.17.1//NONSGML v1.0//EN
CALSCALE:GREGORIAN
METHOD:PUBLISH
X-WR-CALNAME:Village of Millbrook
X-ORIGINAL-URL:https://villageofmillbrookny.com
X-WR-CALDESC:Events for Village of Millbrook
REFRESH-INTERVAL;VALUE=DURATION:PT1H
X-Robots-Tag:noindex
X-PUBLISHED-TTL:PT1H
BEGIN:VTIMEZONE
TZID:America/New_York
BEGIN:DAYLIGHT
TZOFFSETFROM:-0500
TZOFFSETTO:-0400
TZNAME:EDT
DTSTART:20250309T070000
END:DAYLIGHT
BEGIN:STANDARD
TZOFFSETFROM:-0400
TZOFFSETTO:-0500
TZNAME:EST
DTSTART:20251102T060000
END:STANDARD
BEGIN:DAYLIGHT
TZOFFSETFROM:-0500
TZOFFSETTO:-0400
TZNAME:EDT
DTSTART:20260308T070000
END:DAYLIGHT
BEGIN:STANDARD
TZOFFSETFROM:-0400
TZOFFSETTO:-0500
TZNAME:EST
DTSTART:20261101T060000
END:STANDARD
BEGIN:DAYLIGHT
TZOFFSETFROM:-0500
TZOFFSETTO:-0400
TZNAME:EDT
DTSTART:20270314T070000
END:DAYLIGHT
BEGIN:STANDARD
TZOFFSETFROM:-0400
TZOFFSETTO:-0500
TZNAME:EST
DTSTART:20271107T060000
END:STANDARD
END:VTIMEZONE
BEGIN:VEVENT
DTSTART;TZID=America/New_York:20260420T170000
DTEND;TZID=America/New_York:20260420T190000
DTSTAMP:20260420T131632
CREATED:20240308T182147Z
LAST-MODIFIED:20240308T182742Z
UID:10001376-1776704400-1776711600@villageofmillbrookny.com
SUMMARY:Building Department Hours
DESCRIPTION:
URL:https://villageofmillbrookny.com/event/building-department-hours-3/2026-04-20/
LOCATION:Millbrook Village Hall\, 35 Merritt Avenue\, Millbrook\, NY\, 12545\, United States
CATEGORIES:Building Department
END:VEVENT
BEGIN:VEVENT
DTSTART;TZID=America/New_York:20260420T180000
DTEND;TZID=America/New_York:20260420T180000
DTSTAMP:20260420T131632
CREATED:20260406T181045Z
LAST-MODIFIED:20260406T181148Z
UID:10001762-1776708000-1776708000@villageofmillbrookny.com
SUMMARY:Planning Board 4/20/26: 3265 Franklin Ave LLC
DESCRIPTION:
URL:https://villageofmillbrookny.com/event/planning-board-4-20-26-3265-franklin-ave-llc/
CATEGORIES:Planning Board
END:VEVENT
BEGIN:VEVENT
DTSTART;TZID=America/New_York:20260420T180000
DTEND;TZID=America/New_York:20260420T180000
DTSTAMP:20260420T131632
CREATED:20260406T180602Z
LAST-MODIFIED:20260406T180931Z
UID:10001761-1776708000-1776708000@villageofmillbrookny.com
SUMMARY:Planning Board 4/20/26: Thorne Continuation
DESCRIPTION:
URL:https://villageofmillbrookny.com/event/planning-board-4-20-26-thorne/
LOCATION:Millbrook Village Firehouse\, 20 Front St\, Millbrook\, NY\, 12545\, United States
CATEGORIES:Planning Board
END:VEVENT
BEGIN:VEVENT
DTSTART;TZID=America/New_York:20260420T180000
DTEND;TZID=America/New_York:20260420T180000
DTSTAMP:20260420T131632
CREATED:20260406T141335Z
LAST-MODIFIED:20260406T181141Z
UID:10001760-1776708000-1776708000@villageofmillbrookny.com
SUMMARY:Planning Board 4/20/26: 24 Valley Farm Continuation
DESCRIPTION:Village of Millbrook Planning Board\nNotice of Public Hearing \nPLEASE BE ADVISED the Village of Millbrook Planning Board will be holding a Public Hearing on Monday\, April 20\, 2026\, at 6:00 PM (previously opened 02/09/2026)\, at the Millbrook Firehouse\, Village of Millbrook\, at 20 Front\, Millbrook\, NY. \nPLEASE BE FURTHER ADVISED\, the purpose of this meeting is to hear any\, and all comments regarding the lot line realignment (24 Valley Farm & 46 Valley Farm) and new proposed house at 24 Valley Farm Rd: Grid Number 135801-6765-14-429464. \nBy the order of the Village of Millbrook Planning Board \nChair Frank Redl\nDated: April 6\, 2026 \nhttps://villageofmillbrookny.com/agendas-minutes/#planning-board
URL:https://villageofmillbrookny.com/event/planning-board-4-20-26-24-valley-farm/
LOCATION:Millbrook Village Firehouse\, 20 Front St\, Millbrook\, NY\, 12545\, United States
CATEGORIES:Planning Board
END:VEVENT
BEGIN:VEVENT
DTSTART;TZID=America/New_York:20260421T160000
DTEND;TZID=America/New_York:20260421T160000
DTSTAMP:20260420T131632
CREATED:20260420T171334Z
LAST-MODIFIED:20260420T171424Z
UID:10001781-1776787200-1776787200@villageofmillbrookny.com
SUMMARY:Shade Tree Meeting 4/21/26
DESCRIPTION:
URL:https://villageofmillbrookny.com/event/shade-tree-meeting-4-21-26/
CATEGORIES:Shade Tree
END:VEVENT
BEGIN:VEVENT
DTSTART;TZID=America/New_York:20260422T180000
DTEND;TZID=America/New_York:20260422T180000
DTSTAMP:20260420T131632
CREATED:20260420T114021Z
LAST-MODIFIED:20260420T114021Z
UID:10001777-1776880800-1776880800@villageofmillbrookny.com
SUMMARY:Public Hearing: Bingo
DESCRIPTION:NOTICE OF PUBLIC HEARING \nTAKE NOTICE\, that the Board of Trustees of the Village of Millbrook will hold a public hearing at the Village Hall\, 35 Merritt Ave\, Millbrook\, New York\, on April 22nd\, 2026\, at 6:00 o’clock\, p.m.\, Prevailing Time\, on Proposed Local Law No. 2 of the Year 2026\, entitled “A Local Law Establishing Chapter 72 of the Village Code Entitled ‘Bingo’ Authorizing the Conduct of Bingo Games by Certain Organizations in the Village”. TAKE FURTHER NOTICE\, that copies of the aforesaid proposed local law will be available on the Village of Millbrook website between the date of this notice and the date of the public hearing. \nTAKE FURTHER NOTICE\, that all persons interested and citizens shall have an opportunity to be heard on said proposal at the time and place aforesaid. \nDATED:\nMillbrook\, New York\nApril 9th\, 2026 \nSubmitted by:\nSarah J Witt\nVillage Clerk
URL:https://villageofmillbrookny.com/event/public-hearing-bingo/
LOCATION:Millbrook Village Hall\, 35 Merritt Avenue\, Millbrook\, NY\, 12545\, United States
END:VEVENT
BEGIN:VEVENT
DTSTART;TZID=America/New_York:20260422T180000
DTEND;TZID=America/New_York:20260422T180000
DTSTAMP:20260420T131632
CREATED:20260420T114139Z
LAST-MODIFIED:20260420T114139Z
UID:10001778-1776880800-1776880800@villageofmillbrookny.com
SUMMARY:Public Hearing: Games of Chance
DESCRIPTION:NOTICE OF PUBLIC HEARING \nTAKE NOTICE\, that the Board of Trustees of the Village of Millbrook will hold a public hearing at the Village Hall\, 35 Merritt Ave\, Millbrook\, New York\, on April 22nd\, 2026\, at 6:00 o’clock\, p.m.\, Prevailing Time\, on Proposed Local Law No. 3 of the Year 2026\, entitled “A Local Law Establishing Chapter 122 of the Village Code Entitled ‘Games of Chance’ Authorizing the Conduct of Games of Chance by Certain Organizations in the Village”.  TAKE FURTHER NOTICE\, that copies of the aforesaid proposed local law will be available on the Village of Millbrook website between the date of this notice and the date of the public hearing. \nTAKE FURTHER NOTICE\, that all persons interested and citizens shall have an opportunity to be heard on said proposal at the time and place aforesaid. \nDATED:\nMillbrook\, New York\nApril 9th\, 2026 \nSubmitted by:\nSarah J. Witt\nVillage Clerk \n 
URL:https://villageofmillbrookny.com/event/public-hearing-games-of-chance/
LOCATION:Millbrook Village Hall\, 35 Merritt Avenue\, Millbrook\, NY\, 12545\, United States
END:VEVENT
BEGIN:VEVENT
DTSTART;TZID=America/New_York:20260422T180000
DTEND;TZID=America/New_York:20260422T180000
DTSTAMP:20260420T131632
CREATED:20260420T112633Z
LAST-MODIFIED:20260420T112633Z
UID:10001774-1776880800-1776880800@villageofmillbrookny.com
SUMMARY:Board of Trustees Public Hearing: Bingo & Games of Chance
DESCRIPTION:
URL:https://villageofmillbrookny.com/event/board-of-trustees-public-hearing-bingo-games-of-chance/
END:VEVENT
BEGIN:VEVENT
DTSTART;TZID=America/New_York:20260425T100000
DTEND;TZID=America/New_York:20260425T120000
DTSTAMP:20260420T131632
CREATED:20260420T160018Z
LAST-MODIFIED:20260420T171450Z
UID:10001780-1777111200-1777118400@villageofmillbrookny.com
SUMMARY:Trees for Tribs Planting Event
DESCRIPTION:🌿 Village of Millbrook Shade Tree Commission Presents 🌿 \n🌱 Native Trees & Shrubs Planting Event\nHudson Estuary Trees for Tribs Project \nJoin us in restoring the health of our local waterways and landscapes! \n📅 Saturday\, April 25\, 2026\n🕙 10:00 AM – 12:00 PM\n📍 East Branch Wappinger Creek\nDineen Rd (off Stanford Rd)\, Millbrook\, NY \n\n\n\n🌎 Why This Matters\nHelp support a vital environmental initiative within the Hudson River Estuary Grant boundary: \n\n💧 Reduce water pollution\n🌊 Minimize erosion & flooding damage\n🐟 Provide habitat for fish & wildlife\n\n\n\n\n🌿 What to Expect\n\nLearn about native trees and shrubs\nParticipate in hands-on planting\nConnect with community members and local conservation efforts\n\n\n\n\n🤝 Get Involved\nWhether you’re a seasoned volunteer or just curious\, all are welcome. Come learn\, plant\, and make a lasting impact! \nBring gloves\, wear sturdy shoes\, and dress for the weather. \n\n\n\n🌳 Together\, we can protect and restore our local streams—one tree at a time. 🌳
URL:https://villageofmillbrookny.com/event/trees-for-tribs-planting-event/
CATEGORIES:Climate Smart Communities,Shade Tree
ATTACH;FMTTYPE=image/png:https://cdn.townweb.com/villageofmillbrookny.com/wp-content/uploads/2026/04/trees-for-tribs-project.png
END:VEVENT
BEGIN:VEVENT
DTSTART;TZID=America/New_York:20260427T170000
DTEND;TZID=America/New_York:20260427T190000
DTSTAMP:20260420T131632
CREATED:20240308T182147Z
LAST-MODIFIED:20240308T182742Z
UID:10001377-1777309200-1777316400@villageofmillbrookny.com
SUMMARY:Building Department Hours
DESCRIPTION:
URL:https://villageofmillbrookny.com/event/building-department-hours-3/2026-04-27/
LOCATION:Millbrook Village Hall\, 35 Merritt Avenue\, Millbrook\, NY\, 12545\, United States
CATEGORIES:Building Department
END:VEVENT
BEGIN:VEVENT
DTSTART;TZID=America/New_York:20260427T180000
DTEND;TZID=America/New_York:20260427T190000
DTSTAMP:20260420T131632
CREATED:20260416T111157Z
LAST-MODIFIED:20260416T111738Z
UID:10001772-1777312800-1777316400@villageofmillbrookny.com
SUMMARY:Zoning Board of Appeals Public Hearing: 3424 Franklin Ave
DESCRIPTION:
URL:https://villageofmillbrookny.com/event/zoning-board-of-appeals-public-hearing-3424-franklin-ave/
CATEGORIES:Zoning Board
END:VEVENT
BEGIN:VEVENT
DTSTART;TZID=America/New_York:20260427T180000
DTEND;TZID=America/New_York:20260427T190000
DTSTAMP:20260420T131632
CREATED:20260416T110852Z
LAST-MODIFIED:20260416T111729Z
UID:10001771-1777312800-1777316400@villageofmillbrookny.com
SUMMARY:Zoning Board of Appeals 4/27/26 Public Hearing: 10 Old Orchard Ln
DESCRIPTION:
URL:https://villageofmillbrookny.com/event/zoning-board-of-appeals-4-27-26/
CATEGORIES:Zoning Board
END:VEVENT
BEGIN:VEVENT
DTSTART;TZID=America/New_York:20260427T180000
DTEND;TZID=America/New_York:20260427T190000
DTSTAMP:20260420T131632
CREATED:20260416T111305Z
LAST-MODIFIED:20260416T111747Z
UID:10001773-1777312800-1777316400@villageofmillbrookny.com
SUMMARY:Zoning Board of Appeals Public Hearing: 24 Valley Farm Rd
DESCRIPTION:
URL:https://villageofmillbrookny.com/event/zoning-board-of-appeals-public-hearing-24-valley-farm-rd/
CATEGORIES:Zoning Board
END:VEVENT
END:VCALENDAR