BEGIN:VCALENDAR
VERSION:2.0
PRODID:-//Village of Millbrook - ECPv6.15.17.1//NONSGML v1.0//EN
CALSCALE:GREGORIAN
METHOD:PUBLISH
X-WR-CALNAME:Village of Millbrook
X-ORIGINAL-URL:https://villageofmillbrookny.com
X-WR-CALDESC:Events for Village of Millbrook
REFRESH-INTERVAL;VALUE=DURATION:PT1H
X-Robots-Tag:noindex
X-PUBLISHED-TTL:PT1H
BEGIN:VTIMEZONE
TZID:America/New_York
BEGIN:DAYLIGHT
TZOFFSETFROM:-0500
TZOFFSETTO:-0400
TZNAME:EDT
DTSTART:20240310T070000
END:DAYLIGHT
BEGIN:STANDARD
TZOFFSETFROM:-0400
TZOFFSETTO:-0500
TZNAME:EST
DTSTART:20241103T060000
END:STANDARD
BEGIN:DAYLIGHT
TZOFFSETFROM:-0500
TZOFFSETTO:-0400
TZNAME:EDT
DTSTART:20250309T070000
END:DAYLIGHT
BEGIN:STANDARD
TZOFFSETFROM:-0400
TZOFFSETTO:-0500
TZNAME:EST
DTSTART:20251102T060000
END:STANDARD
BEGIN:DAYLIGHT
TZOFFSETFROM:-0500
TZOFFSETTO:-0400
TZNAME:EDT
DTSTART:20260308T070000
END:DAYLIGHT
BEGIN:STANDARD
TZOFFSETFROM:-0400
TZOFFSETTO:-0500
TZNAME:EST
DTSTART:20261101T060000
END:STANDARD
END:VTIMEZONE
BEGIN:VEVENT
DTSTART;TZID=America/New_York:20250519T173000
DTEND;TZID=America/New_York:20250519T183000
DTSTAMP:20260422T042313
CREATED:20250502T182224Z
LAST-MODIFIED:20250502T182706Z
UID:12884-1747675800-1747679400@villageofmillbrookny.com
SUMMARY:Zoning Board of Appeals 5/19/25
DESCRIPTION:Village of Millbrook Zoning Board of Appeals AgendaMay 19th\, 2025\, 5:30 PM \nZBA Chair: Mark Vila Members: Timothy Capowski\, Earl Meyers\, Michael Flanigan\, Keith Del Valle \nBennett Commons: Area Variance\, 50 Bennett Common Way-Pool House and Inground pool \nNext Meeting: TBD at 5:30PM \nSubmissions Deadline: Completed applications are due by the close of business 2 weeks prior to the meeting in order to be placed on the agenda. Late or incomplete submissions will NOT be placed on the next meeting agenda.
URL:https://villageofmillbrookny.com/event/zoning-board-of-appeals-5-19-25/
CATEGORIES:Zoning Board
END:VEVENT
END:VCALENDAR