BEGIN:VCALENDAR
VERSION:2.0
PRODID:-//Village of Millbrook - ECPv6.15.17.1//NONSGML v1.0//EN
CALSCALE:GREGORIAN
METHOD:PUBLISH
X-WR-CALNAME:Village of Millbrook
X-ORIGINAL-URL:https://villageofmillbrookny.com
X-WR-CALDESC:Events for Village of Millbrook
REFRESH-INTERVAL;VALUE=DURATION:PT1H
X-Robots-Tag:noindex
X-PUBLISHED-TTL:PT1H
BEGIN:VTIMEZONE
TZID:America/New_York
BEGIN:DAYLIGHT
TZOFFSETFROM:-0500
TZOFFSETTO:-0400
TZNAME:EDT
DTSTART:20260308T070000
END:DAYLIGHT
BEGIN:STANDARD
TZOFFSETFROM:-0400
TZOFFSETTO:-0500
TZNAME:EST
DTSTART:20261101T060000
END:STANDARD
BEGIN:DAYLIGHT
TZOFFSETFROM:-0500
TZOFFSETTO:-0400
TZNAME:EDT
DTSTART:20270314T070000
END:DAYLIGHT
BEGIN:STANDARD
TZOFFSETFROM:-0400
TZOFFSETTO:-0500
TZNAME:EST
DTSTART:20271107T060000
END:STANDARD
BEGIN:DAYLIGHT
TZOFFSETFROM:-0500
TZOFFSETTO:-0400
TZNAME:EDT
DTSTART:20280312T070000
END:DAYLIGHT
BEGIN:STANDARD
TZOFFSETFROM:-0400
TZOFFSETTO:-0500
TZNAME:EST
DTSTART:20281105T060000
END:STANDARD
END:VTIMEZONE
BEGIN:VEVENT
DTSTART;TZID=America/New_York:20270802T170000
DTEND;TZID=America/New_York:20270802T190000
DTSTAMP:20260421T200107
CREATED:20240308T182147Z
LAST-MODIFIED:20240308T182742Z
UID:10001443-1817226000-1817233200@villageofmillbrookny.com
SUMMARY:Building Department Hours
DESCRIPTION:
URL:https://villageofmillbrookny.com/event/building-department-hours-3/2027-08-02/
LOCATION:Millbrook Village Hall\, 35 Merritt Avenue\, Millbrook\, NY\, 12545\, United States
CATEGORIES:Building Department
END:VEVENT
BEGIN:VEVENT
DTSTART;TZID=America/New_York:20270809T170000
DTEND;TZID=America/New_York:20270809T190000
DTSTAMP:20260421T200107
CREATED:20240308T182147Z
LAST-MODIFIED:20240308T182742Z
UID:10001444-1817830800-1817838000@villageofmillbrookny.com
SUMMARY:Building Department Hours
DESCRIPTION:
URL:https://villageofmillbrookny.com/event/building-department-hours-3/2027-08-09/
LOCATION:Millbrook Village Hall\, 35 Merritt Avenue\, Millbrook\, NY\, 12545\, United States
CATEGORIES:Building Department
END:VEVENT
BEGIN:VEVENT
DTSTART;TZID=America/New_York:20270816T170000
DTEND;TZID=America/New_York:20270816T190000
DTSTAMP:20260421T200107
CREATED:20240308T182147Z
LAST-MODIFIED:20240308T182742Z
UID:10001445-1818435600-1818442800@villageofmillbrookny.com
SUMMARY:Building Department Hours
DESCRIPTION:
URL:https://villageofmillbrookny.com/event/building-department-hours-3/2027-08-16/
LOCATION:Millbrook Village Hall\, 35 Merritt Avenue\, Millbrook\, NY\, 12545\, United States
CATEGORIES:Building Department
END:VEVENT
BEGIN:VEVENT
DTSTART;TZID=America/New_York:20270823T170000
DTEND;TZID=America/New_York:20270823T190000
DTSTAMP:20260421T200107
CREATED:20240308T182147Z
LAST-MODIFIED:20240308T182742Z
UID:10001446-1819040400-1819047600@villageofmillbrookny.com
SUMMARY:Building Department Hours
DESCRIPTION:
URL:https://villageofmillbrookny.com/event/building-department-hours-3/2027-08-23/
LOCATION:Millbrook Village Hall\, 35 Merritt Avenue\, Millbrook\, NY\, 12545\, United States
CATEGORIES:Building Department
END:VEVENT
BEGIN:VEVENT
DTSTART;TZID=America/New_York:20270830T170000
DTEND;TZID=America/New_York:20270830T190000
DTSTAMP:20260421T200107
CREATED:20240308T182147Z
LAST-MODIFIED:20240308T182742Z
UID:10001447-1819645200-1819652400@villageofmillbrookny.com
SUMMARY:Building Department Hours
DESCRIPTION:
URL:https://villageofmillbrookny.com/event/building-department-hours-3/2027-08-30/
LOCATION:Millbrook Village Hall\, 35 Merritt Avenue\, Millbrook\, NY\, 12545\, United States
CATEGORIES:Building Department
END:VEVENT
END:VCALENDAR