BEGIN:VCALENDAR
VERSION:2.0
PRODID:-//Village of Millbrook - ECPv6.15.17.1//NONSGML v1.0//EN
CALSCALE:GREGORIAN
METHOD:PUBLISH
X-WR-CALNAME:Village of Millbrook
X-ORIGINAL-URL:https://villageofmillbrookny.com
X-WR-CALDESC:Events for Village of Millbrook
REFRESH-INTERVAL;VALUE=DURATION:PT1H
X-Robots-Tag:noindex
X-PUBLISHED-TTL:PT1H
BEGIN:VTIMEZONE
TZID:America/New_York
BEGIN:DAYLIGHT
TZOFFSETFROM:-0500
TZOFFSETTO:-0400
TZNAME:EDT
DTSTART:20270314T070000
END:DAYLIGHT
BEGIN:STANDARD
TZOFFSETFROM:-0400
TZOFFSETTO:-0500
TZNAME:EST
DTSTART:20271107T060000
END:STANDARD
BEGIN:DAYLIGHT
TZOFFSETFROM:-0500
TZOFFSETTO:-0400
TZNAME:EDT
DTSTART:20280312T070000
END:DAYLIGHT
BEGIN:STANDARD
TZOFFSETFROM:-0400
TZOFFSETTO:-0500
TZNAME:EST
DTSTART:20281105T060000
END:STANDARD
BEGIN:DAYLIGHT
TZOFFSETFROM:-0500
TZOFFSETTO:-0400
TZNAME:EDT
DTSTART:20290311T070000
END:DAYLIGHT
BEGIN:STANDARD
TZOFFSETFROM:-0400
TZOFFSETTO:-0500
TZNAME:EST
DTSTART:20291104T060000
END:STANDARD
END:VTIMEZONE
BEGIN:VEVENT
DTSTART;TZID=America/New_York:20281002T170000
DTEND;TZID=America/New_York:20281002T190000
DTSTAMP:20260422T130140
CREATED:20240308T182147Z
LAST-MODIFIED:20240308T182742Z
UID:10001504-1854118800-1854126000@villageofmillbrookny.com
SUMMARY:Building Department Hours
DESCRIPTION:
URL:https://villageofmillbrookny.com/event/building-department-hours-3/2028-10-02/
LOCATION:Millbrook Village Hall\, 35 Merritt Avenue\, Millbrook\, NY\, 12545\, United States
CATEGORIES:Building Department
END:VEVENT
BEGIN:VEVENT
DTSTART;TZID=America/New_York:20281009T170000
DTEND;TZID=America/New_York:20281009T190000
DTSTAMP:20260422T130140
CREATED:20240308T182147Z
LAST-MODIFIED:20240308T182742Z
UID:10001505-1854723600-1854730800@villageofmillbrookny.com
SUMMARY:Building Department Hours
DESCRIPTION:
URL:https://villageofmillbrookny.com/event/building-department-hours-3/2028-10-09/
LOCATION:Millbrook Village Hall\, 35 Merritt Avenue\, Millbrook\, NY\, 12545\, United States
CATEGORIES:Building Department
END:VEVENT
BEGIN:VEVENT
DTSTART;TZID=America/New_York:20281016T170000
DTEND;TZID=America/New_York:20281016T190000
DTSTAMP:20260422T130140
CREATED:20240308T182147Z
LAST-MODIFIED:20240308T182742Z
UID:10001506-1855328400-1855335600@villageofmillbrookny.com
SUMMARY:Building Department Hours
DESCRIPTION:
URL:https://villageofmillbrookny.com/event/building-department-hours-3/2028-10-16/
LOCATION:Millbrook Village Hall\, 35 Merritt Avenue\, Millbrook\, NY\, 12545\, United States
CATEGORIES:Building Department
END:VEVENT
BEGIN:VEVENT
DTSTART;TZID=America/New_York:20281023T170000
DTEND;TZID=America/New_York:20281023T190000
DTSTAMP:20260422T130140
CREATED:20240308T182147Z
LAST-MODIFIED:20240308T182742Z
UID:10001507-1855933200-1855940400@villageofmillbrookny.com
SUMMARY:Building Department Hours
DESCRIPTION:
URL:https://villageofmillbrookny.com/event/building-department-hours-3/2028-10-23/
LOCATION:Millbrook Village Hall\, 35 Merritt Avenue\, Millbrook\, NY\, 12545\, United States
CATEGORIES:Building Department
END:VEVENT
BEGIN:VEVENT
DTSTART;TZID=America/New_York:20281030T170000
DTEND;TZID=America/New_York:20281030T190000
DTSTAMP:20260422T130140
CREATED:20240308T182147Z
LAST-MODIFIED:20240308T182742Z
UID:10001508-1856538000-1856545200@villageofmillbrookny.com
SUMMARY:Building Department Hours
DESCRIPTION:
URL:https://villageofmillbrookny.com/event/building-department-hours-3/2028-10-30/
LOCATION:Millbrook Village Hall\, 35 Merritt Avenue\, Millbrook\, NY\, 12545\, United States
CATEGORIES:Building Department
END:VEVENT
END:VCALENDAR