BEGIN:VCALENDAR
VERSION:2.0
PRODID:-//Village of Millbrook - ECPv6.15.17.1//NONSGML v1.0//EN
CALSCALE:GREGORIAN
METHOD:PUBLISH
X-WR-CALNAME:Village of Millbrook
X-ORIGINAL-URL:https://villageofmillbrookny.com
X-WR-CALDESC:Events for Village of Millbrook
REFRESH-INTERVAL;VALUE=DURATION:PT1H
X-Robots-Tag:noindex
X-PUBLISHED-TTL:PT1H
BEGIN:VTIMEZONE
TZID:America/New_York
BEGIN:DAYLIGHT
TZOFFSETFROM:-0500
TZOFFSETTO:-0400
TZNAME:EDT
DTSTART:20220313T070000
END:DAYLIGHT
BEGIN:STANDARD
TZOFFSETFROM:-0400
TZOFFSETTO:-0500
TZNAME:EST
DTSTART:20221106T060000
END:STANDARD
BEGIN:DAYLIGHT
TZOFFSETFROM:-0500
TZOFFSETTO:-0400
TZNAME:EDT
DTSTART:20230312T070000
END:DAYLIGHT
BEGIN:STANDARD
TZOFFSETFROM:-0400
TZOFFSETTO:-0500
TZNAME:EST
DTSTART:20231105T060000
END:STANDARD
BEGIN:DAYLIGHT
TZOFFSETFROM:-0500
TZOFFSETTO:-0400
TZNAME:EDT
DTSTART:20240310T070000
END:DAYLIGHT
BEGIN:STANDARD
TZOFFSETFROM:-0400
TZOFFSETTO:-0500
TZNAME:EST
DTSTART:20241103T060000
END:STANDARD
END:VTIMEZONE
BEGIN:VTIMEZONE
TZID:UTC
BEGIN:STANDARD
TZOFFSETFROM:+0000
TZOFFSETTO:+0000
TZNAME:UTC
DTSTART:20210101T000000
END:STANDARD
END:VTIMEZONE
BEGIN:VEVENT
DTSTART;TZID=America/New_York:20230904T170000
DTEND;TZID=America/New_York:20230904T190000
DTSTAMP:20260421T133718
CREATED:20230912T175745Z
LAST-MODIFIED:20230912T175745Z
UID:10001091-1693846800-1693854000@villageofmillbrookny.com
SUMMARY:Building Department Hours
DESCRIPTION:
URL:https://villageofmillbrookny.com/event/building-department-hours/2023-09-04/
LOCATION:NY
CATEGORIES:Building Department
END:VEVENT
BEGIN:VEVENT
DTSTART;VALUE=DATE:20221129
DTEND;VALUE=DATE:20221130
DTSTAMP:20260421T133718
CREATED:20220603T214548Z
LAST-MODIFIED:20221004T120434Z
UID:10000078-1669680000-1669766399@villageofmillbrookny.com
SUMMARY:Planning Board Submission Deadline
DESCRIPTION:Completed applications are due by the close of business on the 3 weeks prior to the meeting to be placed on the Planning Board agenda.
URL:https://villageofmillbrookny.com/event/planning-board-submission-deadline-2022-11-29/2022-11-29/
LOCATION:NY
CATEGORIES:Building Department
END:VEVENT
BEGIN:VEVENT
DTSTART;VALUE=DATE:20221129
DTEND;VALUE=DATE:20221130
DTSTAMP:20260421T133718
CREATED:20220603T214548Z
LAST-MODIFIED:20220603T215023Z
UID:10000074-1669680000-1669766399@villageofmillbrookny.com
SUMMARY:Planning Board Submission Deadline
DESCRIPTION:Completed applications are due by the close of business on the 3 weeks prior to the meeting to be placed on the Planning Board agenda.
URL:https://villageofmillbrookny.com/event/planning-board-submission-deadline/2022-11-29/
LOCATION:NY
CATEGORIES:Building Department
END:VEVENT
BEGIN:VEVENT
DTSTART;VALUE=DATE:20221025
DTEND;VALUE=DATE:20221026
DTSTAMP:20260421T133718
CREATED:20220603T214548Z
LAST-MODIFIED:20220603T215023Z
UID:10000073-1666656000-1666742399@villageofmillbrookny.com
SUMMARY:Planning Board Submission Deadline
DESCRIPTION:Completed applications are due by the close of business on the 3 weeks prior to the meeting to be placed on the Planning Board agenda.
URL:https://villageofmillbrookny.com/event/planning-board-submission-deadline/2022-10-25/
LOCATION:NY
CATEGORIES:Building Department
END:VEVENT
BEGIN:VEVENT
DTSTART;VALUE=DATE:20220927
DTEND;VALUE=DATE:20220928
DTSTAMP:20260421T133718
CREATED:20220603T214548Z
LAST-MODIFIED:20220603T215023Z
UID:10000072-1664236800-1664323199@villageofmillbrookny.com
SUMMARY:Planning Board Submission Deadline
DESCRIPTION:Completed applications are due by the close of business on the 3 weeks prior to the meeting to be placed on the Planning Board agenda.
URL:https://villageofmillbrookny.com/event/planning-board-submission-deadline/2022-09-27/
LOCATION:NY
CATEGORIES:Building Department
END:VEVENT
BEGIN:VEVENT
DTSTART;VALUE=DATE:20220830
DTEND;VALUE=DATE:20220831
DTSTAMP:20260421T133718
CREATED:20220603T214548Z
LAST-MODIFIED:20221004T120434Z
UID:10000077-1661817600-1661903999@villageofmillbrookny.com
SUMMARY:Planning Board Submission Deadline
DESCRIPTION:Completed applications are due by the close of business on the 3 weeks prior to the meeting to be placed on the Planning Board agenda.
URL:https://villageofmillbrookny.com/event/planning-board-submission-deadline-2022-11-29/2022-08-30/
LOCATION:NY
CATEGORIES:Building Department
END:VEVENT
BEGIN:VEVENT
DTSTART;VALUE=DATE:20220830
DTEND;VALUE=DATE:20220831
DTSTAMP:20260421T133718
CREATED:20220603T214548Z
LAST-MODIFIED:20220603T215023Z
UID:10000071-1661817600-1661903999@villageofmillbrookny.com
SUMMARY:Planning Board Submission Deadline
DESCRIPTION:Completed applications are due by the close of business on the 3 weeks prior to the meeting to be placed on the Planning Board agenda.
URL:https://villageofmillbrookny.com/event/planning-board-submission-deadline/2022-08-30/
LOCATION:NY
CATEGORIES:Building Department
END:VEVENT
BEGIN:VEVENT
DTSTART;VALUE=DATE:20220726
DTEND;VALUE=DATE:20220727
DTSTAMP:20260421T133718
CREATED:20220603T214548Z
LAST-MODIFIED:20220603T215023Z
UID:10000070-1658793600-1658879999@villageofmillbrookny.com
SUMMARY:Planning Board Submission Deadline
DESCRIPTION:Completed applications are due by the close of business on the 3 weeks prior to the meeting to be placed on the Planning Board agenda.
URL:https://villageofmillbrookny.com/event/planning-board-submission-deadline/2022-07-26/
LOCATION:NY
CATEGORIES:Building Department
END:VEVENT
BEGIN:VEVENT
DTSTART;TZID=UTC:20220719T190000
DTEND;TZID=UTC:20220719T200000
DTSTAMP:20260421T133718
CREATED:20220603T214433Z
LAST-MODIFIED:20220707T212414Z
UID:10000122-1658257200-1658260800@villageofmillbrookny.com
SUMMARY:CANCELLED: Planning Board Meeting
DESCRIPTION:Please check villageofmillbrookny.com for meeting cancellations. \nMeeting agendas can be found here \nSubmission Deadline:\nComplete applications are due by the close of business on the 3 weeks prior to the meeting to be placed on the Planning Board agenda.
URL:https://villageofmillbrookny.com/event/planning-board-meeting-2022-07-19/
LOCATION:NY
CATEGORIES:Building Department
END:VEVENT
BEGIN:VEVENT
DTSTART;VALUE=DATE:20220628
DTEND;VALUE=DATE:20220629
DTSTAMP:20260421T133718
CREATED:20220603T214548Z
LAST-MODIFIED:20220603T215023Z
UID:10000069-1656374400-1656460799@villageofmillbrookny.com
SUMMARY:Planning Board Submission Deadline
DESCRIPTION:Completed applications are due by the close of business on the 3 weeks prior to the meeting to be placed on the Planning Board agenda.
URL:https://villageofmillbrookny.com/event/planning-board-submission-deadline/2022-06-28/
LOCATION:NY
CATEGORIES:Building Department
END:VEVENT
BEGIN:VEVENT
DTSTART;TZID=UTC:20220621T190000
DTEND;TZID=UTC:20220621T200000
DTSTAMP:20260421T133718
CREATED:20220603T214433Z
LAST-MODIFIED:20220707T212236Z
UID:10000121-1655838000-1655841600@villageofmillbrookny.com
SUMMARY:CANCELLED: Planning Board Meeting
DESCRIPTION:Please check villageofmillbrookny.com for meeting cancellations. \nMeeting agendas can be found here \nSubmission Deadline:\nComplete applications are due by the close of business on the 3 weeks prior to the meeting to be placed on the Planning Board agenda.
URL:https://villageofmillbrookny.com/event/planning-board-meeting-2022-06-21/
LOCATION:NY
CATEGORIES:Building Department
END:VEVENT
BEGIN:VEVENT
DTSTART;TZID=UTC:20220614T190000
DTEND;TZID=UTC:20220614T200000
DTSTAMP:20260421T133718
CREATED:20220707T212100Z
LAST-MODIFIED:20220707T212100Z
UID:10000006-1655233200-1655236800@villageofmillbrookny.com
SUMMARY:Planning Board Meeting
DESCRIPTION:2022-06-14 PB Agenda
URL:https://villageofmillbrookny.com/event/planning-board-meeting-2/
LOCATION:NY
CATEGORIES:Building Department
END:VEVENT
BEGIN:VEVENT
DTSTART;VALUE=DATE:20220531
DTEND;VALUE=DATE:20220601
DTSTAMP:20260421T133718
CREATED:20220603T214548Z
LAST-MODIFIED:20221004T120434Z
UID:10000076-1653955200-1654041599@villageofmillbrookny.com
SUMMARY:Planning Board Submission Deadline
DESCRIPTION:Completed applications are due by the close of business on the 3 weeks prior to the meeting to be placed on the Planning Board agenda.
URL:https://villageofmillbrookny.com/event/planning-board-submission-deadline-2022-11-29/2022-05-31/
LOCATION:NY
CATEGORIES:Building Department
END:VEVENT
BEGIN:VEVENT
DTSTART;VALUE=DATE:20220531
DTEND;VALUE=DATE:20220601
DTSTAMP:20260421T133718
CREATED:20220603T214548Z
LAST-MODIFIED:20220603T215023Z
UID:10000068-1653955200-1654041599@villageofmillbrookny.com
SUMMARY:Planning Board Submission Deadline
DESCRIPTION:Completed applications are due by the close of business on the 3 weeks prior to the meeting to be placed on the Planning Board agenda.
URL:https://villageofmillbrookny.com/event/planning-board-submission-deadline/2022-05-31/
LOCATION:NY
CATEGORIES:Building Department
END:VEVENT
BEGIN:VEVENT
DTSTART;VALUE=DATE:20220426
DTEND;VALUE=DATE:20220427
DTSTAMP:20260421T133718
CREATED:20220603T214548Z
LAST-MODIFIED:20220603T215023Z
UID:10000067-1650931200-1651017599@villageofmillbrookny.com
SUMMARY:Planning Board Submission Deadline
DESCRIPTION:Completed applications are due by the close of business on the 3 weeks prior to the meeting to be placed on the Planning Board agenda.
URL:https://villageofmillbrookny.com/event/planning-board-submission-deadline/2022-04-26/
LOCATION:NY
CATEGORIES:Building Department
END:VEVENT
BEGIN:VEVENT
DTSTART;TZID=UTC:20220419T190000
DTEND;TZID=UTC:20220419T200000
DTSTAMP:20260421T133718
CREATED:20220603T214433Z
LAST-MODIFIED:20220603T221816Z
UID:10000120-1650394800-1650398400@villageofmillbrookny.com
SUMMARY:CANCELLED: Planning Board Meeting
DESCRIPTION:Please check villageofmillbrookny.com for meeting cancellations. \nMeeting agendas can be found here \nSubmission Deadline:\nComplete applications are due by the close of business on the 3 weeks prior to the meeting to be placed on the Planning Board agenda.
URL:https://villageofmillbrookny.com/event/planning-board-meeting-2022-04-19/
LOCATION:NY
CATEGORIES:Building Department
END:VEVENT
BEGIN:VEVENT
DTSTART;TZID=UTC:20220413T180000
DTEND;TZID=UTC:20220413T200000
DTSTAMP:20260421T133718
CREATED:20220603T221727Z
LAST-MODIFIED:20220603T223059Z
UID:10000009-1649872800-1649880000@villageofmillbrookny.com
SUMMARY:Budget Meeting - Public Hearing
DESCRIPTION:*** MEETINGS ARE NOW IN-PERSON AT THE MILLBROOK FIREHOUSE *** \nBusiness Meetings are scheduled to be held on the 2nd Wednesday of the month beginning at 6:00 PM \nSecond meetings will be determined as needed at the business meetings.\nIf needed\, they will be held on the 4th Wednesday of the month @ 6:00 PM.\nAnnouncements will go out prior to meeting. \nPlease check villageofmillbrookny.com for meeting cancellations. \nMeeting agendas can be found here
URL:https://villageofmillbrookny.com/event/budget-meeting-public-hearing/
LOCATION:Millbrook Village Firehouse\, 20 Front St\, Millbrook\, NY\, 12545\, United States
CATEGORIES:Building Department
END:VEVENT
BEGIN:VEVENT
DTSTART;TZID=UTC:20220330T180000
DTEND;TZID=UTC:20220330T200000
DTSTAMP:20260421T133718
CREATED:20220603T221514Z
LAST-MODIFIED:20220603T223012Z
UID:10000019-1648663200-1648670400@villageofmillbrookny.com
SUMMARY:CANCELLED: Budget Meeting - Total Budget
DESCRIPTION:*** MEETINGS ARE NOW IN-PERSON AT THE MILLBROOK FIREHOUSE *** \nBusiness Meetings are scheduled to be held on the 2nd Wednesday of the month beginning at 6:00 PM \nSecond meetings will be determined as needed at the business meetings.\nIf needed\, they will be held on the 4th Wednesday of the month @ 6:00 PM.\nAnnouncements will go out prior to meeting. \nPlease check villageofmillbrookny.com for meeting cancellations. \nMeeting agendas can be found here
URL:https://villageofmillbrookny.com/event/cancelled-budget-meeting-total-budget/
LOCATION:Millbrook Village Firehouse\, 20 Front St\, Millbrook\, NY\, 12545\, United States
CATEGORIES:Building Department
END:VEVENT
BEGIN:VEVENT
DTSTART;VALUE=DATE:20220329
DTEND;VALUE=DATE:20220330
DTSTAMP:20260421T133718
CREATED:20220603T214548Z
LAST-MODIFIED:20221004T120434Z
UID:10000075-1648512000-1648598399@villageofmillbrookny.com
SUMMARY:Planning Board Submission Deadline
DESCRIPTION:Completed applications are due by the close of business on the 3 weeks prior to the meeting to be placed on the Planning Board agenda.
URL:https://villageofmillbrookny.com/event/planning-board-submission-deadline-2022-11-29/2022-03-29/
LOCATION:NY
CATEGORIES:Building Department
END:VEVENT
BEGIN:VEVENT
DTSTART;VALUE=DATE:20220329
DTEND;VALUE=DATE:20220330
DTSTAMP:20260421T133718
CREATED:20220603T214548Z
LAST-MODIFIED:20220603T215023Z
UID:10000066-1648512000-1648598399@villageofmillbrookny.com
SUMMARY:Planning Board Submission Deadline
DESCRIPTION:Completed applications are due by the close of business on the 3 weeks prior to the meeting to be placed on the Planning Board agenda.
URL:https://villageofmillbrookny.com/event/planning-board-submission-deadline/2022-03-29/
LOCATION:NY
CATEGORIES:Building Department
END:VEVENT
BEGIN:VEVENT
DTSTART;TZID=UTC:20220323T180000
DTEND;TZID=UTC:20220323T200000
DTSTAMP:20260421T133718
CREATED:20220603T221228Z
LAST-MODIFIED:20220603T222949Z
UID:10000018-1648058400-1648065600@villageofmillbrookny.com
SUMMARY:Budget Meeting - Follow up as needed
DESCRIPTION:*** MEETINGS ARE NOW IN-PERSON AT THE MILLBROOK FIREHOUSE *** \nBusiness Meetings are scheduled to be held on the 2nd Wednesday of the month beginning at 6:00 PM \nSecond meetings will be determined as needed at the business meetings.\nIf needed\, they will be held on the 4th Wednesday of the month @ 6:00 PM.\nAnnouncements will go out prior to meeting. \nPlease check villageofmillbrookny.com for meeting cancellations. \nMeeting agendas can be found here
URL:https://villageofmillbrookny.com/event/budget-meeting-follow-up-as-needed/
LOCATION:Millbrook Village Firehouse\, 20 Front St\, Millbrook\, NY\, 12545\, United States
CATEGORIES:Building Department
END:VEVENT
BEGIN:VEVENT
DTSTART;TZID=UTC:20220316T180000
DTEND;TZID=UTC:20220316T200000
DTSTAMP:20260421T133718
CREATED:20220603T220928Z
LAST-MODIFIED:20220603T222939Z
UID:10000017-1647453600-1647460800@villageofmillbrookny.com
SUMMARY:Budget Meeting - Police & Front Office
DESCRIPTION:*** MEETINGS ARE NOW IN-PERSON AT THE MILLBROOK FIREHOUSE *** \nBusiness Meetings are scheduled to be held on the 2nd Wednesday of the month beginning at 6:00 PM \nSecond meetings will be determined as needed at the business meetings.\nIf needed\, they will be held on the 4th Wednesday of the month @ 6:00 PM.\nAnnouncements will go out prior to meeting. \nPlease check villageofmillbrookny.com for meeting cancellations. \nMeeting agendas can be found here
URL:https://villageofmillbrookny.com/event/budget-meeting-police-front-office/
LOCATION:Millbrook Village Firehouse\, 20 Front St\, Millbrook\, NY\, 12545\, United States
CATEGORIES:Building Department
END:VEVENT
BEGIN:VEVENT
DTSTART;TZID=UTC:20220315T190000
DTEND;TZID=UTC:20220315T200000
DTSTAMP:20260421T133718
CREATED:20220603T214433Z
LAST-MODIFIED:20220603T220634Z
UID:10000119-1647370800-1647374400@villageofmillbrookny.com
SUMMARY:CANCELLED: Planning Board Meeting
DESCRIPTION:Please check villageofmillbrookny.com for meeting cancellations. \nMeeting agendas can be found here \nSubmission Deadline:\nComplete applications are due by the close of business on the 3 weeks prior to the meeting to be placed on the Planning Board agenda.
URL:https://villageofmillbrookny.com/event/planning-board-meeting-2022-03-15/
LOCATION:NY
CATEGORIES:Building Department
END:VEVENT
BEGIN:VEVENT
DTSTART;TZID=UTC:20220302T180000
DTEND;TZID=UTC:20220302T200000
DTSTAMP:20260421T133718
CREATED:20220603T220132Z
LAST-MODIFIED:20220603T222844Z
UID:10000016-1646244000-1646251200@villageofmillbrookny.com
SUMMARY:Budget Meeting - Highway & Fire Dept
DESCRIPTION:*** MEETINGS ARE NOW IN-PERSON AT THE MILLBROOK FIREHOUSE *** \nBusiness Meetings are scheduled to be held on the 2nd Wednesday of the month beginning at 6:00 PM \nSecond meetings will be determined as needed at the business meetings.\nIf needed\, they will be held on the 4th Wednesday of the month @ 6:00 PM.\nAnnouncements will go out prior to meeting. \nPlease check villageofmillbrookny.com for meeting cancellations. \nMeeting agendas can be found here
URL:https://villageofmillbrookny.com/event/budget-meeting-highway-fire-dept/
LOCATION:Millbrook Village Firehouse\, 20 Front St\, Millbrook\, NY\, 12545\, United States
CATEGORIES:Building Department
END:VEVENT
BEGIN:VEVENT
DTSTART;TZID=UTC:20220223T180000
DTEND;TZID=UTC:20220223T200000
DTSTAMP:20260421T133718
CREATED:20220603T215838Z
LAST-MODIFIED:20220603T220250Z
UID:10000079-1645639200-1645646400@villageofmillbrookny.com
SUMMARY:Budget Meeting - Water/Sewer
DESCRIPTION:*** MEETINGS ARE NOW IN-PERSON AT THE MILLBROOK FIREHOUSE *** \nBusiness Meetings are scheduled to be held on the 2nd Wednesday of the month beginning at 6:00 PM \nSecond meetings will be determined as needed at the business meetings.\nIf needed\, they will be held on the 4th Wednesday of the month @ 6:00 PM.\nAnnouncements will go out prior to meeting. \nPlease check villageofmillbrookny.com for meeting cancellations. \nMeeting agendas can be found here
URL:https://villageofmillbrookny.com/event/budget-meeting-water-sewer/
LOCATION:Millbrook Village Firehouse\, 20 Front St\, Millbrook\, NY\, 12545\, United States
CATEGORIES:Building Department
END:VEVENT
BEGIN:VEVENT
DTSTART;VALUE=DATE:20220222
DTEND;VALUE=DATE:20220223
DTSTAMP:20260421T133718
CREATED:20220603T214548Z
LAST-MODIFIED:20220603T215023Z
UID:10000065-1645488000-1645574399@villageofmillbrookny.com
SUMMARY:Planning Board Submission Deadline
DESCRIPTION:Completed applications are due by the close of business on the 3 weeks prior to the meeting to be placed on the Planning Board agenda.
URL:https://villageofmillbrookny.com/event/planning-board-submission-deadline/2022-02-22/
LOCATION:NY
CATEGORIES:Building Department
END:VEVENT
BEGIN:VEVENT
DTSTART;VALUE=DATE:20220125
DTEND;VALUE=DATE:20220126
DTSTAMP:20260421T133718
CREATED:20220603T214548Z
LAST-MODIFIED:20220603T215023Z
UID:10000064-1643068800-1643155199@villageofmillbrookny.com
SUMMARY:Planning Board Submission Deadline
DESCRIPTION:Completed applications are due by the close of business on the 3 weeks prior to the meeting to be placed on the Planning Board agenda.
URL:https://villageofmillbrookny.com/event/planning-board-submission-deadline/2022-01-25/
LOCATION:NY
CATEGORIES:Building Department
END:VEVENT
BEGIN:VEVENT
DTSTART;VALUE=DATE:20220105
DTEND;VALUE=DATE:20220106
DTSTAMP:20260421T133718
CREATED:20220603T223209Z
LAST-MODIFIED:20220603T223209Z
UID:10000004-1641340800-1641427199@villageofmillbrookny.com
SUMMARY:Re-Org Meeting
DESCRIPTION:
URL:https://villageofmillbrookny.com/event/re-org-meeting/
LOCATION:NY
CATEGORIES:Building Department
END:VEVENT
END:VCALENDAR