BEGIN:VCALENDAR
VERSION:2.0
PRODID:-//Village of Millbrook - ECPv6.15.17.1//NONSGML v1.0//EN
CALSCALE:GREGORIAN
METHOD:PUBLISH
X-WR-CALNAME:Village of Millbrook
X-ORIGINAL-URL:https://villageofmillbrookny.com
X-WR-CALDESC:Events for Village of Millbrook
REFRESH-INTERVAL;VALUE=DURATION:PT1H
X-Robots-Tag:noindex
X-PUBLISHED-TTL:PT1H
BEGIN:VTIMEZONE
TZID:America/New_York
BEGIN:DAYLIGHT
TZOFFSETFROM:-0500
TZOFFSETTO:-0400
TZNAME:EDT
DTSTART:20270314T070000
END:DAYLIGHT
BEGIN:STANDARD
TZOFFSETFROM:-0400
TZOFFSETTO:-0500
TZNAME:EST
DTSTART:20271107T060000
END:STANDARD
BEGIN:DAYLIGHT
TZOFFSETFROM:-0500
TZOFFSETTO:-0400
TZNAME:EDT
DTSTART:20280312T070000
END:DAYLIGHT
BEGIN:STANDARD
TZOFFSETFROM:-0400
TZOFFSETTO:-0500
TZNAME:EST
DTSTART:20281105T060000
END:STANDARD
BEGIN:DAYLIGHT
TZOFFSETFROM:-0500
TZOFFSETTO:-0400
TZNAME:EDT
DTSTART:20290311T070000
END:DAYLIGHT
BEGIN:STANDARD
TZOFFSETFROM:-0400
TZOFFSETTO:-0500
TZNAME:EST
DTSTART:20291104T060000
END:STANDARD
BEGIN:DAYLIGHT
TZOFFSETFROM:-0500
TZOFFSETTO:-0400
TZNAME:EDT
DTSTART:20300310T070000
END:DAYLIGHT
BEGIN:STANDARD
TZOFFSETFROM:-0400
TZOFFSETTO:-0500
TZNAME:EST
DTSTART:20301103T060000
END:STANDARD
END:VTIMEZONE
BEGIN:VEVENT
DTSTART;TZID=America/New_York:20280821T170000
DTEND;TZID=America/New_York:20280821T190000
DTSTAMP:20260421T162628
CREATED:20240308T182147Z
LAST-MODIFIED:20240308T182742Z
UID:10001498-1850490000-1850497200@villageofmillbrookny.com
SUMMARY:Building Department Hours
DESCRIPTION:
URL:https://villageofmillbrookny.com/event/building-department-hours-3/2028-08-21/
LOCATION:Millbrook Village Hall\, 35 Merritt Avenue\, Millbrook\, NY\, 12545\, United States
CATEGORIES:Building Department
END:VEVENT
BEGIN:VEVENT
DTSTART;TZID=America/New_York:20280828T170000
DTEND;TZID=America/New_York:20280828T190000
DTSTAMP:20260421T162628
CREATED:20240308T182147Z
LAST-MODIFIED:20240308T182742Z
UID:10001499-1851094800-1851102000@villageofmillbrookny.com
SUMMARY:Building Department Hours
DESCRIPTION:
URL:https://villageofmillbrookny.com/event/building-department-hours-3/2028-08-28/
LOCATION:Millbrook Village Hall\, 35 Merritt Avenue\, Millbrook\, NY\, 12545\, United States
CATEGORIES:Building Department
END:VEVENT
BEGIN:VEVENT
DTSTART;TZID=America/New_York:20280904T170000
DTEND;TZID=America/New_York:20280904T190000
DTSTAMP:20260421T162628
CREATED:20240308T182147Z
LAST-MODIFIED:20240308T182742Z
UID:10001500-1851699600-1851706800@villageofmillbrookny.com
SUMMARY:Building Department Hours
DESCRIPTION:
URL:https://villageofmillbrookny.com/event/building-department-hours-3/2028-09-04/
LOCATION:Millbrook Village Hall\, 35 Merritt Avenue\, Millbrook\, NY\, 12545\, United States
CATEGORIES:Building Department
END:VEVENT
BEGIN:VEVENT
DTSTART;TZID=America/New_York:20280911T170000
DTEND;TZID=America/New_York:20280911T190000
DTSTAMP:20260421T162628
CREATED:20240308T182147Z
LAST-MODIFIED:20240308T182742Z
UID:10001501-1852304400-1852311600@villageofmillbrookny.com
SUMMARY:Building Department Hours
DESCRIPTION:
URL:https://villageofmillbrookny.com/event/building-department-hours-3/2028-09-11/
LOCATION:Millbrook Village Hall\, 35 Merritt Avenue\, Millbrook\, NY\, 12545\, United States
CATEGORIES:Building Department
END:VEVENT
BEGIN:VEVENT
DTSTART;TZID=America/New_York:20280918T170000
DTEND;TZID=America/New_York:20280918T190000
DTSTAMP:20260421T162628
CREATED:20240308T182147Z
LAST-MODIFIED:20240308T182742Z
UID:10001502-1852909200-1852916400@villageofmillbrookny.com
SUMMARY:Building Department Hours
DESCRIPTION:
URL:https://villageofmillbrookny.com/event/building-department-hours-3/2028-09-18/
LOCATION:Millbrook Village Hall\, 35 Merritt Avenue\, Millbrook\, NY\, 12545\, United States
CATEGORIES:Building Department
END:VEVENT
BEGIN:VEVENT
DTSTART;TZID=America/New_York:20280925T170000
DTEND;TZID=America/New_York:20280925T190000
DTSTAMP:20260421T162628
CREATED:20240308T182147Z
LAST-MODIFIED:20240308T182742Z
UID:10001503-1853514000-1853521200@villageofmillbrookny.com
SUMMARY:Building Department Hours
DESCRIPTION:
URL:https://villageofmillbrookny.com/event/building-department-hours-3/2028-09-25/
LOCATION:Millbrook Village Hall\, 35 Merritt Avenue\, Millbrook\, NY\, 12545\, United States
CATEGORIES:Building Department
END:VEVENT
BEGIN:VEVENT
DTSTART;TZID=America/New_York:20281002T170000
DTEND;TZID=America/New_York:20281002T190000
DTSTAMP:20260421T162628
CREATED:20240308T182147Z
LAST-MODIFIED:20240308T182742Z
UID:10001504-1854118800-1854126000@villageofmillbrookny.com
SUMMARY:Building Department Hours
DESCRIPTION:
URL:https://villageofmillbrookny.com/event/building-department-hours-3/2028-10-02/
LOCATION:Millbrook Village Hall\, 35 Merritt Avenue\, Millbrook\, NY\, 12545\, United States
CATEGORIES:Building Department
END:VEVENT
BEGIN:VEVENT
DTSTART;TZID=America/New_York:20281009T170000
DTEND;TZID=America/New_York:20281009T190000
DTSTAMP:20260421T162628
CREATED:20240308T182147Z
LAST-MODIFIED:20240308T182742Z
UID:10001505-1854723600-1854730800@villageofmillbrookny.com
SUMMARY:Building Department Hours
DESCRIPTION:
URL:https://villageofmillbrookny.com/event/building-department-hours-3/2028-10-09/
LOCATION:Millbrook Village Hall\, 35 Merritt Avenue\, Millbrook\, NY\, 12545\, United States
CATEGORIES:Building Department
END:VEVENT
BEGIN:VEVENT
DTSTART;TZID=America/New_York:20281016T170000
DTEND;TZID=America/New_York:20281016T190000
DTSTAMP:20260421T162628
CREATED:20240308T182147Z
LAST-MODIFIED:20240308T182742Z
UID:10001506-1855328400-1855335600@villageofmillbrookny.com
SUMMARY:Building Department Hours
DESCRIPTION:
URL:https://villageofmillbrookny.com/event/building-department-hours-3/2028-10-16/
LOCATION:Millbrook Village Hall\, 35 Merritt Avenue\, Millbrook\, NY\, 12545\, United States
CATEGORIES:Building Department
END:VEVENT
BEGIN:VEVENT
DTSTART;TZID=America/New_York:20281023T170000
DTEND;TZID=America/New_York:20281023T190000
DTSTAMP:20260421T162628
CREATED:20240308T182147Z
LAST-MODIFIED:20240308T182742Z
UID:10001507-1855933200-1855940400@villageofmillbrookny.com
SUMMARY:Building Department Hours
DESCRIPTION:
URL:https://villageofmillbrookny.com/event/building-department-hours-3/2028-10-23/
LOCATION:Millbrook Village Hall\, 35 Merritt Avenue\, Millbrook\, NY\, 12545\, United States
CATEGORIES:Building Department
END:VEVENT
BEGIN:VEVENT
DTSTART;TZID=America/New_York:20281030T170000
DTEND;TZID=America/New_York:20281030T190000
DTSTAMP:20260421T162628
CREATED:20240308T182147Z
LAST-MODIFIED:20240308T182742Z
UID:10001508-1856538000-1856545200@villageofmillbrookny.com
SUMMARY:Building Department Hours
DESCRIPTION:
URL:https://villageofmillbrookny.com/event/building-department-hours-3/2028-10-30/
LOCATION:Millbrook Village Hall\, 35 Merritt Avenue\, Millbrook\, NY\, 12545\, United States
CATEGORIES:Building Department
END:VEVENT
BEGIN:VEVENT
DTSTART;TZID=America/New_York:20281106T170000
DTEND;TZID=America/New_York:20281106T190000
DTSTAMP:20260421T162628
CREATED:20240308T182147Z
LAST-MODIFIED:20240308T182742Z
UID:10001509-1857142800-1857150000@villageofmillbrookny.com
SUMMARY:Building Department Hours
DESCRIPTION:
URL:https://villageofmillbrookny.com/event/building-department-hours-3/2028-11-06/
LOCATION:Millbrook Village Hall\, 35 Merritt Avenue\, Millbrook\, NY\, 12545\, United States
CATEGORIES:Building Department
END:VEVENT
BEGIN:VEVENT
DTSTART;TZID=America/New_York:20281113T170000
DTEND;TZID=America/New_York:20281113T190000
DTSTAMP:20260421T162628
CREATED:20240308T182147Z
LAST-MODIFIED:20240308T182742Z
UID:10001510-1857747600-1857754800@villageofmillbrookny.com
SUMMARY:Building Department Hours
DESCRIPTION:
URL:https://villageofmillbrookny.com/event/building-department-hours-3/2028-11-13/
LOCATION:Millbrook Village Hall\, 35 Merritt Avenue\, Millbrook\, NY\, 12545\, United States
CATEGORIES:Building Department
END:VEVENT
BEGIN:VEVENT
DTSTART;TZID=America/New_York:20281120T170000
DTEND;TZID=America/New_York:20281120T190000
DTSTAMP:20260421T162628
CREATED:20240308T182147Z
LAST-MODIFIED:20240308T182742Z
UID:10001511-1858352400-1858359600@villageofmillbrookny.com
SUMMARY:Building Department Hours
DESCRIPTION:
URL:https://villageofmillbrookny.com/event/building-department-hours-3/2028-11-20/
LOCATION:Millbrook Village Hall\, 35 Merritt Avenue\, Millbrook\, NY\, 12545\, United States
CATEGORIES:Building Department
END:VEVENT
BEGIN:VEVENT
DTSTART;TZID=America/New_York:20281127T170000
DTEND;TZID=America/New_York:20281127T190000
DTSTAMP:20260421T162628
CREATED:20240308T182147Z
LAST-MODIFIED:20240308T182742Z
UID:10001512-1858957200-1858964400@villageofmillbrookny.com
SUMMARY:Building Department Hours
DESCRIPTION:
URL:https://villageofmillbrookny.com/event/building-department-hours-3/2028-11-27/
LOCATION:Millbrook Village Hall\, 35 Merritt Avenue\, Millbrook\, NY\, 12545\, United States
CATEGORIES:Building Department
END:VEVENT
BEGIN:VEVENT
DTSTART;TZID=America/New_York:20281204T170000
DTEND;TZID=America/New_York:20281204T190000
DTSTAMP:20260421T162628
CREATED:20240308T182147Z
LAST-MODIFIED:20240308T182742Z
UID:10001513-1859562000-1859569200@villageofmillbrookny.com
SUMMARY:Building Department Hours
DESCRIPTION:
URL:https://villageofmillbrookny.com/event/building-department-hours-3/2028-12-04/
LOCATION:Millbrook Village Hall\, 35 Merritt Avenue\, Millbrook\, NY\, 12545\, United States
CATEGORIES:Building Department
END:VEVENT
BEGIN:VEVENT
DTSTART;TZID=America/New_York:20281211T170000
DTEND;TZID=America/New_York:20281211T190000
DTSTAMP:20260421T162628
CREATED:20240308T182147Z
LAST-MODIFIED:20240308T182742Z
UID:10001514-1860166800-1860174000@villageofmillbrookny.com
SUMMARY:Building Department Hours
DESCRIPTION:
URL:https://villageofmillbrookny.com/event/building-department-hours-3/2028-12-11/
LOCATION:Millbrook Village Hall\, 35 Merritt Avenue\, Millbrook\, NY\, 12545\, United States
CATEGORIES:Building Department
END:VEVENT
BEGIN:VEVENT
DTSTART;TZID=America/New_York:20281218T170000
DTEND;TZID=America/New_York:20281218T190000
DTSTAMP:20260421T162628
CREATED:20240308T182147Z
LAST-MODIFIED:20240308T182742Z
UID:10001515-1860771600-1860778800@villageofmillbrookny.com
SUMMARY:Building Department Hours
DESCRIPTION:
URL:https://villageofmillbrookny.com/event/building-department-hours-3/2028-12-18/
LOCATION:Millbrook Village Hall\, 35 Merritt Avenue\, Millbrook\, NY\, 12545\, United States
CATEGORIES:Building Department
END:VEVENT
BEGIN:VEVENT
DTSTART;TZID=America/New_York:20281225T170000
DTEND;TZID=America/New_York:20281225T190000
DTSTAMP:20260421T162628
CREATED:20240308T182147Z
LAST-MODIFIED:20240308T182742Z
UID:10001516-1861376400-1861383600@villageofmillbrookny.com
SUMMARY:Building Department Hours
DESCRIPTION:
URL:https://villageofmillbrookny.com/event/building-department-hours-3/2028-12-25/
LOCATION:Millbrook Village Hall\, 35 Merritt Avenue\, Millbrook\, NY\, 12545\, United States
CATEGORIES:Building Department
END:VEVENT
BEGIN:VEVENT
DTSTART;TZID=America/New_York:20290101T170000
DTEND;TZID=America/New_York:20290101T190000
DTSTAMP:20260421T162628
CREATED:20240308T182147Z
LAST-MODIFIED:20240308T182742Z
UID:10001517-1861981200-1861988400@villageofmillbrookny.com
SUMMARY:Building Department Hours
DESCRIPTION:
URL:https://villageofmillbrookny.com/event/building-department-hours-3/2029-01-01/
LOCATION:Millbrook Village Hall\, 35 Merritt Avenue\, Millbrook\, NY\, 12545\, United States
CATEGORIES:Building Department
END:VEVENT
BEGIN:VEVENT
DTSTART;TZID=America/New_York:20290108T170000
DTEND;TZID=America/New_York:20290108T190000
DTSTAMP:20260421T162628
CREATED:20240308T182147Z
LAST-MODIFIED:20240308T182742Z
UID:10001518-1862586000-1862593200@villageofmillbrookny.com
SUMMARY:Building Department Hours
DESCRIPTION:
URL:https://villageofmillbrookny.com/event/building-department-hours-3/2029-01-08/
LOCATION:Millbrook Village Hall\, 35 Merritt Avenue\, Millbrook\, NY\, 12545\, United States
CATEGORIES:Building Department
END:VEVENT
BEGIN:VEVENT
DTSTART;TZID=America/New_York:20290115T170000
DTEND;TZID=America/New_York:20290115T190000
DTSTAMP:20260421T162628
CREATED:20240308T182147Z
LAST-MODIFIED:20240308T182742Z
UID:10001519-1863190800-1863198000@villageofmillbrookny.com
SUMMARY:Building Department Hours
DESCRIPTION:
URL:https://villageofmillbrookny.com/event/building-department-hours-3/2029-01-15/
LOCATION:Millbrook Village Hall\, 35 Merritt Avenue\, Millbrook\, NY\, 12545\, United States
CATEGORIES:Building Department
END:VEVENT
BEGIN:VEVENT
DTSTART;TZID=America/New_York:20290122T170000
DTEND;TZID=America/New_York:20290122T190000
DTSTAMP:20260421T162628
CREATED:20240308T182147Z
LAST-MODIFIED:20240308T182742Z
UID:10001520-1863795600-1863802800@villageofmillbrookny.com
SUMMARY:Building Department Hours
DESCRIPTION:
URL:https://villageofmillbrookny.com/event/building-department-hours-3/2029-01-22/
LOCATION:Millbrook Village Hall\, 35 Merritt Avenue\, Millbrook\, NY\, 12545\, United States
CATEGORIES:Building Department
END:VEVENT
BEGIN:VEVENT
DTSTART;TZID=America/New_York:20290129T170000
DTEND;TZID=America/New_York:20290129T190000
DTSTAMP:20260421T162628
CREATED:20240308T182147Z
LAST-MODIFIED:20240308T182742Z
UID:10001521-1864400400-1864407600@villageofmillbrookny.com
SUMMARY:Building Department Hours
DESCRIPTION:
URL:https://villageofmillbrookny.com/event/building-department-hours-3/2029-01-29/
LOCATION:Millbrook Village Hall\, 35 Merritt Avenue\, Millbrook\, NY\, 12545\, United States
CATEGORIES:Building Department
END:VEVENT
BEGIN:VEVENT
DTSTART;TZID=America/New_York:20290205T170000
DTEND;TZID=America/New_York:20290205T190000
DTSTAMP:20260421T162628
CREATED:20240308T182147Z
LAST-MODIFIED:20240308T182742Z
UID:10001522-1865005200-1865012400@villageofmillbrookny.com
SUMMARY:Building Department Hours
DESCRIPTION:
URL:https://villageofmillbrookny.com/event/building-department-hours-3/2029-02-05/
LOCATION:Millbrook Village Hall\, 35 Merritt Avenue\, Millbrook\, NY\, 12545\, United States
CATEGORIES:Building Department
END:VEVENT
BEGIN:VEVENT
DTSTART;TZID=America/New_York:20290212T170000
DTEND;TZID=America/New_York:20290212T190000
DTSTAMP:20260421T162628
CREATED:20240308T182147Z
LAST-MODIFIED:20240308T182742Z
UID:10001523-1865610000-1865617200@villageofmillbrookny.com
SUMMARY:Building Department Hours
DESCRIPTION:
URL:https://villageofmillbrookny.com/event/building-department-hours-3/2029-02-12/
LOCATION:Millbrook Village Hall\, 35 Merritt Avenue\, Millbrook\, NY\, 12545\, United States
CATEGORIES:Building Department
END:VEVENT
BEGIN:VEVENT
DTSTART;TZID=America/New_York:20290219T170000
DTEND;TZID=America/New_York:20290219T190000
DTSTAMP:20260421T162628
CREATED:20240308T182147Z
LAST-MODIFIED:20240308T182742Z
UID:10001524-1866214800-1866222000@villageofmillbrookny.com
SUMMARY:Building Department Hours
DESCRIPTION:
URL:https://villageofmillbrookny.com/event/building-department-hours-3/2029-02-19/
LOCATION:Millbrook Village Hall\, 35 Merritt Avenue\, Millbrook\, NY\, 12545\, United States
CATEGORIES:Building Department
END:VEVENT
BEGIN:VEVENT
DTSTART;TZID=America/New_York:20290226T170000
DTEND;TZID=America/New_York:20290226T190000
DTSTAMP:20260421T162628
CREATED:20240308T182147Z
LAST-MODIFIED:20240308T182742Z
UID:10001525-1866819600-1866826800@villageofmillbrookny.com
SUMMARY:Building Department Hours
DESCRIPTION:
URL:https://villageofmillbrookny.com/event/building-department-hours-3/2029-02-26/
LOCATION:Millbrook Village Hall\, 35 Merritt Avenue\, Millbrook\, NY\, 12545\, United States
CATEGORIES:Building Department
END:VEVENT
BEGIN:VEVENT
DTSTART;TZID=America/New_York:20290305T170000
DTEND;TZID=America/New_York:20290305T190000
DTSTAMP:20260421T162628
CREATED:20240308T182147Z
LAST-MODIFIED:20240308T182742Z
UID:10001526-1867424400-1867431600@villageofmillbrookny.com
SUMMARY:Building Department Hours
DESCRIPTION:
URL:https://villageofmillbrookny.com/event/building-department-hours-3/2029-03-05/
LOCATION:Millbrook Village Hall\, 35 Merritt Avenue\, Millbrook\, NY\, 12545\, United States
CATEGORIES:Building Department
END:VEVENT
END:VCALENDAR