BEGIN:VCALENDAR
VERSION:2.0
PRODID:-//Village of Millbrook - ECPv6.15.17.1//NONSGML v1.0//EN
CALSCALE:GREGORIAN
METHOD:PUBLISH
X-WR-CALNAME:Village of Millbrook
X-ORIGINAL-URL:https://villageofmillbrookny.com
X-WR-CALDESC:Events for Village of Millbrook
REFRESH-INTERVAL;VALUE=DURATION:PT1H
X-Robots-Tag:noindex
X-PUBLISHED-TTL:PT1H
BEGIN:VTIMEZONE
TZID:America/New_York
BEGIN:DAYLIGHT
TZOFFSETFROM:-0500
TZOFFSETTO:-0400
TZNAME:EDT
DTSTART:20240310T070000
END:DAYLIGHT
BEGIN:STANDARD
TZOFFSETFROM:-0400
TZOFFSETTO:-0500
TZNAME:EST
DTSTART:20241103T060000
END:STANDARD
BEGIN:DAYLIGHT
TZOFFSETFROM:-0500
TZOFFSETTO:-0400
TZNAME:EDT
DTSTART:20250309T070000
END:DAYLIGHT
BEGIN:STANDARD
TZOFFSETFROM:-0400
TZOFFSETTO:-0500
TZNAME:EST
DTSTART:20251102T060000
END:STANDARD
BEGIN:DAYLIGHT
TZOFFSETFROM:-0500
TZOFFSETTO:-0400
TZNAME:EDT
DTSTART:20260308T070000
END:DAYLIGHT
BEGIN:STANDARD
TZOFFSETFROM:-0400
TZOFFSETTO:-0500
TZNAME:EST
DTSTART:20261101T060000
END:STANDARD
BEGIN:DAYLIGHT
TZOFFSETFROM:-0500
TZOFFSETTO:-0400
TZNAME:EDT
DTSTART:20270314T070000
END:DAYLIGHT
BEGIN:STANDARD
TZOFFSETFROM:-0400
TZOFFSETTO:-0500
TZNAME:EST
DTSTART:20271107T060000
END:STANDARD
END:VTIMEZONE
BEGIN:VEVENT
DTSTART;TZID=America/New_York:20251027T170000
DTEND;TZID=America/New_York:20251027T190000
DTSTAMP:20260421T133540
CREATED:20240308T182147Z
LAST-MODIFIED:20240308T182742Z
UID:10001351-1761584400-1761591600@villageofmillbrookny.com
SUMMARY:Building Department Hours
DESCRIPTION:
URL:https://villageofmillbrookny.com/event/building-department-hours-3/2025-10-27/
LOCATION:Millbrook Village Hall\, 35 Merritt Avenue\, Millbrook\, NY\, 12545\, United States
CATEGORIES:Building Department
END:VEVENT
BEGIN:VEVENT
DTSTART;TZID=America/New_York:20251103T170000
DTEND;TZID=America/New_York:20251103T190000
DTSTAMP:20260421T133540
CREATED:20240308T182147Z
LAST-MODIFIED:20240308T182742Z
UID:10001352-1762189200-1762196400@villageofmillbrookny.com
SUMMARY:Building Department Hours
DESCRIPTION:
URL:https://villageofmillbrookny.com/event/building-department-hours-3/2025-11-03/
LOCATION:Millbrook Village Hall\, 35 Merritt Avenue\, Millbrook\, NY\, 12545\, United States
CATEGORIES:Building Department
END:VEVENT
BEGIN:VEVENT
DTSTART;TZID=America/New_York:20251110T170000
DTEND;TZID=America/New_York:20251110T190000
DTSTAMP:20260421T133540
CREATED:20240308T182147Z
LAST-MODIFIED:20240308T182742Z
UID:10001353-1762794000-1762801200@villageofmillbrookny.com
SUMMARY:Building Department Hours
DESCRIPTION:
URL:https://villageofmillbrookny.com/event/building-department-hours-3/2025-11-10/
LOCATION:Millbrook Village Hall\, 35 Merritt Avenue\, Millbrook\, NY\, 12545\, United States
CATEGORIES:Building Department
END:VEVENT
BEGIN:VEVENT
DTSTART;TZID=America/New_York:20251117T170000
DTEND;TZID=America/New_York:20251117T190000
DTSTAMP:20260421T133540
CREATED:20240308T182147Z
LAST-MODIFIED:20240308T182742Z
UID:10001354-1763398800-1763406000@villageofmillbrookny.com
SUMMARY:Building Department Hours
DESCRIPTION:
URL:https://villageofmillbrookny.com/event/building-department-hours-3/2025-11-17/
LOCATION:Millbrook Village Hall\, 35 Merritt Avenue\, Millbrook\, NY\, 12545\, United States
CATEGORIES:Building Department
END:VEVENT
BEGIN:VEVENT
DTSTART;TZID=America/New_York:20251124T170000
DTEND;TZID=America/New_York:20251124T190000
DTSTAMP:20260421T133540
CREATED:20240308T182147Z
LAST-MODIFIED:20240308T182742Z
UID:10001355-1764003600-1764010800@villageofmillbrookny.com
SUMMARY:Building Department Hours
DESCRIPTION:
URL:https://villageofmillbrookny.com/event/building-department-hours-3/2025-11-24/
LOCATION:Millbrook Village Hall\, 35 Merritt Avenue\, Millbrook\, NY\, 12545\, United States
CATEGORIES:Building Department
END:VEVENT
BEGIN:VEVENT
DTSTART;TZID=America/New_York:20251201T170000
DTEND;TZID=America/New_York:20251201T190000
DTSTAMP:20260421T133540
CREATED:20240308T182147Z
LAST-MODIFIED:20240308T182742Z
UID:10001356-1764608400-1764615600@villageofmillbrookny.com
SUMMARY:Building Department Hours
DESCRIPTION:
URL:https://villageofmillbrookny.com/event/building-department-hours-3/2025-12-01/
LOCATION:Millbrook Village Hall\, 35 Merritt Avenue\, Millbrook\, NY\, 12545\, United States
CATEGORIES:Building Department
END:VEVENT
BEGIN:VEVENT
DTSTART;TZID=America/New_York:20251208T170000
DTEND;TZID=America/New_York:20251208T190000
DTSTAMP:20260421T133540
CREATED:20240308T182147Z
LAST-MODIFIED:20240308T182742Z
UID:10001357-1765213200-1765220400@villageofmillbrookny.com
SUMMARY:Building Department Hours
DESCRIPTION:
URL:https://villageofmillbrookny.com/event/building-department-hours-3/2025-12-08/
LOCATION:Millbrook Village Hall\, 35 Merritt Avenue\, Millbrook\, NY\, 12545\, United States
CATEGORIES:Building Department
END:VEVENT
BEGIN:VEVENT
DTSTART;TZID=America/New_York:20251215T170000
DTEND;TZID=America/New_York:20251215T190000
DTSTAMP:20260421T133540
CREATED:20240308T182147Z
LAST-MODIFIED:20240308T182742Z
UID:10001358-1765818000-1765825200@villageofmillbrookny.com
SUMMARY:Building Department Hours
DESCRIPTION:
URL:https://villageofmillbrookny.com/event/building-department-hours-3/2025-12-15/
LOCATION:Millbrook Village Hall\, 35 Merritt Avenue\, Millbrook\, NY\, 12545\, United States
CATEGORIES:Building Department
END:VEVENT
BEGIN:VEVENT
DTSTART;TZID=America/New_York:20251222T170000
DTEND;TZID=America/New_York:20251222T190000
DTSTAMP:20260421T133540
CREATED:20240308T182147Z
LAST-MODIFIED:20240308T182742Z
UID:10001359-1766422800-1766430000@villageofmillbrookny.com
SUMMARY:Building Department Hours
DESCRIPTION:
URL:https://villageofmillbrookny.com/event/building-department-hours-3/2025-12-22/
LOCATION:Millbrook Village Hall\, 35 Merritt Avenue\, Millbrook\, NY\, 12545\, United States
CATEGORIES:Building Department
END:VEVENT
BEGIN:VEVENT
DTSTART;TZID=America/New_York:20251229T170000
DTEND;TZID=America/New_York:20251229T190000
DTSTAMP:20260421T133540
CREATED:20240308T182147Z
LAST-MODIFIED:20240308T182742Z
UID:10001360-1767027600-1767034800@villageofmillbrookny.com
SUMMARY:Building Department Hours
DESCRIPTION:
URL:https://villageofmillbrookny.com/event/building-department-hours-3/2025-12-29/
LOCATION:Millbrook Village Hall\, 35 Merritt Avenue\, Millbrook\, NY\, 12545\, United States
CATEGORIES:Building Department
END:VEVENT
BEGIN:VEVENT
DTSTART;TZID=America/New_York:20260105T170000
DTEND;TZID=America/New_York:20260105T190000
DTSTAMP:20260421T133540
CREATED:20240308T182147Z
LAST-MODIFIED:20240308T182742Z
UID:10001361-1767632400-1767639600@villageofmillbrookny.com
SUMMARY:Building Department Hours
DESCRIPTION:
URL:https://villageofmillbrookny.com/event/building-department-hours-3/2026-01-05/
LOCATION:Millbrook Village Hall\, 35 Merritt Avenue\, Millbrook\, NY\, 12545\, United States
CATEGORIES:Building Department
END:VEVENT
BEGIN:VEVENT
DTSTART;TZID=America/New_York:20260112T170000
DTEND;TZID=America/New_York:20260112T190000
DTSTAMP:20260421T133540
CREATED:20240308T182147Z
LAST-MODIFIED:20240308T182742Z
UID:10001362-1768237200-1768244400@villageofmillbrookny.com
SUMMARY:Building Department Hours
DESCRIPTION:
URL:https://villageofmillbrookny.com/event/building-department-hours-3/2026-01-12/
LOCATION:Millbrook Village Hall\, 35 Merritt Avenue\, Millbrook\, NY\, 12545\, United States
CATEGORIES:Building Department
END:VEVENT
BEGIN:VEVENT
DTSTART;TZID=America/New_York:20260119T170000
DTEND;TZID=America/New_York:20260119T190000
DTSTAMP:20260421T133540
CREATED:20240308T182147Z
LAST-MODIFIED:20240308T182742Z
UID:10001363-1768842000-1768849200@villageofmillbrookny.com
SUMMARY:Building Department Hours
DESCRIPTION:
URL:https://villageofmillbrookny.com/event/building-department-hours-3/2026-01-19/
LOCATION:Millbrook Village Hall\, 35 Merritt Avenue\, Millbrook\, NY\, 12545\, United States
CATEGORIES:Building Department
END:VEVENT
BEGIN:VEVENT
DTSTART;TZID=America/New_York:20260126T170000
DTEND;TZID=America/New_York:20260126T190000
DTSTAMP:20260421T133540
CREATED:20240308T182147Z
LAST-MODIFIED:20240308T182742Z
UID:10001364-1769446800-1769454000@villageofmillbrookny.com
SUMMARY:Building Department Hours
DESCRIPTION:
URL:https://villageofmillbrookny.com/event/building-department-hours-3/2026-01-26/
LOCATION:Millbrook Village Hall\, 35 Merritt Avenue\, Millbrook\, NY\, 12545\, United States
CATEGORIES:Building Department
END:VEVENT
BEGIN:VEVENT
DTSTART;TZID=America/New_York:20260202T170000
DTEND;TZID=America/New_York:20260202T190000
DTSTAMP:20260421T133540
CREATED:20240308T182147Z
LAST-MODIFIED:20240308T182742Z
UID:10001365-1770051600-1770058800@villageofmillbrookny.com
SUMMARY:Building Department Hours
DESCRIPTION:
URL:https://villageofmillbrookny.com/event/building-department-hours-3/2026-02-02/
LOCATION:Millbrook Village Hall\, 35 Merritt Avenue\, Millbrook\, NY\, 12545\, United States
CATEGORIES:Building Department
END:VEVENT
BEGIN:VEVENT
DTSTART;TZID=America/New_York:20260209T170000
DTEND;TZID=America/New_York:20260209T190000
DTSTAMP:20260421T133540
CREATED:20240308T182147Z
LAST-MODIFIED:20240308T182742Z
UID:10001366-1770656400-1770663600@villageofmillbrookny.com
SUMMARY:Building Department Hours
DESCRIPTION:
URL:https://villageofmillbrookny.com/event/building-department-hours-3/2026-02-09/
LOCATION:Millbrook Village Hall\, 35 Merritt Avenue\, Millbrook\, NY\, 12545\, United States
CATEGORIES:Building Department
END:VEVENT
BEGIN:VEVENT
DTSTART;TZID=America/New_York:20260216T170000
DTEND;TZID=America/New_York:20260216T190000
DTSTAMP:20260421T133540
CREATED:20240308T182147Z
LAST-MODIFIED:20240308T182742Z
UID:10001367-1771261200-1771268400@villageofmillbrookny.com
SUMMARY:Building Department Hours
DESCRIPTION:
URL:https://villageofmillbrookny.com/event/building-department-hours-3/2026-02-16/
LOCATION:Millbrook Village Hall\, 35 Merritt Avenue\, Millbrook\, NY\, 12545\, United States
CATEGORIES:Building Department
END:VEVENT
BEGIN:VEVENT
DTSTART;TZID=America/New_York:20260223T170000
DTEND;TZID=America/New_York:20260223T190000
DTSTAMP:20260421T133540
CREATED:20240308T182147Z
LAST-MODIFIED:20240308T182742Z
UID:10001368-1771866000-1771873200@villageofmillbrookny.com
SUMMARY:Building Department Hours
DESCRIPTION:
URL:https://villageofmillbrookny.com/event/building-department-hours-3/2026-02-23/
LOCATION:Millbrook Village Hall\, 35 Merritt Avenue\, Millbrook\, NY\, 12545\, United States
CATEGORIES:Building Department
END:VEVENT
BEGIN:VEVENT
DTSTART;TZID=America/New_York:20260302T170000
DTEND;TZID=America/New_York:20260302T190000
DTSTAMP:20260421T133540
CREATED:20240308T182147Z
LAST-MODIFIED:20240308T182742Z
UID:10001369-1772470800-1772478000@villageofmillbrookny.com
SUMMARY:Building Department Hours
DESCRIPTION:
URL:https://villageofmillbrookny.com/event/building-department-hours-3/2026-03-02/
LOCATION:Millbrook Village Hall\, 35 Merritt Avenue\, Millbrook\, NY\, 12545\, United States
CATEGORIES:Building Department
END:VEVENT
BEGIN:VEVENT
DTSTART;TZID=America/New_York:20260309T170000
DTEND;TZID=America/New_York:20260309T190000
DTSTAMP:20260421T133540
CREATED:20240308T182147Z
LAST-MODIFIED:20240308T182742Z
UID:10001370-1773075600-1773082800@villageofmillbrookny.com
SUMMARY:Building Department Hours
DESCRIPTION:
URL:https://villageofmillbrookny.com/event/building-department-hours-3/2026-03-09/
LOCATION:Millbrook Village Hall\, 35 Merritt Avenue\, Millbrook\, NY\, 12545\, United States
CATEGORIES:Building Department
END:VEVENT
BEGIN:VEVENT
DTSTART;TZID=America/New_York:20260316T170000
DTEND;TZID=America/New_York:20260316T190000
DTSTAMP:20260421T133540
CREATED:20240308T182147Z
LAST-MODIFIED:20240308T182742Z
UID:10001371-1773680400-1773687600@villageofmillbrookny.com
SUMMARY:Building Department Hours
DESCRIPTION:
URL:https://villageofmillbrookny.com/event/building-department-hours-3/2026-03-16/
LOCATION:Millbrook Village Hall\, 35 Merritt Avenue\, Millbrook\, NY\, 12545\, United States
CATEGORIES:Building Department
END:VEVENT
BEGIN:VEVENT
DTSTART;TZID=America/New_York:20260323T170000
DTEND;TZID=America/New_York:20260323T190000
DTSTAMP:20260421T133540
CREATED:20240308T182147Z
LAST-MODIFIED:20240308T182742Z
UID:10001372-1774285200-1774292400@villageofmillbrookny.com
SUMMARY:Building Department Hours
DESCRIPTION:
URL:https://villageofmillbrookny.com/event/building-department-hours-3/2026-03-23/
LOCATION:Millbrook Village Hall\, 35 Merritt Avenue\, Millbrook\, NY\, 12545\, United States
CATEGORIES:Building Department
END:VEVENT
BEGIN:VEVENT
DTSTART;TZID=America/New_York:20260330T170000
DTEND;TZID=America/New_York:20260330T190000
DTSTAMP:20260421T133540
CREATED:20240308T182147Z
LAST-MODIFIED:20240308T182742Z
UID:10001373-1774890000-1774897200@villageofmillbrookny.com
SUMMARY:Building Department Hours
DESCRIPTION:
URL:https://villageofmillbrookny.com/event/building-department-hours-3/2026-03-30/
LOCATION:Millbrook Village Hall\, 35 Merritt Avenue\, Millbrook\, NY\, 12545\, United States
CATEGORIES:Building Department
END:VEVENT
BEGIN:VEVENT
DTSTART;TZID=America/New_York:20260406T170000
DTEND;TZID=America/New_York:20260406T190000
DTSTAMP:20260421T133540
CREATED:20240308T182147Z
LAST-MODIFIED:20240308T182742Z
UID:10001374-1775494800-1775502000@villageofmillbrookny.com
SUMMARY:Building Department Hours
DESCRIPTION:
URL:https://villageofmillbrookny.com/event/building-department-hours-3/2026-04-06/
LOCATION:Millbrook Village Hall\, 35 Merritt Avenue\, Millbrook\, NY\, 12545\, United States
CATEGORIES:Building Department
END:VEVENT
BEGIN:VEVENT
DTSTART;TZID=America/New_York:20260413T170000
DTEND;TZID=America/New_York:20260413T190000
DTSTAMP:20260421T133540
CREATED:20240308T182147Z
LAST-MODIFIED:20240308T182742Z
UID:10001375-1776099600-1776106800@villageofmillbrookny.com
SUMMARY:Building Department Hours
DESCRIPTION:
URL:https://villageofmillbrookny.com/event/building-department-hours-3/2026-04-13/
LOCATION:Millbrook Village Hall\, 35 Merritt Avenue\, Millbrook\, NY\, 12545\, United States
CATEGORIES:Building Department
END:VEVENT
BEGIN:VEVENT
DTSTART;TZID=America/New_York:20260420T170000
DTEND;TZID=America/New_York:20260420T190000
DTSTAMP:20260421T133540
CREATED:20240308T182147Z
LAST-MODIFIED:20240308T182742Z
UID:10001376-1776704400-1776711600@villageofmillbrookny.com
SUMMARY:Building Department Hours
DESCRIPTION:
URL:https://villageofmillbrookny.com/event/building-department-hours-3/2026-04-20/
LOCATION:Millbrook Village Hall\, 35 Merritt Avenue\, Millbrook\, NY\, 12545\, United States
CATEGORIES:Building Department
END:VEVENT
BEGIN:VEVENT
DTSTART;TZID=America/New_York:20260427T170000
DTEND;TZID=America/New_York:20260427T190000
DTSTAMP:20260421T133540
CREATED:20240308T182147Z
LAST-MODIFIED:20240308T182742Z
UID:10001377-1777309200-1777316400@villageofmillbrookny.com
SUMMARY:Building Department Hours
DESCRIPTION:
URL:https://villageofmillbrookny.com/event/building-department-hours-3/2026-04-27/
LOCATION:Millbrook Village Hall\, 35 Merritt Avenue\, Millbrook\, NY\, 12545\, United States
CATEGORIES:Building Department
END:VEVENT
BEGIN:VEVENT
DTSTART;TZID=America/New_York:20260504T170000
DTEND;TZID=America/New_York:20260504T190000
DTSTAMP:20260421T133540
CREATED:20240308T182147Z
LAST-MODIFIED:20240308T182742Z
UID:10001378-1777914000-1777921200@villageofmillbrookny.com
SUMMARY:Building Department Hours
DESCRIPTION:
URL:https://villageofmillbrookny.com/event/building-department-hours-3/2026-05-04/
LOCATION:Millbrook Village Hall\, 35 Merritt Avenue\, Millbrook\, NY\, 12545\, United States
CATEGORIES:Building Department
END:VEVENT
BEGIN:VEVENT
DTSTART;TZID=America/New_York:20260511T170000
DTEND;TZID=America/New_York:20260511T190000
DTSTAMP:20260421T133540
CREATED:20240308T182147Z
LAST-MODIFIED:20240308T182742Z
UID:10001379-1778518800-1778526000@villageofmillbrookny.com
SUMMARY:Building Department Hours
DESCRIPTION:
URL:https://villageofmillbrookny.com/event/building-department-hours-3/2026-05-11/
LOCATION:Millbrook Village Hall\, 35 Merritt Avenue\, Millbrook\, NY\, 12545\, United States
CATEGORIES:Building Department
END:VEVENT
BEGIN:VEVENT
DTSTART;TZID=America/New_York:20260518T170000
DTEND;TZID=America/New_York:20260518T190000
DTSTAMP:20260421T133540
CREATED:20240308T182147Z
LAST-MODIFIED:20240308T182742Z
UID:10001380-1779123600-1779130800@villageofmillbrookny.com
SUMMARY:Building Department Hours
DESCRIPTION:
URL:https://villageofmillbrookny.com/event/building-department-hours-3/2026-05-18/
LOCATION:Millbrook Village Hall\, 35 Merritt Avenue\, Millbrook\, NY\, 12545\, United States
CATEGORIES:Building Department
END:VEVENT
END:VCALENDAR