BEGIN:VCALENDAR
VERSION:2.0
PRODID:-//Village of Millbrook - ECPv6.15.17.1//NONSGML v1.0//EN
CALSCALE:GREGORIAN
METHOD:PUBLISH
X-WR-CALNAME:Village of Millbrook
X-ORIGINAL-URL:https://villageofmillbrookny.com
X-WR-CALDESC:Events for Village of Millbrook
REFRESH-INTERVAL;VALUE=DURATION:PT1H
X-Robots-Tag:noindex
X-PUBLISHED-TTL:PT1H
BEGIN:VTIMEZONE
TZID:America/New_York
BEGIN:DAYLIGHT
TZOFFSETFROM:-0500
TZOFFSETTO:-0400
TZNAME:EDT
DTSTART:20210314T070000
END:DAYLIGHT
BEGIN:STANDARD
TZOFFSETFROM:-0400
TZOFFSETTO:-0500
TZNAME:EST
DTSTART:20211107T060000
END:STANDARD
BEGIN:DAYLIGHT
TZOFFSETFROM:-0500
TZOFFSETTO:-0400
TZNAME:EDT
DTSTART:20220313T070000
END:DAYLIGHT
BEGIN:STANDARD
TZOFFSETFROM:-0400
TZOFFSETTO:-0500
TZNAME:EST
DTSTART:20221106T060000
END:STANDARD
BEGIN:DAYLIGHT
TZOFFSETFROM:-0500
TZOFFSETTO:-0400
TZNAME:EDT
DTSTART:20230312T070000
END:DAYLIGHT
BEGIN:STANDARD
TZOFFSETFROM:-0400
TZOFFSETTO:-0500
TZNAME:EST
DTSTART:20231105T060000
END:STANDARD
END:VTIMEZONE
BEGIN:VEVENT
DTSTART;VALUE=DATE:20221010
DTEND;VALUE=DATE:20221011
DTSTAMP:20260422T092606
CREATED:20221013T183803Z
LAST-MODIFIED:20221013T184030Z
UID:10000727-1665360000-1665446399@villageofmillbrookny.com
SUMMARY:Village Hall Closed
DESCRIPTION:The Village Hall will be closed Monday\, October 10\, 2022 in observance of Columbus Day.
URL:https://villageofmillbrookny.com/event/village-hall-closed-2/
CATEGORIES:Village
ATTACH;FMTTYPE=image/jpeg:https://cdn.townweb.com/villageofmillbrookny.com/wp-content/uploads/2022/10/office-closed-2.jpg
END:VEVENT
BEGIN:VEVENT
DTSTART;TZID=America/New_York:20221031T160000
DTEND;TZID=America/New_York:20221031T200000
DTSTAMP:20260422T092606
CREATED:20221025T173046Z
LAST-MODIFIED:20221025T173046Z
UID:10000735-1667232000-1667246400@villageofmillbrookny.com
SUMMARY:Trick-or-Treat
DESCRIPTION:Trick-or-treating in the village
URL:https://villageofmillbrookny.com/event/trick-or-treat/
CATEGORIES:Village
ATTACH;FMTTYPE=image/webp:https://cdn.townweb.com/villageofmillbrookny.com/wp-content/uploads/2022/10/trick-or-treat.webp
END:VEVENT
END:VCALENDAR