BEGIN:VCALENDAR
VERSION:2.0
PRODID:-//Village of Millbrook - ECPv6.15.17.1//NONSGML v1.0//EN
CALSCALE:GREGORIAN
METHOD:PUBLISH
X-WR-CALNAME:Village of Millbrook
X-ORIGINAL-URL:https://villageofmillbrookny.com
X-WR-CALDESC:Events for Village of Millbrook
REFRESH-INTERVAL;VALUE=DURATION:PT1H
X-Robots-Tag:noindex
X-PUBLISHED-TTL:PT1H
BEGIN:VTIMEZONE
TZID:America/New_York
BEGIN:DAYLIGHT
TZOFFSETFROM:-0500
TZOFFSETTO:-0400
TZNAME:EDT
DTSTART:20210314T070000
END:DAYLIGHT
BEGIN:STANDARD
TZOFFSETFROM:-0400
TZOFFSETTO:-0500
TZNAME:EST
DTSTART:20211107T060000
END:STANDARD
BEGIN:DAYLIGHT
TZOFFSETFROM:-0500
TZOFFSETTO:-0400
TZNAME:EDT
DTSTART:20220313T070000
END:DAYLIGHT
BEGIN:STANDARD
TZOFFSETFROM:-0400
TZOFFSETTO:-0500
TZNAME:EST
DTSTART:20221106T060000
END:STANDARD
BEGIN:DAYLIGHT
TZOFFSETFROM:-0500
TZOFFSETTO:-0400
TZNAME:EDT
DTSTART:20230312T070000
END:DAYLIGHT
BEGIN:STANDARD
TZOFFSETFROM:-0400
TZOFFSETTO:-0500
TZNAME:EST
DTSTART:20231105T060000
END:STANDARD
END:VTIMEZONE
BEGIN:VEVENT
DTSTART;TZID=America/New_York:20221108T060000
DTEND;TZID=America/New_York:20221108T210000
DTSTAMP:20260422T080538
CREATED:20221013T191006Z
LAST-MODIFIED:20221013T191149Z
UID:10000734-1667887200-1667941200@villageofmillbrookny.com
SUMMARY:Election Day
DESCRIPTION:There are 2 trustee positions open for election this November. \nVILLAGE OF MILLBROOK TRUSTEE CANDIDATESBuffy ARBOGAST – Peter DOROJoe LIBONATI – Patrick MURPHY
URL:https://villageofmillbrookny.com/event/election-day/
CATEGORIES:Village
ATTACH;FMTTYPE=image/jpeg:https://cdn.townweb.com/villageofmillbrookny.com/wp-content/uploads/2022/10/vote.jpg
END:VEVENT
BEGIN:VEVENT
DTSTART;VALUE=DATE:20221111
DTEND;VALUE=DATE:20221112
DTSTAMP:20260422T080538
CREATED:20221013T184006Z
LAST-MODIFIED:20221024T153221Z
UID:10000728-1668124800-1668211199@villageofmillbrookny.com
SUMMARY:Village Hall Closed
DESCRIPTION:The Village Hall will be closed Friday\, November 11\, 2022 in observance of Veteran’s Day.
URL:https://villageofmillbrookny.com/event/village-hall-closed-3/
CATEGORIES:Village
ATTACH;FMTTYPE=image/jpeg:https://cdn.townweb.com/villageofmillbrookny.com/wp-content/uploads/2022/10/office-closed-2.jpg
END:VEVENT
BEGIN:VEVENT
DTSTART;VALUE=DATE:20221124
DTEND;VALUE=DATE:20221126
DTSTAMP:20260422T080538
CREATED:20221013T184431Z
LAST-MODIFIED:20221013T184431Z
UID:10000729-1669248000-1669420799@villageofmillbrookny.com
SUMMARY:Village Hall Closed
DESCRIPTION:The Village Hall will be closed Thursday\, November 24th & Friday\, November 25th in observance of Thanksgiving.
URL:https://villageofmillbrookny.com/event/village-hall-closed-4/
CATEGORIES:Village
ATTACH;FMTTYPE=image/jpeg:https://cdn.townweb.com/villageofmillbrookny.com/wp-content/uploads/2022/10/office-closed-2.jpg
END:VEVENT
END:VCALENDAR