BEGIN:VCALENDAR
VERSION:2.0
PRODID:-//Village of Millbrook - ECPv6.15.17.1//NONSGML v1.0//EN
CALSCALE:GREGORIAN
METHOD:PUBLISH
X-WR-CALNAME:Village of Millbrook
X-ORIGINAL-URL:https://villageofmillbrookny.com
X-WR-CALDESC:Events for Village of Millbrook
REFRESH-INTERVAL;VALUE=DURATION:PT1H
X-Robots-Tag:noindex
X-PUBLISHED-TTL:PT1H
BEGIN:VTIMEZONE
TZID:America/New_York
BEGIN:DAYLIGHT
TZOFFSETFROM:-0500
TZOFFSETTO:-0400
TZNAME:EDT
DTSTART:20230312T070000
END:DAYLIGHT
BEGIN:STANDARD
TZOFFSETFROM:-0400
TZOFFSETTO:-0500
TZNAME:EST
DTSTART:20231105T060000
END:STANDARD
BEGIN:DAYLIGHT
TZOFFSETFROM:-0500
TZOFFSETTO:-0400
TZNAME:EDT
DTSTART:20240310T070000
END:DAYLIGHT
BEGIN:STANDARD
TZOFFSETFROM:-0400
TZOFFSETTO:-0500
TZNAME:EST
DTSTART:20241103T060000
END:STANDARD
BEGIN:DAYLIGHT
TZOFFSETFROM:-0500
TZOFFSETTO:-0400
TZNAME:EDT
DTSTART:20250309T070000
END:DAYLIGHT
BEGIN:STANDARD
TZOFFSETFROM:-0400
TZOFFSETTO:-0500
TZNAME:EST
DTSTART:20251102T060000
END:STANDARD
END:VTIMEZONE
BEGIN:VEVENT
DTSTART;VALUE=DATE:20240219
DTEND;VALUE=DATE:20240220
DTSTAMP:20260422T185530
CREATED:20240125T183616Z
LAST-MODIFIED:20240125T194418Z
UID:10001255-1708300800-1708387199@villageofmillbrookny.com
SUMMARY:Village Hall Closed for Presidents Day
DESCRIPTION:The Village Clerk’s office will be closed on Monday\, February 19th in observance of Presidents’ Day.
URL:https://villageofmillbrookny.com/event/village-hall-closed-13/
CATEGORIES:Village
ATTACH;FMTTYPE=image/jpeg:https://cdn.townweb.com/villageofmillbrookny.com/wp-content/uploads/2022/10/office-closed-2.jpg
END:VEVENT
BEGIN:VEVENT
DTSTART;VALUE=DATE:20240401
DTEND;VALUE=DATE:20240402
DTSTAMP:20260422T185530
CREATED:20240326T120207Z
LAST-MODIFIED:20240326T130506Z
UID:10001528-1711929600-1712015999@villageofmillbrookny.com
SUMMARY:Brush Pick-Up Begins
DESCRIPTION:Brush Pick-Up Begins April 1st\n\n\nBrush pick-up is a service provided to Village Residents from April 1st to May 31st. The Village also offers storm damage removal up to (2) weeks after a storm. This does NOT include tree trunks or stumps. \nPLEASE NOTE: BRUSH PICK-UP DOES NOT INCLUDE YARD CLEARING\, TREE REMOVAL OR LEAF PILES.Fines may be assessed by the DPW Supervisor if these items are out for pick-up. (Leaf pick-up begins 10/1) \nBRUSH: Tree and bush branches that are less than 4 inches in diameter and less than 8 feet in length. Please DO NOT mix with leaves\, grass or dirt. \nBRUSH LIMIT: (1) pile per parcel no larger than 10-foot-long\, 6-foot-wide\, 4-foot high.Anything is excess of this will not be picked up and subject to a fine. \nBRUSH PLACEMENT: Place brush neatly alongside the street – NEVER PUT BRUSH IN THE STREET! \nLots with streets on back of property: Piles must be placed at front lot address side only. Do not place piles on the rear side of the property. \nCorner Lots: One side of lot only. \nCollections are generally completed within one week\, if you have not been picked up within that time\, please call Public Works to inform them of the missed collection. If you have any questions about the contents or placement of brush please contact the Public Works Department at (845) 677-3022 before placing anything curbside. \n  \nFor More Details Visit villageofmillbrookny.com/public-works/#brush
URL:https://villageofmillbrookny.com/event/brush-pick-up-begins/
CATEGORIES:Highway Department,Village
ATTACH;FMTTYPE=image/jpeg:https://cdn.townweb.com/villageofmillbrookny.com/wp-content/uploads/2022/09/637297310582670000.jpg
END:VEVENT
BEGIN:VEVENT
DTSTART;VALUE=DATE:20240410
DTEND;VALUE=DATE:20240411
DTSTAMP:20260422T185530
CREATED:20240326T154152Z
LAST-MODIFIED:20240326T154329Z
UID:10001533-1712707200-1712793599@villageofmillbrookny.com
SUMMARY:Village Hall Closed
DESCRIPTION:The Village Hall is closed every 2nd Wednesday of the month. If you need to drop off paperwork or payments\, you may place them in the dropbox to the left of the front door at 35 Merritt Ave.
URL:https://villageofmillbrookny.com/event/village-hall-closed-23/2024-04-10/
CATEGORIES:Village
ATTACH;FMTTYPE=image/jpeg:https://cdn.townweb.com/villageofmillbrookny.com/wp-content/uploads/2022/10/office-closed-2.jpg
END:VEVENT
BEGIN:VEVENT
DTSTART;TZID=America/New_York:20240424T180000
DTEND;TZID=America/New_York:20240424T200000
DTSTAMP:20260422T185530
CREATED:20240404T143508Z
LAST-MODIFIED:20240423T112448Z
UID:10001566-1713981600-1713988800@villageofmillbrookny.com
SUMMARY:Board of Trustees Special Meeting - WWTP
DESCRIPTION:Village of Millbrook\nBoard of Trustees Agenda\nWednesday\, 4/24/2024 – 6 PM \nLocation: Village Hall- 35 Merritt Ave\, Millbrook \nResidents are welcome to attend in-person.\nThis meeting will be broadcast on YouTube Live & then will be posted to the Village website \n\nOpen Meeting: Pledge of allegiance & roll call of trustees\nPresentation: Wastewater Treatment Plant Upgrade (WWTP)- Tighe and Bond\nExecutive Session: Police Chief\nUpcoming Board Meetings: Next Regular Board Meeting – Wednesday\, 5/8/2024 – 6PM\nAdjournment
URL:https://villageofmillbrookny.com/event/board-of-trustees-special-meeting-wwtp/
LOCATION:Millbrook Village Hall\, 35 Merritt Avenue\, Millbrook\, NY\, 12545\, United States
CATEGORIES:Board of Trustees,Village
END:VEVENT
BEGIN:VEVENT
DTSTART;VALUE=DATE:20240508
DTEND;VALUE=DATE:20240509
DTSTAMP:20260422T185530
CREATED:20240326T154152Z
LAST-MODIFIED:20240326T154329Z
UID:10001534-1715126400-1715212799@villageofmillbrookny.com
SUMMARY:Village Hall Closed
DESCRIPTION:The Village Hall is closed every 2nd Wednesday of the month. If you need to drop off paperwork or payments\, you may place them in the dropbox to the left of the front door at 35 Merritt Ave.
URL:https://villageofmillbrookny.com/event/village-hall-closed-23/2024-05-08/
CATEGORIES:Village
ATTACH;FMTTYPE=image/jpeg:https://cdn.townweb.com/villageofmillbrookny.com/wp-content/uploads/2022/10/office-closed-2.jpg
END:VEVENT
BEGIN:VEVENT
DTSTART;VALUE=DATE:20240524
DTEND;VALUE=DATE:20240525
DTSTAMP:20260422T185530
CREATED:20240521T151325Z
LAST-MODIFIED:20240521T151325Z
UID:10001570-1716508800-1716595199@villageofmillbrookny.com
SUMMARY:Village Hall Closed
DESCRIPTION:
URL:https://villageofmillbrookny.com/event/village-hall-closed-24/
CATEGORIES:Village
END:VEVENT
BEGIN:VEVENT
DTSTART;VALUE=DATE:20240527
DTEND;VALUE=DATE:20240528
DTSTAMP:20260422T185530
CREATED:20240125T183725Z
LAST-MODIFIED:20240125T194348Z
UID:10001256-1716768000-1716854399@villageofmillbrookny.com
SUMMARY:Village Hall Closed for Memorial Day
DESCRIPTION:The Village Clerk’s office will be closed on Monday\, May 27th in observance of Memorial Day.
URL:https://villageofmillbrookny.com/event/village-hall-closed-14/
CATEGORIES:Village
ATTACH;FMTTYPE=image/jpeg:https://cdn.townweb.com/villageofmillbrookny.com/wp-content/uploads/2022/10/office-closed-2.jpg
END:VEVENT
BEGIN:VEVENT
DTSTART;TZID=America/New_York:20240527T110000
DTEND;TZID=America/New_York:20240527T120000
DTSTAMP:20260422T185530
CREATED:20240521T143947Z
LAST-MODIFIED:20240521T143947Z
UID:10001569-1716807600-1716811200@villageofmillbrookny.com
SUMMARY:Memorial Day Parade & Ceremony
DESCRIPTION:The annual VFW Memorial Day Parade down Franklin Avenue and celebration at Tribute Garden is scheduled for Monday\, May 27th at 11 am\, led by Millbrook VFW Post 9008 Commander Jeff Moseman.
URL:https://villageofmillbrookny.com/event/memorial-day-parade-ceremony-2/
CATEGORIES:Village
ATTACH;FMTTYPE=image/jpeg:https://cdn.townweb.com/villageofmillbrookny.com/wp-content/uploads/2024/05/memorial-day.jpg
END:VEVENT
BEGIN:VEVENT
DTSTART;VALUE=DATE:20240531
DTEND;VALUE=DATE:20240601
DTSTAMP:20260422T185530
CREATED:20240326T152355Z
LAST-MODIFIED:20240326T152418Z
UID:10001530-1717113600-1717199999@villageofmillbrookny.com
SUMMARY:Brush Pick-Up Ends
DESCRIPTION:Last day of daily brush pick-up is Friday\, May 31st \nAfter May 31st you need to make other arrangements to dispose of your brush. You may also compost your yard waste or bring it to the Town of Washington Transfer Station for disposal. Transfer station passes may be purchased at the Town of Washington Town Hall located at 10 Reservoir Drive. For more information contact the Town Clerk at (845) 677-3419.
URL:https://villageofmillbrookny.com/event/brush-pick-up-ends/
CATEGORIES:Highway Department,Village
ATTACH;FMTTYPE=image/jpeg:https://cdn.townweb.com/villageofmillbrookny.com/wp-content/uploads/2022/09/637297310582670000.jpg
END:VEVENT
BEGIN:VEVENT
DTSTART;VALUE=DATE:20240612
DTEND;VALUE=DATE:20240613
DTSTAMP:20260422T185530
CREATED:20240326T154152Z
LAST-MODIFIED:20240326T154329Z
UID:10001535-1718150400-1718236799@villageofmillbrookny.com
SUMMARY:Village Hall Closed
DESCRIPTION:The Village Hall is closed every 2nd Wednesday of the month. If you need to drop off paperwork or payments\, you may place them in the dropbox to the left of the front door at 35 Merritt Ave.
URL:https://villageofmillbrookny.com/event/village-hall-closed-23/2024-06-12/
CATEGORIES:Village
ATTACH;FMTTYPE=image/jpeg:https://cdn.townweb.com/villageofmillbrookny.com/wp-content/uploads/2022/10/office-closed-2.jpg
END:VEVENT
BEGIN:VEVENT
DTSTART;VALUE=DATE:20240619
DTEND;VALUE=DATE:20240620
DTSTAMP:20260422T185530
CREATED:20240125T183825Z
LAST-MODIFIED:20240617T181519Z
UID:10001257-1718755200-1718841599@villageofmillbrookny.com
SUMMARY:Village Hall OPEN for Juneteeth
DESCRIPTION:The Village Hall will be OPEN on JUNETEENTH\, WEDNESDAY\, JUNE 19th but will be CLOSED on FRIDAY\, JUNE 21st
URL:https://villageofmillbrookny.com/event/village-hall-closed-15/
CATEGORIES:Village
ATTACH;FMTTYPE=image/webp:https://cdn.townweb.com/villageofmillbrookny.com/wp-content/uploads/2023/06/JUNETEENTH-1.webp
END:VEVENT
BEGIN:VEVENT
DTSTART;VALUE=DATE:20240621
DTEND;VALUE=DATE:20240622
DTSTAMP:20260422T185530
CREATED:20240617T152853Z
LAST-MODIFIED:20240617T152853Z
UID:10001571-1718928000-1719014399@villageofmillbrookny.com
SUMMARY:Village Hall Closed
DESCRIPTION:
URL:https://villageofmillbrookny.com/event/village-hall-closed-25/
CATEGORIES:Village
ATTACH;FMTTYPE=image/jpeg:https://cdn.townweb.com/villageofmillbrookny.com/wp-content/uploads/2022/10/office-closed-2.jpg
END:VEVENT
BEGIN:VEVENT
DTSTART;VALUE=DATE:20240704
DTEND;VALUE=DATE:20240705
DTSTAMP:20260422T185530
CREATED:20240125T184023Z
LAST-MODIFIED:20240125T194311Z
UID:10001258-1720051200-1720137599@villageofmillbrookny.com
SUMMARY:Village Hall Closed for Independence Day
DESCRIPTION:The Village Clerk’s office will be closed on Thursday\, July 4th in observance of Independence Day.
URL:https://villageofmillbrookny.com/event/village-hall-closed-16/
CATEGORIES:Village
ATTACH;FMTTYPE=image/jpeg:https://cdn.townweb.com/villageofmillbrookny.com/wp-content/uploads/2023/06/closed-4th.jpg
END:VEVENT
BEGIN:VEVENT
DTSTART;TZID=America/New_York:20240704T200000
DTEND;TZID=America/New_York:20240704T200000
DTSTAMP:20260422T185530
CREATED:20240619T150534Z
LAST-MODIFIED:20240619T150534Z
UID:10001572-1720123200-1720123200@villageofmillbrookny.com
SUMMARY:Fireworks
DESCRIPTION:The annual fireworks display by the Millbrook Golf & Tennis Club is scheduled for July 4th (rain date July 5th).
URL:https://villageofmillbrookny.com/event/fireworks/
CATEGORIES:Village
ATTACH;FMTTYPE=image/jpeg:https://cdn.townweb.com/villageofmillbrookny.com/wp-content/uploads/2023/06/Watching_fireworks_facebook_sm.jpg
END:VEVENT
BEGIN:VEVENT
DTSTART;VALUE=DATE:20240710
DTEND;VALUE=DATE:20240711
DTSTAMP:20260422T185530
CREATED:20240326T154152Z
LAST-MODIFIED:20240326T154329Z
UID:10001536-1720569600-1720655999@villageofmillbrookny.com
SUMMARY:Village Hall Closed
DESCRIPTION:The Village Hall is closed every 2nd Wednesday of the month. If you need to drop off paperwork or payments\, you may place them in the dropbox to the left of the front door at 35 Merritt Ave.
URL:https://villageofmillbrookny.com/event/village-hall-closed-23/2024-07-10/
CATEGORIES:Village
ATTACH;FMTTYPE=image/jpeg:https://cdn.townweb.com/villageofmillbrookny.com/wp-content/uploads/2022/10/office-closed-2.jpg
END:VEVENT
BEGIN:VEVENT
DTSTART;TZID=America/New_York:20240711T180000
DTEND;TZID=America/New_York:20240711T235900
DTSTAMP:20260422T185530
CREATED:20240326T181615Z
LAST-MODIFIED:20240326T182913Z
UID:10001558-1720720800-1720742340@villageofmillbrookny.com
SUMMARY:Fire Dept Block Party
DESCRIPTION:Thursday\, July 11 – Friday\, July 12 – Saturday\, July 13\nWHERE: In front of the Millbrook Fire House | 20 Front St \nWHAT: Games\, Bounce House\, Gambling Wheels\, Bingo\, 50/50 Raffle\, Food\, Beverages and more! \nSATURDAY NIGHT: Fireman’s Parade @ 6 pm \nMore info TBA
URL:https://villageofmillbrookny.com/event/fire-dept-block-party/2024-07-11/
CATEGORIES:Village
ATTACH;FMTTYPE=image/png:https://cdn.townweb.com/villageofmillbrookny.com/wp-content/uploads/2024/03/MFD-Block-Party.png
END:VEVENT
BEGIN:VEVENT
DTSTART;TZID=America/New_York:20240712T180000
DTEND;TZID=America/New_York:20240712T235900
DTSTAMP:20260422T185530
CREATED:20240326T181615Z
LAST-MODIFIED:20240326T182913Z
UID:10001561-1720807200-1720828740@villageofmillbrookny.com
SUMMARY:Fire Dept Block Party
DESCRIPTION:Thursday\, July 11 – Friday\, July 12 – Saturday\, July 13\nWHERE: In front of the Millbrook Fire House | 20 Front St \nWHAT: Games\, Bounce House\, Gambling Wheels\, Bingo\, 50/50 Raffle\, Food\, Beverages and more! \nSATURDAY NIGHT: Fireman’s Parade @ 6 pm \nMore info TBA
URL:https://villageofmillbrookny.com/event/fire-dept-block-party/2024-07-12/
CATEGORIES:Village
ATTACH;FMTTYPE=image/png:https://cdn.townweb.com/villageofmillbrookny.com/wp-content/uploads/2024/03/MFD-Block-Party.png
END:VEVENT
BEGIN:VEVENT
DTSTART;TZID=America/New_York:20240713T180000
DTEND;TZID=America/New_York:20240713T235900
DTSTAMP:20260422T185530
CREATED:20240326T181615Z
LAST-MODIFIED:20240326T182913Z
UID:10001562-1720893600-1720915140@villageofmillbrookny.com
SUMMARY:Fire Dept Block Party
DESCRIPTION:Thursday\, July 11 – Friday\, July 12 – Saturday\, July 13\nWHERE: In front of the Millbrook Fire House | 20 Front St \nWHAT: Games\, Bounce House\, Gambling Wheels\, Bingo\, 50/50 Raffle\, Food\, Beverages and more! \nSATURDAY NIGHT: Fireman’s Parade @ 6 pm \nMore info TBA
URL:https://villageofmillbrookny.com/event/fire-dept-block-party/2024-07-13/
CATEGORIES:Village
ATTACH;FMTTYPE=image/png:https://cdn.townweb.com/villageofmillbrookny.com/wp-content/uploads/2024/03/MFD-Block-Party.png
END:VEVENT
BEGIN:VEVENT
DTSTART;VALUE=DATE:20240814
DTEND;VALUE=DATE:20240815
DTSTAMP:20260422T185530
CREATED:20240326T154152Z
LAST-MODIFIED:20240326T154329Z
UID:10001537-1723593600-1723679999@villageofmillbrookny.com
SUMMARY:Village Hall Closed
DESCRIPTION:The Village Hall is closed every 2nd Wednesday of the month. If you need to drop off paperwork or payments\, you may place them in the dropbox to the left of the front door at 35 Merritt Ave.
URL:https://villageofmillbrookny.com/event/village-hall-closed-23/2024-08-14/
CATEGORIES:Village
ATTACH;FMTTYPE=image/jpeg:https://cdn.townweb.com/villageofmillbrookny.com/wp-content/uploads/2022/10/office-closed-2.jpg
END:VEVENT
BEGIN:VEVENT
DTSTART;VALUE=DATE:20240902
DTEND;VALUE=DATE:20240903
DTSTAMP:20260422T185530
CREATED:20240125T184135Z
LAST-MODIFIED:20240125T194249Z
UID:10001259-1725235200-1725321599@villageofmillbrookny.com
SUMMARY:Village Hall Closed for Labor Day
DESCRIPTION:The Village Clerk’s office will be closed on Monday\, September 2nd in observance of Labor Day.
URL:https://villageofmillbrookny.com/event/village-hall-closed-17/
CATEGORIES:Village
ATTACH;FMTTYPE=image/jpeg:https://cdn.townweb.com/villageofmillbrookny.com/wp-content/uploads/2022/10/office-closed-2.jpg
END:VEVENT
BEGIN:VEVENT
DTSTART;VALUE=DATE:20240911
DTEND;VALUE=DATE:20240912
DTSTAMP:20260422T185530
CREATED:20240326T154152Z
LAST-MODIFIED:20240326T154329Z
UID:10001538-1726012800-1726099199@villageofmillbrookny.com
SUMMARY:Village Hall Closed
DESCRIPTION:The Village Hall is closed every 2nd Wednesday of the month. If you need to drop off paperwork or payments\, you may place them in the dropbox to the left of the front door at 35 Merritt Ave.
URL:https://villageofmillbrookny.com/event/village-hall-closed-23/2024-09-11/
CATEGORIES:Village
ATTACH;FMTTYPE=image/jpeg:https://cdn.townweb.com/villageofmillbrookny.com/wp-content/uploads/2022/10/office-closed-2.jpg
END:VEVENT
BEGIN:VEVENT
DTSTART;TZID=America/New_York:20240921T090000
DTEND;TZID=America/New_York:20240921T150000
DTSTAMP:20260422T185530
CREATED:20240401T164723Z
LAST-MODIFIED:20240918T210502Z
UID:10001565-1726909200-1726930800@villageofmillbrookny.com
SUMMARY:Millbrook Community Day
DESCRIPTION:For up to date schedule & info click here\n\n\n\nRain Plan:\nIn case of rain\, activities will be held at the Millbrook Library\, the Farmer’s Market on Merritt\, and Village Hall.
URL:https://villageofmillbrookny.com/event/millbrook-community-day/
CATEGORIES:Village
ATTACH;FMTTYPE=image/png:https://cdn.townweb.com/villageofmillbrookny.com/wp-content/uploads/2024/04/Community-Day-Poster-11x17-PDF_small.png
END:VEVENT
BEGIN:VEVENT
DTSTART;VALUE=DATE:20241001
DTEND;VALUE=DATE:20241002
DTSTAMP:20260422T185530
CREATED:20240326T153023Z
LAST-MODIFIED:20240927T105743Z
UID:10001531-1727740800-1727827199@villageofmillbrookny.com
SUMMARY:Leaf Pick-Up Begins
DESCRIPTION:Village of Millbrook Leaf Pick-Up\nOctober 1st – November 30th\nPlease place leaves curbside (not in sidewalk) in wind rows for collection. \nLEAVES ONLY – NO BRUSH\, GRASS OR DEBRIS\nMaterials other than leaves can damage our equipment and clog the drains.\nIf brush is mixed with leaves\, we reserve the right to remove and assess a removal fee to the property owner. \n\nLEAF PICK-UP NO-NO’S\nWe ask that you follow the below rules in order to avoid damage to our equipment & catch basins. \n\nDO NOT create a traffic hazard – Please do not place leaf piles behind obstacles such as trees\, cars\, fire hydrants\, light poles or anywhere they will interfere with traffic. Try to keep the height and width to a minimum. For safety reasons\, please do not allow your children to play in the piles that are placed by the road.\n\n\nDO NOT pile leaves on sidewalks –  Placing leaves or other materials in the sidewalk obstructs or otherwise interferes with the use thereof by the public.\n\n\nDO NOT pile leaves on storm catch basins – This can cause flooding situations and clog the storm drains.\n\n\nDO NOT put out brush or debris – Brush pick-up is provided from April 1st – May 31st. We reserve the right to remove brush or debris and will assess a removal fee to the property owner.\n\n\nDO NOT put out grass clippings – They are never eligible for curbside pick-up. During storms these materials find their way to catch basins and may cause backups in our system.\n\n\nDO NOT put dirt or sod in the street for removal – This is not allowed under any circumstance. This can cause costly repairs to the catch basins.\n\nLeaf pick-up is not an ongoing service offered throughout the year. You may compost yard waste or bring it to the Town of Washington Transfer Station for disposal. Transfer station passes may be purchased at the Town of Washington Town Hall located at 10 Reservoir Drive. For more information contact the Town Clerk at (845) 677-3419. \nFor more information or questions regarding pick-up please contact the Village of Millbrook Highway Department at 845-677-3022 or visit https://villageofmillbrookny.com/public-works/#leaf \n  \n 
URL:https://villageofmillbrookny.com/event/leaf-pick-up-begins-2/
CATEGORIES:Highway Department,Village
ATTACH;FMTTYPE=image/jpeg:https://cdn.townweb.com/villageofmillbrookny.com/wp-content/uploads/2022/09/leaves-in-street.jpg
END:VEVENT
BEGIN:VEVENT
DTSTART;VALUE=DATE:20241009
DTEND;VALUE=DATE:20241010
DTSTAMP:20260422T185530
CREATED:20240326T154152Z
LAST-MODIFIED:20240326T154329Z
UID:10001539-1728432000-1728518399@villageofmillbrookny.com
SUMMARY:Village Hall Closed
DESCRIPTION:The Village Hall is closed every 2nd Wednesday of the month. If you need to drop off paperwork or payments\, you may place them in the dropbox to the left of the front door at 35 Merritt Ave.
URL:https://villageofmillbrookny.com/event/village-hall-closed-23/2024-10-09/
CATEGORIES:Village
ATTACH;FMTTYPE=image/jpeg:https://cdn.townweb.com/villageofmillbrookny.com/wp-content/uploads/2022/10/office-closed-2.jpg
END:VEVENT
BEGIN:VEVENT
DTSTART;VALUE=DATE:20241014
DTEND;VALUE=DATE:20241015
DTSTAMP:20260422T185530
CREATED:20240125T184251Z
LAST-MODIFIED:20240125T194236Z
UID:10001260-1728864000-1728950399@villageofmillbrookny.com
SUMMARY:Village Hall Closed for Columbus Day
DESCRIPTION:The Village Clerk’s office will be closed on Monday\, October 14th in observance of Columbus Day.
URL:https://villageofmillbrookny.com/event/village-hall-closed-18/
CATEGORIES:Village
ATTACH;FMTTYPE=image/jpeg:https://cdn.townweb.com/villageofmillbrookny.com/wp-content/uploads/2022/10/office-closed-2.jpg
END:VEVENT
BEGIN:VEVENT
DTSTART;TZID=America/New_York:20241030T163000
DTEND;TZID=America/New_York:20241030T203000
DTSTAMP:20260422T185530
CREATED:20241030T112321Z
LAST-MODIFIED:20241030T112321Z
UID:10001602-1730305800-1730320200@villageofmillbrookny.com
SUMMARY:Trick-or-Treating
DESCRIPTION:
URL:https://villageofmillbrookny.com/event/trick-or-treating-2/
CATEGORIES:Village
ATTACH;FMTTYPE=image/jpeg:https://cdn.townweb.com/villageofmillbrookny.com/wp-content/uploads/2023/10/Trick-or-treat.jpg
END:VEVENT
BEGIN:VEVENT
DTSTART;VALUE=DATE:20241111
DTEND;VALUE=DATE:20241112
DTSTAMP:20260422T185530
CREATED:20240125T184522Z
LAST-MODIFIED:20240125T194221Z
UID:10001261-1731283200-1731369599@villageofmillbrookny.com
SUMMARY:Village Hall Closed for Veterans Day
DESCRIPTION:The Village Clerk’s office will be closed on Monday\, November 11th in observance of Veterans’ Day.
URL:https://villageofmillbrookny.com/event/village-hall-closed-19/
CATEGORIES:Village
ATTACH;FMTTYPE=image/jpeg:https://cdn.townweb.com/villageofmillbrookny.com/wp-content/uploads/2022/10/office-closed-2.jpg
END:VEVENT
BEGIN:VEVENT
DTSTART;TZID=America/New_York:20241111T110000
DTEND;TZID=America/New_York:20241111T110000
DTSTAMP:20260422T185530
CREATED:20241107T131426Z
LAST-MODIFIED:20241107T131426Z
UID:10001607-1731322800-1731322800@villageofmillbrookny.com
SUMMARY:Veterans Day Ceremony
DESCRIPTION:The Millbrook Veterans Day Ceremony hosted by VFW Post 9008 will take place at 11:00 AM on November 11 on the Veterans Green across the street from the Millbrook Firehouse. If there is inclement weather the ceremony will take place inside of the firehouse.
URL:https://villageofmillbrookny.com/event/veterans-day-ceremony/
CATEGORIES:Village
ATTACH;FMTTYPE=image/png:https://cdn.townweb.com/villageofmillbrookny.com/wp-content/uploads/2024/11/Veterans-Day-Download-PNG-Image.png
END:VEVENT
BEGIN:VEVENT
DTSTART;VALUE=DATE:20241113
DTEND;VALUE=DATE:20241114
DTSTAMP:20260422T185530
CREATED:20240326T154152Z
LAST-MODIFIED:20240326T154329Z
UID:10001540-1731456000-1731542399@villageofmillbrookny.com
SUMMARY:Village Hall Closed
DESCRIPTION:The Village Hall is closed every 2nd Wednesday of the month. If you need to drop off paperwork or payments\, you may place them in the dropbox to the left of the front door at 35 Merritt Ave.
URL:https://villageofmillbrookny.com/event/village-hall-closed-23/2024-11-13/
CATEGORIES:Village
ATTACH;FMTTYPE=image/jpeg:https://cdn.townweb.com/villageofmillbrookny.com/wp-content/uploads/2022/10/office-closed-2.jpg
END:VEVENT
BEGIN:VEVENT
DTSTART;TZID=America/New_York:20241119T090000
DTEND;TZID=America/New_York:20241119T160000
DTSTAMP:20260422T185530
CREATED:20241115T121556Z
LAST-MODIFIED:20241115T121556Z
UID:10001615-1732006800-1732032000@villageofmillbrookny.com
SUMMARY:Fire Hydrant Replacement
DESCRIPTION:On Tuesday\, November 19th\, VRI will be replacing a fire hydrant on FRANKLIN AVE at the intersection of FRIENDLY LN.The work is planned to be done between 9 AM and 4 PM. \nThe water shut down will ONLY affect residents on theNORTH SIDE of FRANKLIN AVE from MAPLE AVE to CHURCH ST and PILGRIM LN. \nIn order to accomplish this work safely the water will need to be shut down for a period of time. The water shut down will be minimized as much as possible. \nAfter the work is completed the water may be dirty for a short period. We apologize for any inconvenience. If you have any questions or concerns\, please call VRI at 845-677-3839.
URL:https://villageofmillbrookny.com/event/fire-hydrant-replacement/
CATEGORIES:Village
ATTACH;FMTTYPE=image/jpeg:https://cdn.townweb.com/villageofmillbrookny.com/wp-content/uploads/2022/09/Fire-Hydrant-1.jpg
END:VEVENT
END:VCALENDAR