BEGIN:VCALENDAR
VERSION:2.0
PRODID:-//Village of Millbrook - ECPv6.15.17.1//NONSGML v1.0//EN
CALSCALE:GREGORIAN
METHOD:PUBLISH
X-WR-CALNAME:Village of Millbrook
X-ORIGINAL-URL:https://villageofmillbrookny.com
X-WR-CALDESC:Events for Village of Millbrook
REFRESH-INTERVAL;VALUE=DURATION:PT1H
X-Robots-Tag:noindex
X-PUBLISHED-TTL:PT1H
BEGIN:VTIMEZONE
TZID:America/New_York
BEGIN:DAYLIGHT
TZOFFSETFROM:-0500
TZOFFSETTO:-0400
TZNAME:EDT
DTSTART:20240310T070000
END:DAYLIGHT
BEGIN:STANDARD
TZOFFSETFROM:-0400
TZOFFSETTO:-0500
TZNAME:EST
DTSTART:20241103T060000
END:STANDARD
BEGIN:DAYLIGHT
TZOFFSETFROM:-0500
TZOFFSETTO:-0400
TZNAME:EDT
DTSTART:20250309T070000
END:DAYLIGHT
BEGIN:STANDARD
TZOFFSETFROM:-0400
TZOFFSETTO:-0500
TZNAME:EST
DTSTART:20251102T060000
END:STANDARD
BEGIN:DAYLIGHT
TZOFFSETFROM:-0500
TZOFFSETTO:-0400
TZNAME:EDT
DTSTART:20260308T070000
END:DAYLIGHT
BEGIN:STANDARD
TZOFFSETFROM:-0400
TZOFFSETTO:-0500
TZNAME:EST
DTSTART:20261101T060000
END:STANDARD
END:VTIMEZONE
BEGIN:VEVENT
DTSTART;VALUE=DATE:20250217
DTEND;VALUE=DATE:20250218
DTSTAMP:20260421T174942
CREATED:20250206T113330Z
LAST-MODIFIED:20250206T113424Z
UID:10001627-1739750400-1739836799@villageofmillbrookny.com
SUMMARY:Village Hall Closed for President's Day
DESCRIPTION:The Village Clerk’s office will be closed on Monday\, February 17th in observance of President’s Day.
URL:https://villageofmillbrookny.com/event/village-hall-closed-26/
CATEGORIES:Village
ATTACH;FMTTYPE=image/jpeg:https://cdn.townweb.com/villageofmillbrookny.com/wp-content/uploads/2022/10/office-closed-2.jpg
END:VEVENT
BEGIN:VEVENT
DTSTART;VALUE=DATE:20250312
DTEND;VALUE=DATE:20250313
DTSTAMP:20260421T174942
CREATED:20240326T154152Z
LAST-MODIFIED:20240326T154329Z
UID:10001544-1741737600-1741823999@villageofmillbrookny.com
SUMMARY:Village Hall Closed
DESCRIPTION:The Village Hall is closed every 2nd Wednesday of the month. If you need to drop off paperwork or payments\, you may place them in the dropbox to the left of the front door at 35 Merritt Ave.
URL:https://villageofmillbrookny.com/event/village-hall-closed-23/2025-03-12/
CATEGORIES:Village
ATTACH;FMTTYPE=image/jpeg:https://cdn.townweb.com/villageofmillbrookny.com/wp-content/uploads/2022/10/office-closed-2.jpg
END:VEVENT
BEGIN:VEVENT
DTSTART;VALUE=DATE:20250409
DTEND;VALUE=DATE:20250410
DTSTAMP:20260421T174942
CREATED:20240326T154152Z
LAST-MODIFIED:20240326T154329Z
UID:10001545-1744156800-1744243199@villageofmillbrookny.com
SUMMARY:Village Hall Closed
DESCRIPTION:The Village Hall is closed every 2nd Wednesday of the month. If you need to drop off paperwork or payments\, you may place them in the dropbox to the left of the front door at 35 Merritt Ave.
URL:https://villageofmillbrookny.com/event/village-hall-closed-23/2025-04-09/
CATEGORIES:Village
ATTACH;FMTTYPE=image/jpeg:https://cdn.townweb.com/villageofmillbrookny.com/wp-content/uploads/2022/10/office-closed-2.jpg
END:VEVENT
BEGIN:VEVENT
DTSTART;TZID=America/New_York:20250417T090000
DTEND;TZID=America/New_York:20250417T090000
DTSTAMP:20260421T174942
CREATED:20250410T143226Z
LAST-MODIFIED:20250410T143226Z
UID:10001642-1744880400-1744880400@villageofmillbrookny.com
SUMMARY:Honor A Veteran Ceremony
DESCRIPTION:SERINO ANNOUNCES FIRSTHONOR-A-VETERAN CEREMONY \nThursday\, April 17\, 2025 at 9:00 AM \nWHO: Dutchess County Executive Sue Serino and the Dutchess County Office of Veterans Affairs \nWHAT: First Honor-a-Veteran Ceremony honoring U.S. Army First Lieutenant Andrew Doro \nWHEN: Thursday\, April 17\, 2025 at 9:00 AM \nWHERE: Village of Millbrook Hall\, 35 Merritt Avenue\, Millbrook\, NY 12545 \n  \nThe ceremony will take place on Thursday\, April 17\, 2025 at 9 AM at the Village of Millbrook Hall and is a part of Dutchess County’s recently launched ‘Honor-A-Veteran’ program – a monthly tribute to local veterans who have passed away\, having served our nation with distinction. \n 
URL:https://villageofmillbrookny.com/event/honor-a-veteran-ceremony/
CATEGORIES:Village
ATTACH;FMTTYPE=image/png:https://cdn.townweb.com/villageofmillbrookny.com/wp-content/uploads/2025/04/honor-a-veteran-poster-facebook-post-1_original.png
END:VEVENT
BEGIN:VEVENT
DTSTART;TZID=America/New_York:20250425T100000
DTEND;TZID=America/New_York:20250425T103000
DTSTAMP:20260421T174942
CREATED:20250417T162003Z
LAST-MODIFIED:20250417T162003Z
UID:10001654-1745575200-1745577000@villageofmillbrookny.com
SUMMARY:Arbor Day Ceremony
DESCRIPTION:Arbor Day Celebration\n\n\nApril 25th at 10:00 am – Elm Drive Elementary playground \nOn Friday\, April 25th at 10 am\, there will be a tree planted by the Village of Millbrook to celebrate Arbor Day. The tree site is near the playground by Elm Drive Elementary School. The public is invited to join us. \n2025 Arbor Day Proclamation \n 
URL:https://villageofmillbrookny.com/event/arbor-day-ceremony/
CATEGORIES:Village
ATTACH;FMTTYPE=image/png:https://villageofmillbrookny.com/wp-content/uploads/2024/04/Yardsign.png
END:VEVENT
BEGIN:VEVENT
DTSTART;TZID=America/New_York:20250428T090000
DTEND;TZID=America/New_York:20250428T160000
DTSTAMP:20260421T174942
CREATED:20250417T123950Z
LAST-MODIFIED:20250417T123950Z
UID:10001649-1745830800-1745856000@villageofmillbrookny.com
SUMMARY:Fire Hydrant Flushing
DESCRIPTION:Hydrant Flushing will be conducted Monday\, April 28th through Friday\, May 2nd. \nFlushing is essential for pipe maintenance. It is common to experience turbidity (cloudy water) following the procedure. Run your faucets for a few minutes to clear silt from your lines and check your washing machine and shower before using. \nIf you have any questions please call the system operators VRI Environmental Services at 845-677-3839.
URL:https://villageofmillbrookny.com/event/fire-hydrant-flushing/2025-04-28/
CATEGORIES:Village
ATTACH;FMTTYPE=image/jpeg:https://cdn.townweb.com/villageofmillbrookny.com/wp-content/uploads/2022/09/Fire-Hydrant-1.jpg
END:VEVENT
BEGIN:VEVENT
DTSTART;TZID=America/New_York:20250429T090000
DTEND;TZID=America/New_York:20250429T160000
DTSTAMP:20260421T174942
CREATED:20250417T123950Z
LAST-MODIFIED:20250417T123950Z
UID:10001650-1745917200-1745942400@villageofmillbrookny.com
SUMMARY:Fire Hydrant Flushing
DESCRIPTION:Hydrant Flushing will be conducted Monday\, April 28th through Friday\, May 2nd. \nFlushing is essential for pipe maintenance. It is common to experience turbidity (cloudy water) following the procedure. Run your faucets for a few minutes to clear silt from your lines and check your washing machine and shower before using. \nIf you have any questions please call the system operators VRI Environmental Services at 845-677-3839.
URL:https://villageofmillbrookny.com/event/fire-hydrant-flushing/2025-04-29/
CATEGORIES:Village
ATTACH;FMTTYPE=image/jpeg:https://cdn.townweb.com/villageofmillbrookny.com/wp-content/uploads/2022/09/Fire-Hydrant-1.jpg
END:VEVENT
BEGIN:VEVENT
DTSTART;TZID=America/New_York:20250430T090000
DTEND;TZID=America/New_York:20250430T160000
DTSTAMP:20260421T174942
CREATED:20250417T123950Z
LAST-MODIFIED:20250417T123950Z
UID:10001651-1746003600-1746028800@villageofmillbrookny.com
SUMMARY:Fire Hydrant Flushing
DESCRIPTION:Hydrant Flushing will be conducted Monday\, April 28th through Friday\, May 2nd. \nFlushing is essential for pipe maintenance. It is common to experience turbidity (cloudy water) following the procedure. Run your faucets for a few minutes to clear silt from your lines and check your washing machine and shower before using. \nIf you have any questions please call the system operators VRI Environmental Services at 845-677-3839.
URL:https://villageofmillbrookny.com/event/fire-hydrant-flushing/2025-04-30/
CATEGORIES:Village
ATTACH;FMTTYPE=image/jpeg:https://cdn.townweb.com/villageofmillbrookny.com/wp-content/uploads/2022/09/Fire-Hydrant-1.jpg
END:VEVENT
BEGIN:VEVENT
DTSTART;TZID=America/New_York:20250501T090000
DTEND;TZID=America/New_York:20250501T160000
DTSTAMP:20260421T174942
CREATED:20250417T123950Z
LAST-MODIFIED:20250417T123950Z
UID:10001652-1746090000-1746115200@villageofmillbrookny.com
SUMMARY:Fire Hydrant Flushing
DESCRIPTION:Hydrant Flushing will be conducted Monday\, April 28th through Friday\, May 2nd. \nFlushing is essential for pipe maintenance. It is common to experience turbidity (cloudy water) following the procedure. Run your faucets for a few minutes to clear silt from your lines and check your washing machine and shower before using. \nIf you have any questions please call the system operators VRI Environmental Services at 845-677-3839.
URL:https://villageofmillbrookny.com/event/fire-hydrant-flushing/2025-05-01/
CATEGORIES:Village
ATTACH;FMTTYPE=image/jpeg:https://cdn.townweb.com/villageofmillbrookny.com/wp-content/uploads/2022/09/Fire-Hydrant-1.jpg
END:VEVENT
BEGIN:VEVENT
DTSTART;TZID=America/New_York:20250502T090000
DTEND;TZID=America/New_York:20250502T160000
DTSTAMP:20260421T174942
CREATED:20250417T123950Z
LAST-MODIFIED:20250417T123950Z
UID:10001653-1746176400-1746201600@villageofmillbrookny.com
SUMMARY:Fire Hydrant Flushing
DESCRIPTION:Hydrant Flushing will be conducted Monday\, April 28th through Friday\, May 2nd. \nFlushing is essential for pipe maintenance. It is common to experience turbidity (cloudy water) following the procedure. Run your faucets for a few minutes to clear silt from your lines and check your washing machine and shower before using. \nIf you have any questions please call the system operators VRI Environmental Services at 845-677-3839.
URL:https://villageofmillbrookny.com/event/fire-hydrant-flushing/2025-05-02/
CATEGORIES:Village
ATTACH;FMTTYPE=image/jpeg:https://cdn.townweb.com/villageofmillbrookny.com/wp-content/uploads/2022/09/Fire-Hydrant-1.jpg
END:VEVENT
BEGIN:VEVENT
DTSTART;TZID=America/New_York:20250505T000000
DTEND;TZID=America/New_York:20250505T060000
DTSTAMP:20260421T174942
CREATED:20250411T134038Z
LAST-MODIFIED:20250508T181818Z
UID:10001643-1746403200-1746424800@villageofmillbrookny.com
SUMMARY:Street Sweeping - No Parking on Street 12 am - 6 am
DESCRIPTION:Village Street Sweeping has a tentative date of 5/5/25. There will be NO PARKING on the streets starting at midnight of the 5th and ending at 6 am.
URL:https://villageofmillbrookny.com/event/street-sweeping-no-parking-on-street-12-am-6-am/
CATEGORIES:Village
ATTACH;FMTTYPE=image/png:https://cdn.townweb.com/villageofmillbrookny.com/wp-content/uploads/2025/05/Street-Sweeping.png
END:VEVENT
BEGIN:VEVENT
DTSTART;TZID=America/New_York:20250512T000000
DTEND;TZID=America/New_York:20250512T060000
DTSTAMP:20260421T174942
CREATED:20250507T141458Z
LAST-MODIFIED:20250508T181737Z
UID:10001657-1747008000-1747029600@villageofmillbrookny.com
SUMMARY:Street Sweeping - No Parking on Street 12 am - 6 am
DESCRIPTION:PLEASE BE ADVISED that the village streets will be swept during theearly morning hours of Monday\, May 12\, 2025. \nIn order to accomplish this there will be NO PARKING on all Village streetseffective MONDAY\, MAY 12\, from 12:00 AM to 6:00 AM. \nIf you have questions\, please call the Department of Public Works 845-677-3022. \nThank you for your cooperation.
URL:https://villageofmillbrookny.com/event/street-sweeping-no-parking-on-street-12-am-6-am-2/
CATEGORIES:Village
ATTACH;FMTTYPE=image/png:https://cdn.townweb.com/villageofmillbrookny.com/wp-content/uploads/2025/05/Street-Sweeping.png
END:VEVENT
BEGIN:VEVENT
DTSTART;VALUE=DATE:20250514
DTEND;VALUE=DATE:20250515
DTSTAMP:20260421T174942
CREATED:20240326T154152Z
LAST-MODIFIED:20240326T154329Z
UID:10001546-1747180800-1747267199@villageofmillbrookny.com
SUMMARY:Village Hall Closed
DESCRIPTION:The Village Hall is closed every 2nd Wednesday of the month. If you need to drop off paperwork or payments\, you may place them in the dropbox to the left of the front door at 35 Merritt Ave.
URL:https://villageofmillbrookny.com/event/village-hall-closed-23/2025-05-14/
CATEGORIES:Village
ATTACH;FMTTYPE=image/jpeg:https://cdn.townweb.com/villageofmillbrookny.com/wp-content/uploads/2022/10/office-closed-2.jpg
END:VEVENT
BEGIN:VEVENT
DTSTART;VALUE=DATE:20250526
DTEND;VALUE=DATE:20250527
DTSTAMP:20260421T174942
CREATED:20250508T175432Z
LAST-MODIFIED:20250508T181554Z
UID:10001671-1748217600-1748303999@villageofmillbrookny.com
SUMMARY:Village Hall Closed for Memorial Day
DESCRIPTION:The Village Clerk’s Office will be closed on Monday\, May 26\, 2025 in observance of Memorial Day.
URL:https://villageofmillbrookny.com/event/village-hall-closed-27/
CATEGORIES:Village
ATTACH;FMTTYPE=image/jpeg:https://cdn.townweb.com/villageofmillbrookny.com/wp-content/uploads/2024/05/closed-memorial-day.jpg
END:VEVENT
BEGIN:VEVENT
DTSTART;VALUE=DATE:20250611
DTEND;VALUE=DATE:20250612
DTSTAMP:20260421T174942
CREATED:20240326T154152Z
LAST-MODIFIED:20240326T154329Z
UID:10001547-1749600000-1749686399@villageofmillbrookny.com
SUMMARY:Village Hall Closed
DESCRIPTION:The Village Hall is closed every 2nd Wednesday of the month. If you need to drop off paperwork or payments\, you may place them in the dropbox to the left of the front door at 35 Merritt Ave.
URL:https://villageofmillbrookny.com/event/village-hall-closed-23/2025-06-11/
CATEGORIES:Village
ATTACH;FMTTYPE=image/jpeg:https://cdn.townweb.com/villageofmillbrookny.com/wp-content/uploads/2022/10/office-closed-2.jpg
END:VEVENT
BEGIN:VEVENT
DTSTART;VALUE=DATE:20250619
DTEND;VALUE=DATE:20250620
DTSTAMP:20260421T174942
CREATED:20250502T153503Z
LAST-MODIFIED:20250502T153503Z
UID:10001655-1750291200-1750377599@villageofmillbrookny.com
SUMMARY:Village Hall Closed for Juneteenth
DESCRIPTION:The Village clerk’s office will be closed on Thursday\, June 19th in observance of Juneteenth.
URL:https://villageofmillbrookny.com/event/village-hall-closed-for-juneteenth/
CATEGORIES:Village
ATTACH;FMTTYPE=image/webp:https://cdn.townweb.com/villageofmillbrookny.com/wp-content/uploads/2023/06/JUNETEENTH-1.webp
END:VEVENT
BEGIN:VEVENT
DTSTART;VALUE=DATE:20250704
DTEND;VALUE=DATE:20250705
DTSTAMP:20260421T174942
CREATED:20250508T175717Z
LAST-MODIFIED:20250508T181538Z
UID:10001672-1751587200-1751673599@villageofmillbrookny.com
SUMMARY:Village Hall Closed for Independence Day
DESCRIPTION:The Village Clerk’s Office will be closed on Friday\, July 4\, 2025 in observance of Independence Day.
URL:https://villageofmillbrookny.com/event/village-hall-closed-28/
CATEGORIES:Village
ATTACH;FMTTYPE=image/jpeg:https://cdn.townweb.com/villageofmillbrookny.com/wp-content/uploads/2023/06/closed-4th.jpg
END:VEVENT
BEGIN:VEVENT
DTSTART;TZID=America/New_York:20250707T080000
DTEND;TZID=America/New_York:20250711T160000
DTSTAMP:20260421T174942
CREATED:20250701T181500Z
LAST-MODIFIED:20250701T181523Z
UID:10001689-1751875200-1752249600@villageofmillbrookny.com
SUMMARY:Sewer Main Flushing & Cleaning
DESCRIPTION:Sewer main flushing and cleaning will be conducted on Monday July 7th through Friday July 11th. \nThe work is being done only on the following streets: \n\nAnson Avenue\nCiferri Drive\nHillside Avenue\nWeatherford Lane\nExmoore Lane\nBennett Common\nCarroll Boulevard\nHalcyon Road\nMaple Hill Drive\n\nFlushing is essential for pipe maintenance. As a precaution you should close all toilet seat lids. \nIf you experience any problems or have any questions\, please call the system operators VRI Environmental Services at 845-677-3839.
URL:https://villageofmillbrookny.com/event/sewer-main-flushing-cleaning/
CATEGORIES:Village
END:VEVENT
BEGIN:VEVENT
DTSTART;VALUE=DATE:20250709
DTEND;VALUE=DATE:20250710
DTSTAMP:20260421T174942
CREATED:20240326T154152Z
LAST-MODIFIED:20240326T154329Z
UID:10001548-1752019200-1752105599@villageofmillbrookny.com
SUMMARY:Village Hall Closed
DESCRIPTION:The Village Hall is closed every 2nd Wednesday of the month. If you need to drop off paperwork or payments\, you may place them in the dropbox to the left of the front door at 35 Merritt Ave.
URL:https://villageofmillbrookny.com/event/village-hall-closed-23/2025-07-09/
CATEGORIES:Village
ATTACH;FMTTYPE=image/jpeg:https://cdn.townweb.com/villageofmillbrookny.com/wp-content/uploads/2022/10/office-closed-2.jpg
END:VEVENT
BEGIN:VEVENT
DTSTART;VALUE=DATE:20250714
DTEND;VALUE=DATE:20250715
DTSTAMP:20260421T174942
CREATED:20250701T162357Z
LAST-MODIFIED:20250701T162357Z
UID:10001686-1752451200-1752537599@villageofmillbrookny.com
SUMMARY:Summer Brush Pick-Up Day
DESCRIPTION:During the months of July\, August & September village residents may place brush curbside (10) days prior to the second Monday of the month. \nSummer Brush Pick-Up Days: \n\nMonday\, July 14\nMonday\, August 11\nMonday\, September 8\n\nBrush Pick-Up Does Not Include Yard Clearing\, Tree Removal or Leaf Piles \nBRUSH: Tree and bush branches that are less than 4 inches in diameter and less than 8 feet in length. Please DO NOT mix with leaves\, grass or dirt. \nBRUSH LIMIT: (1) pile per parcel no larger than 10 foot long\, 6 foot wide\, 4 foot high. Anything in excess of this will not be picked up and subject to a fine. \nBRUSH PLACEMENT: Place brush neatly alongside the street – NEVER PUT BRUSH IN THE STREET! \nFor more information visit: https://villageofmillbrookny.com/public-works/#brush \nQuestions? Contact the Public Works Department at 845-677-3022
URL:https://villageofmillbrookny.com/event/summer-brush-pick-up-day/
CATEGORIES:Highway Department,Village
ORGANIZER;CN="Public Works Department":MAILTO:millbrookhighway@gmail.com
END:VEVENT
BEGIN:VEVENT
DTSTART;TZID=America/New_York:20250725T060000
DTEND;TZID=America/New_York:20250725T170000
DTSTAMP:20260421T174942
CREATED:20250721T113431Z
LAST-MODIFIED:20250721T113431Z
UID:10001693-1753423200-1753462800@villageofmillbrookny.com
SUMMARY:Washington Avenue Closed
DESCRIPTION:DUE TO ROAD CONSTRUCTION\nNO PARKING\nNO THRU TRAFFIC\nWASHINGTON AVE\nFriday\, July 25\n6:00 am – 5:00 pm\nViolators will be subject to being ticketed and towed \nThank you for your cooperation!\nVillage of Millbrook Public Works & Police Department
URL:https://villageofmillbrookny.com/event/washington-avenue-closed/
CATEGORIES:Highway Department,Village
ATTACH;FMTTYPE=image/png:https://cdn.townweb.com/villageofmillbrookny.com/wp-content/uploads/2024/09/road-closure-2.png
END:VEVENT
BEGIN:VEVENT
DTSTART;TZID=America/New_York:20250728T060000
DTEND;TZID=America/New_York:20250728T170000
DTSTAMP:20260421T174942
CREATED:20250721T113136Z
LAST-MODIFIED:20250721T113136Z
UID:10001692-1753682400-1753722000@villageofmillbrookny.com
SUMMARY:Washington Avenue Closed
DESCRIPTION:DUE TO ROAD CONSTRUCTION\nNO PARKING\nNO THRU TRAFFIC\nWASHINGTON AVE\nMonday\, July 28\n6:00 am – 5:00 pm\nViolators will be subject to being ticketed and towed \nThank you for your cooperation!\nVillage of Millbrook Public Works & Police Department
URL:https://villageofmillbrookny.com/event/washington-avenue-closed-2/
CATEGORIES:Highway Department,Village
ATTACH;FMTTYPE=image/png:https://cdn.townweb.com/villageofmillbrookny.com/wp-content/uploads/2024/09/road-closure-2.png
END:VEVENT
BEGIN:VEVENT
DTSTART;VALUE=DATE:20250811
DTEND;VALUE=DATE:20250812
DTSTAMP:20260421T174942
CREATED:20250701T162650Z
LAST-MODIFIED:20250701T162650Z
UID:10001687-1754870400-1754956799@villageofmillbrookny.com
SUMMARY:Summer Brush Pick-Up Day
DESCRIPTION:During the months of July\, August & September village residents may place brush curbside (10) days prior to the second Monday of the month. \nSummer Brush Pick-Up Days: \n\nMonday\, July 14\nMonday\, August 11\nMonday\, September 8\n\nBrush Pick-Up Does Not Include Yard Clearing\, Tree Removal or Leaf Piles \nBRUSH: Tree and bush branches that are less than 4 inches in diameter and less than 8 feet in length. Please DO NOT mix with leaves\, grass or dirt. \nBRUSH LIMIT: (1) pile per parcel no larger than 10 foot long\, 6 foot wide\, 4 foot high. Anything in excess of this will not be picked up and subject to a fine. \nBRUSH PLACEMENT: Place brush neatly alongside the street – NEVER PUT BRUSH IN THE STREET! \nFor more information visit: https://villageofmillbrookny.com/public-works/#brush \nQuestions? Contact the Public Works Department at 845-677-3022
URL:https://villageofmillbrookny.com/event/summer-brush-pick-up-day-2/
CATEGORIES:Highway Department,Village
ORGANIZER;CN="Public Works Department":MAILTO:millbrookhighway@gmail.com
END:VEVENT
BEGIN:VEVENT
DTSTART;VALUE=DATE:20250813
DTEND;VALUE=DATE:20250814
DTSTAMP:20260421T174942
CREATED:20240326T154152Z
LAST-MODIFIED:20240326T154329Z
UID:10001549-1755043200-1755129599@villageofmillbrookny.com
SUMMARY:Village Hall Closed
DESCRIPTION:The Village Hall is closed every 2nd Wednesday of the month. If you need to drop off paperwork or payments\, you may place them in the dropbox to the left of the front door at 35 Merritt Ave.
URL:https://villageofmillbrookny.com/event/village-hall-closed-23/2025-08-13/
CATEGORIES:Village
ATTACH;FMTTYPE=image/jpeg:https://cdn.townweb.com/villageofmillbrookny.com/wp-content/uploads/2022/10/office-closed-2.jpg
END:VEVENT
BEGIN:VEVENT
DTSTART;VALUE=DATE:20250901
DTEND;VALUE=DATE:20250902
DTSTAMP:20260421T174942
CREATED:20250508T175915Z
LAST-MODIFIED:20250508T181515Z
UID:10001673-1756684800-1756771199@villageofmillbrookny.com
SUMMARY:Village Hall Closed for Labor Day
DESCRIPTION:The Village Clerk’s Office will be closed on Monday\, September 1\, 2025 in observance of Labor Day.
URL:https://villageofmillbrookny.com/event/village-hall-closed-29/
CATEGORIES:Village
ATTACH;FMTTYPE=image/png:https://cdn.townweb.com/villageofmillbrookny.com/wp-content/uploads/2024/08/closed-labor-day.png
END:VEVENT
BEGIN:VEVENT
DTSTART;VALUE=DATE:20250908
DTEND;VALUE=DATE:20250909
DTSTAMP:20260421T174942
CREATED:20250701T162726Z
LAST-MODIFIED:20250701T162726Z
UID:10001688-1757289600-1757375999@villageofmillbrookny.com
SUMMARY:Summer Brush Pick-Up Day
DESCRIPTION:During the months of July\, August & September village residents may place brush curbside (10) days prior to the second Monday of the month. \nSummer Brush Pick-Up Days: \n\nMonday\, July 14\nMonday\, August 11\nMonday\, September 8\n\nBrush Pick-Up Does Not Include Yard Clearing\, Tree Removal or Leaf Piles \nBRUSH: Tree and bush branches that are less than 4 inches in diameter and less than 8 feet in length. Please DO NOT mix with leaves\, grass or dirt. \nBRUSH LIMIT: (1) pile per parcel no larger than 10 foot long\, 6 foot wide\, 4 foot high. Anything in excess of this will not be picked up and subject to a fine. \nBRUSH PLACEMENT: Place brush neatly alongside the street – NEVER PUT BRUSH IN THE STREET! \nFor more information visit: https://villageofmillbrookny.com/public-works/#brush \nQuestions? Contact the Public Works Department at 845-677-3022
URL:https://villageofmillbrookny.com/event/summer-brush-pick-up-day-3/
CATEGORIES:Highway Department,Village
ORGANIZER;CN="Public Works Department":MAILTO:millbrookhighway@gmail.com
END:VEVENT
BEGIN:VEVENT
DTSTART;VALUE=DATE:20250910
DTEND;VALUE=DATE:20250911
DTSTAMP:20260421T174942
CREATED:20240326T154152Z
LAST-MODIFIED:20240326T154329Z
UID:10001550-1757462400-1757548799@villageofmillbrookny.com
SUMMARY:Village Hall Closed
DESCRIPTION:The Village Hall is closed every 2nd Wednesday of the month. If you need to drop off paperwork or payments\, you may place them in the dropbox to the left of the front door at 35 Merritt Ave.
URL:https://villageofmillbrookny.com/event/village-hall-closed-23/2025-09-10/
CATEGORIES:Village
ATTACH;FMTTYPE=image/jpeg:https://cdn.townweb.com/villageofmillbrookny.com/wp-content/uploads/2022/10/office-closed-2.jpg
END:VEVENT
BEGIN:VEVENT
DTSTART;VALUE=DATE:20250915
DTEND;VALUE=DATE:20250920
DTSTAMP:20260421T174942
CREATED:20250827T181846Z
LAST-MODIFIED:20250827T181846Z
UID:10001723-1757894400-1758326399@villageofmillbrookny.com
SUMMARY:Clerk's Office Closed - NYCOM
DESCRIPTION:The Village Clerk’s Office will be closed from Monday\, September 15 to Friday\, September 19 due to a week long conference. We will be checking email throughout the week so if you need assistance\, please email clerk@villageofmillbrookny.com.
URL:https://villageofmillbrookny.com/event/clerks-office-closed-nycom/
CATEGORIES:Village
END:VEVENT
BEGIN:VEVENT
DTSTART;TZID=America/New_York:20250920T090000
DTEND;TZID=America/New_York:20250920T150000
DTSTAMP:20260421T174942
CREATED:20250808T114153Z
LAST-MODIFIED:20250818T161714Z
UID:10001711-1758358800-1758380400@villageofmillbrookny.com
SUMMARY:Millbrook Community Day
DESCRIPTION:The Millbrook Business Association\, in collaboration with the Village of Millbrook\, Town of Washington\, Millbrook Arts Group\, Millbrook Community Partnership\, Millbrook Educational Foundation\, Millbrook Farmers and Makers Market\, Millbrook Fire Department\, Millbrook Historical Society\, Millbrook Library\, and Millbrook Rotary\, is excited to announce that this year’s Millbrook Community Day will take place on Saturday\, September 20th. \nTo become a sponsor\, community partner\, volunteer … please visit https://www.millbrooknewyork.com/community-day-2025 \nThe page will get updated with more information over the coming weeks.
URL:https://villageofmillbrookny.com/event/millbrook-community-day-2/
CATEGORIES:Village
ATTACH;FMTTYPE=image/png:https://cdn.townweb.com/villageofmillbrookny.com/wp-content/uploads/2025/08/community-day-2025.png
END:VEVENT
BEGIN:VEVENT
DTSTART;VALUE=DATE:20251008
DTEND;VALUE=DATE:20251009
DTSTAMP:20260421T174942
CREATED:20240326T154152Z
LAST-MODIFIED:20240326T154329Z
UID:10001551-1759881600-1759967999@villageofmillbrookny.com
SUMMARY:Village Hall Closed
DESCRIPTION:The Village Hall is closed every 2nd Wednesday of the month. If you need to drop off paperwork or payments\, you may place them in the dropbox to the left of the front door at 35 Merritt Ave.
URL:https://villageofmillbrookny.com/event/village-hall-closed-23/2025-10-08/
CATEGORIES:Village
ATTACH;FMTTYPE=image/jpeg:https://cdn.townweb.com/villageofmillbrookny.com/wp-content/uploads/2022/10/office-closed-2.jpg
END:VEVENT
END:VCALENDAR