BEGIN:VCALENDAR
VERSION:2.0
PRODID:-//Village of Millbrook - ECPv6.15.17.1//NONSGML v1.0//EN
CALSCALE:GREGORIAN
METHOD:PUBLISH
X-WR-CALNAME:Village of Millbrook
X-ORIGINAL-URL:https://villageofmillbrookny.com
X-WR-CALDESC:Events for Village of Millbrook
REFRESH-INTERVAL;VALUE=DURATION:PT1H
X-Robots-Tag:noindex
X-PUBLISHED-TTL:PT1H
BEGIN:VTIMEZONE
TZID:America/New_York
BEGIN:DAYLIGHT
TZOFFSETFROM:-0500
TZOFFSETTO:-0400
TZNAME:EDT
DTSTART:20220313T070000
END:DAYLIGHT
BEGIN:STANDARD
TZOFFSETFROM:-0400
TZOFFSETTO:-0500
TZNAME:EST
DTSTART:20221106T060000
END:STANDARD
BEGIN:DAYLIGHT
TZOFFSETFROM:-0500
TZOFFSETTO:-0400
TZNAME:EDT
DTSTART:20230312T070000
END:DAYLIGHT
BEGIN:STANDARD
TZOFFSETFROM:-0400
TZOFFSETTO:-0500
TZNAME:EST
DTSTART:20231105T060000
END:STANDARD
BEGIN:DAYLIGHT
TZOFFSETFROM:-0500
TZOFFSETTO:-0400
TZNAME:EDT
DTSTART:20240310T070000
END:DAYLIGHT
BEGIN:STANDARD
TZOFFSETFROM:-0400
TZOFFSETTO:-0500
TZNAME:EST
DTSTART:20241103T060000
END:STANDARD
END:VTIMEZONE
BEGIN:VEVENT
DTSTART;TZID=America/New_York:20231113T180000
DTEND;TZID=America/New_York:20231113T190000
DTSTAMP:20260422T042523
CREATED:20231025T162427Z
LAST-MODIFIED:20231025T163023Z
UID:10001206-1699898400-1699902000@villageofmillbrookny.com
SUMMARY:NARCAN Training
DESCRIPTION:Free Seminar On The Opioid Epidemic And NARCAN Training Will Be Open To The Public\nDutchess County’s Department of Health has agreed to come to the Millbrook Firehouse (20 Front St\, Millbrook\, NY) on Monday\, 11/13 at 6 PM to give a 1-hour class on the opioid problem and how to save an overdose victim by using NARCAN (Naloxone). Each attendee will also be given a free NARCAN kit. \nYou must RSVP by November 11th so the instructors know how many kits to bring. If interested\, please contact Mayor Collopy at 845-677-3939 option 5 (you can leave a voicemail) or email villageofmillbrookmayor@gmail.com to say that you will attend.
URL:https://villageofmillbrookny.com/event/narcan-training/
LOCATION:Millbrook Village Firehouse\, 20 Front St\, Millbrook\, NY\, 12545\, United States
CATEGORIES:Village
ATTACH;FMTTYPE=image/jpeg:https://cdn.townweb.com/villageofmillbrookny.com/wp-content/uploads/2023/10/narcan.jpg
END:VEVENT
BEGIN:VEVENT
DTSTART;TZID=America/New_York:20231113T170000
DTEND;TZID=America/New_York:20231113T190000
DTSTAMP:20260422T042523
CREATED:20230912T180245Z
LAST-MODIFIED:20230912T180245Z
UID:10001101-1699894800-1699902000@villageofmillbrookny.com
SUMMARY:Building Department Hours
DESCRIPTION:
URL:https://villageofmillbrookny.com/event/building-department-hours-2/2023-11-13/
LOCATION:NY
CATEGORIES:Building Department
END:VEVENT
BEGIN:VEVENT
DTSTART;TZID=America/New_York:20231111T110000
DTEND;TZID=America/New_York:20231111T120000
DTSTAMP:20260422T042523
CREATED:20231102T121144Z
LAST-MODIFIED:20231102T121144Z
UID:10001208-1699700400-1699704000@villageofmillbrookny.com
SUMMARY:Veterans Day Ceremony Saturday Nov 11 at 11 am
DESCRIPTION:While it is important to appreciate our veterans every day of the year\, the Veterans Day holiday offers a poignant reminder of the sacrifices made by so many brave men and women in defense of our country and our way of life.\n \n\n\nJoin Millbrook VFW Post #9008 on Saturday\, November 11 at 11 am at the Millbrook Veterans Green located across from the Millbrook Firehouse\, 20 Front St.\n \nIn the event of inclement weather\, the ceremony will be held inside the the Firehouse.\n 
URL:https://villageofmillbrookny.com/event/veterans-day-ceremony-saturday-nov-11-at-11-am/
LOCATION:NY
CATEGORIES:Village
ATTACH;FMTTYPE=image/jpeg:https://cdn.townweb.com/villageofmillbrookny.com/wp-content/uploads/2022/11/veterans-day.jpg
END:VEVENT
BEGIN:VEVENT
DTSTART;VALUE=DATE:20231110
DTEND;VALUE=DATE:20231111
DTSTAMP:20260422T042523
CREATED:20231019T184111Z
LAST-MODIFIED:20231019T184111Z
UID:10001199-1699574400-1699660799@villageofmillbrookny.com
SUMMARY:Village Hall Closed for Veteran's Day
DESCRIPTION:The Village Clerk’s Office will be closed on Friday\, November 10th in observance of Veteran’s Day.
URL:https://villageofmillbrookny.com/event/village-hall-closed-for-veterans-day/
LOCATION:NY
CATEGORIES:Village
ATTACH;FMTTYPE=image/jpeg:https://cdn.townweb.com/villageofmillbrookny.com/wp-content/uploads/2022/10/office-closed-2.jpg
END:VEVENT
BEGIN:VEVENT
DTSTART;TZID=America/New_York:20231106T170000
DTEND;TZID=America/New_York:20231106T190000
DTSTAMP:20260422T042523
CREATED:20230912T180245Z
LAST-MODIFIED:20230912T180245Z
UID:10001100-1699290000-1699297200@villageofmillbrookny.com
SUMMARY:Building Department Hours
DESCRIPTION:
URL:https://villageofmillbrookny.com/event/building-department-hours-2/2023-11-06/
LOCATION:NY
CATEGORIES:Building Department
END:VEVENT
BEGIN:VEVENT
DTSTART;VALUE=DATE:20231101
DTEND;VALUE=DATE:20231102
DTSTAMP:20260422T042523
CREATED:20231020T144019Z
LAST-MODIFIED:20231020T144019Z
UID:10001203-1698796800-1698883199@villageofmillbrookny.com
SUMMARY:Tennis Courts Close for the Season 11/1
DESCRIPTION:The Village tennis courts will close for the season on Wednesday\, November 1st. They will re-open Monday\, April 1st.
URL:https://villageofmillbrookny.com/event/tennis-courts-close-for-the-season-11-1/
LOCATION:NY
CATEGORIES:Village
ATTACH;FMTTYPE=image/jpeg:https://cdn.townweb.com/villageofmillbrookny.com/wp-content/uploads/2023/10/tennis-court-2022.jpg
END:VEVENT
BEGIN:VEVENT
DTSTART;TZID=America/New_York:20231031T170000
DTEND;TZID=America/New_York:20231031T210000
DTSTAMP:20260422T042523
CREATED:20231018T155932Z
LAST-MODIFIED:20231019T182955Z
UID:10001197-1698771600-1698786000@villageofmillbrookny.com
SUMMARY:Trick-or-Treating
DESCRIPTION:Trick-or-Treating in the Village of Millbrook is on Halloween night.
URL:https://villageofmillbrookny.com/event/trick-or-treating/
LOCATION:NY
CATEGORIES:Village
ATTACH;FMTTYPE=image/jpeg:https://cdn.townweb.com/villageofmillbrookny.com/wp-content/uploads/2023/10/Trick-or-treat.jpg
END:VEVENT
BEGIN:VEVENT
DTSTART;TZID=America/New_York:20231030T170000
DTEND;TZID=America/New_York:20231030T190000
DTSTAMP:20260422T042523
CREATED:20230912T180245Z
LAST-MODIFIED:20230912T180245Z
UID:10001099-1698685200-1698692400@villageofmillbrookny.com
SUMMARY:Building Department Hours
DESCRIPTION:
URL:https://villageofmillbrookny.com/event/building-department-hours-2/2023-10-30/
LOCATION:NY
CATEGORIES:Building Department
END:VEVENT
BEGIN:VEVENT
DTSTART;TZID=America/New_York:20231027T150000
DTEND;TZID=America/New_York:20231027T150000
DTSTAMP:20260422T042523
CREATED:20231026T113106Z
LAST-MODIFIED:20231026T113106Z
UID:10001207-1698418800-1698418800@villageofmillbrookny.com
SUMMARY:Board of Trustees Emergency Meeting - Sidewalks
DESCRIPTION:Village of Millbrook Board of Trustees AgendaFriday\, 10/27/2023 – 3 PMLocation: Village Hall\, 35 Merritt Avenue\, Millbrook\nResidents are welcome to attend in-person.This meeting will broadcast live on our YouTube Channel & then will be posted to the Village website \n\nOpen Meeting: Pledge of allegiance & roll call of trustees\n\nOld Business: Sidewalk project\n\nReview revised quote – T. Harvey\, Rennia Engr\nBoard discussion & vote to accept work change orders\n\n\n\n\nPublic Comments\nNext Regular Board Meeting – Wednesday\, 11/8/2023 – 6PM\nAdjournment
URL:https://villageofmillbrookny.com/event/board-of-trustees-emergency-meeting-sidewalks/
LOCATION:NY
CATEGORIES:Board of Trustees
ATTACH;FMTTYPE=image/jpeg:https://cdn.townweb.com/villageofmillbrookny.com/wp-content/uploads/2023/08/special-meeting.jpg
END:VEVENT
BEGIN:VEVENT
DTSTART;TZID=America/New_York:20231025T123000
DTEND;TZID=America/New_York:20231025T143000
DTSTAMP:20260422T042523
CREATED:20231023T153850Z
LAST-MODIFIED:20231023T153850Z
UID:10001205-1698237000-1698244200@villageofmillbrookny.com
SUMMARY:Village Hall Closed for Training
DESCRIPTION:The Village Clerk’s office will be closed on Wednesday\, October 25th between the hours of 12:30pm – 2:30 pm for training.
URL:https://villageofmillbrookny.com/event/village-hall-closed-for-training/
LOCATION:NY
CATEGORIES:Village
ATTACH;FMTTYPE=image/png:https://cdn.townweb.com/villageofmillbrookny.com/wp-content/uploads/2023/10/Closed-for-Training-Sign.png
END:VEVENT
BEGIN:VEVENT
DTSTART;TZID=America/New_York:20231023T170000
DTEND;TZID=America/New_York:20231023T190000
DTSTAMP:20260422T042523
CREATED:20230912T180245Z
LAST-MODIFIED:20230912T180245Z
UID:10001098-1698080400-1698087600@villageofmillbrookny.com
SUMMARY:Building Department Hours
DESCRIPTION:
URL:https://villageofmillbrookny.com/event/building-department-hours-2/2023-10-23/
LOCATION:NY
CATEGORIES:Building Department
END:VEVENT
BEGIN:VEVENT
DTSTART;VALUE=DATE:20231023
DTEND;VALUE=DATE:20231024
DTSTAMP:20260422T042523
CREATED:20231023T133424Z
LAST-MODIFIED:20231127T152312Z
UID:10001204-1698019200-1698105599@villageofmillbrookny.com
SUMMARY:No Building Department Hours
DESCRIPTION:Due to mandatory training the Building Inspector will not have office hours today\, Monday\, October 23. You can reach him by cell phone at 845-240-2118.
URL:https://villageofmillbrookny.com/event/no-building-department-hours-2/
LOCATION:Millbrook Village Hall\, 35 Merritt Avenue\, Millbrook\, NY\, 12545\, United States
CATEGORIES:Building Department
END:VEVENT
BEGIN:VEVENT
DTSTART;TZID=America/New_York:20231016T170000
DTEND;TZID=America/New_York:20231016T190000
DTSTAMP:20260422T042523
CREATED:20230912T180245Z
LAST-MODIFIED:20230912T180245Z
UID:10001097-1697475600-1697482800@villageofmillbrookny.com
SUMMARY:Building Department Hours
DESCRIPTION:
URL:https://villageofmillbrookny.com/event/building-department-hours-2/2023-10-16/
LOCATION:NY
CATEGORIES:Building Department
END:VEVENT
BEGIN:VEVENT
DTSTART;TZID=America/New_York:20231009T170000
DTEND;TZID=America/New_York:20231009T190000
DTSTAMP:20260422T042523
CREATED:20230912T175306Z
LAST-MODIFIED:20230912T175306Z
UID:10000880-1696870800-1696878000@villageofmillbrookny.com
SUMMARY:NO Building Department Hours
DESCRIPTION:Building Inspector/Code Enforcement Officer:\nKenneth McLaughlin \nCell: (845) 240-2118 (You may also text to this number)
URL:https://villageofmillbrookny.com/event/no-building-department-hours/
LOCATION:NY
CATEGORIES:Building Department
END:VEVENT
BEGIN:VEVENT
DTSTART;VALUE=DATE:20231009
DTEND;VALUE=DATE:20231010
DTSTAMP:20260422T042523
CREATED:20231006T115957Z
LAST-MODIFIED:20231006T115957Z
UID:10001198-1696809600-1696895999@villageofmillbrookny.com
SUMMARY:Village Hall Closed - Columbus Day
DESCRIPTION:The Village Hall will be closed Monday\, October 9th in observance of Columbus Day.
URL:https://villageofmillbrookny.com/event/village-hall-closed-columbus-day/
LOCATION:NY
CATEGORIES:Village
ATTACH;FMTTYPE=image/jpeg:https://cdn.townweb.com/villageofmillbrookny.com/wp-content/uploads/2022/10/office-closed-2.jpg
END:VEVENT
BEGIN:VEVENT
DTSTART;TZID=America/New_York:20231007T100000
DTEND;TZID=America/New_York:20231007T180000
DTSTAMP:20260422T042523
CREATED:20230224T193530Z
LAST-MODIFIED:20231003T165053Z
UID:10000768-1696672800-1696701600@villageofmillbrookny.com
SUMMARY:Community Day
DESCRIPTION:Community Day – October 7th RAIN OR SHINE! \nMillbrook will be bustling with activity up and down Franklin Ave. Sidewalk Sales\, Food Vendors\, Local Organizations plus lots more! We are still in need of volunteers. If you are available please email: mbapresident@millbrooknewyork.com \nA rain plan is being hatched so please check back for more details! \nCommunity Day Events:\n9 am – 1 pm\n\nFarmers and Makers Market – Located on Church Street\nThe Burr Johnson Band performing from 11 am – 1 pm\n\n9 am – 11 am\n\nFORZA: Family Fitness Carnival 9am-11am. Fitness demonstrations\, kid’s games/crafts\, popcorn\, balloons and selfie spots! Fun for the whole family!\n\n9 am – 5 pm\n\nMerritt Bookstore: Join us for Community Day at Merritt Bookstore\, where you can always dive into a treasure trove of fantastic books and toys. We’ll have book-related giveaways for kids\, and a special sale on outdoor beach and pool toys! Make your day complete by supporting us\, your local bookstore!\nJ.McLaughlin: The Center for the Prevention of Child Abuse\, who are based in Arlington are being hosted by J.McLaughlin. 15% of every purchase goes to help abused children.\n\n10 am – 2 pm\n\nMillbrook Library: Ice Cream Truck – FREE\nMillbrook Library: Friends of the Library will be serving Apple Cider and Donuts (While Supplies Last)\nReardon Briggs Hardware: Antique Tractors and Back in Time Wood Products\nFashion Feeds: Created in 2013 as a way to give to The Food of Life Food Pantry. To date Fashion Feeds Food Pantry has raised over $50\,000 in support\, and will be stationed all day in front of Corcoran Real Estate.\nMillbrook Deli: Street Nibbles\nGrace Church: Face Painting – Located at G.T. Whalen Real Estate Lawn\nDutchess County Health and Wellness: Wellness Checks\, Education & Training for CPR\, AED and Narcan plus Blood Pressure Checks\nCentral Baptist Church: Fried Chicken on G.T. Whalen Real Estate Lawn\n\n11 am – 12 pm\n\nMillbrook Library: Bubble Bus for Kids \n\n12 :30 pm – 1 :30 pm\n\nMillbrook Library: Pumpkin Painting for Kids \n\n1 pm – 3 pm\n\nMillbrook Antique Center: Live Music – featuring Paul Pesco \n\n3 pm – 6 pm\n\nChili Cook off Starts – Judging and Tasting\n50/50 Raffle\nCake Walk Begins\nDistillery Tastings\nHudson Valley Hatchet – Axe Throwing\nMusic – DJ John McDonald\n\n  \n**Public Restrooms will be available at the Millbrook Library and the Village Hall**
URL:https://villageofmillbrookny.com/event/community-day/
LOCATION:NY
CATEGORIES:Village
ATTACH;FMTTYPE=image/jpeg:https://cdn.townweb.com/villageofmillbrookny.com/wp-content/uploads/2023/07/Communtiy-Day-22-Graphic.jpg
END:VEVENT
BEGIN:VEVENT
DTSTART;TZID=America/New_York:20231002T170000
DTEND;TZID=America/New_York:20231002T190000
DTSTAMP:20260422T042523
CREATED:20230912T180245Z
LAST-MODIFIED:20230912T180245Z
UID:10001095-1696266000-1696273200@villageofmillbrookny.com
SUMMARY:Building Department Hours
DESCRIPTION:
URL:https://villageofmillbrookny.com/event/building-department-hours-2/2023-10-02/
LOCATION:NY
CATEGORIES:Building Department
END:VEVENT
BEGIN:VEVENT
DTSTART;VALUE=DATE:20231001
DTEND;VALUE=DATE:20231002
DTSTAMP:20260422T042523
CREATED:20230912T174536Z
LAST-MODIFIED:20230912T174536Z
UID:10000876-1696118400-1696204799@villageofmillbrookny.com
SUMMARY:Leaf Pick-Up Begins
DESCRIPTION:Leaf Pick-UpOct 1 – Nov 30\n\n\n\n\n\nResidents are asked to place leaves curbside in wind rows for collection. LEAVES ONLY – NO BRUSH\, GRASS OR DEBRIS. Materials other than leaves can damage our equipment and clog the drains. \nThere will be NO EXCEPTIONS to the dates. After November 30th the trucks used to pick up leaves are equipped with road sanders in preparation for snow so please plan accordingly. \nFor more info: https://villageofmillbrookny.com/public-works/#leaf
URL:https://villageofmillbrookny.com/event/leaf-pick-up-begins/
LOCATION:NY
CATEGORIES:Highway Department
ATTACH;FMTTYPE=image/jpeg:https://cdn.townweb.com/villageofmillbrookny.com/wp-content/uploads/2022/09/leaves-in-street.jpg
END:VEVENT
BEGIN:VEVENT
DTSTART;TZID=America/New_York:20230925T170000
DTEND;TZID=America/New_York:20230925T190000
DTSTAMP:20260422T042523
CREATED:20230912T180245Z
LAST-MODIFIED:20230912T180245Z
UID:10001094-1695661200-1695668400@villageofmillbrookny.com
SUMMARY:Building Department Hours
DESCRIPTION:
URL:https://villageofmillbrookny.com/event/building-department-hours-2/2023-09-25/
LOCATION:NY
CATEGORIES:Building Department
END:VEVENT
BEGIN:VEVENT
DTSTART;TZID=America/New_York:20230920T180000
DTEND;TZID=America/New_York:20230920T200000
DTSTAMP:20260422T042523
CREATED:20230816T135925Z
LAST-MODIFIED:20230816T135925Z
UID:10000841-1695232800-1695240000@villageofmillbrookny.com
SUMMARY:Board of Trustees Meeting
DESCRIPTION:The September meeting has moved from 9/13/23 to 9/20/23 \n*** MEETINGS ARE IN-PERSON AT THE MILLBROOK FIREHOUSE *** \nBusiness Meetings are scheduled to be held on the 2nd Wednesday of the month beginning at 6:00 PM \nSecond meetings will be determined as needed at the business meetings.If needed\, they will be held on the 4th Wednesday of the month @ 6:00 PM.Announcements will go out prior to meeting.
URL:https://villageofmillbrookny.com/event/board-of-trustees-meeting-4/
LOCATION:NY
CATEGORIES:Board of Trustees
ATTACH;FMTTYPE=image/jpeg:https://cdn.townweb.com/villageofmillbrookny.com/wp-content/uploads/2022/05/VoMVillageHall.jpg
END:VEVENT
BEGIN:VEVENT
DTSTART;TZID=America/New_York:20230918T170000
DTEND;TZID=America/New_York:20230918T190000
DTSTAMP:20260422T042523
CREATED:20230912T180245Z
LAST-MODIFIED:20230912T180245Z
UID:10001093-1695056400-1695063600@villageofmillbrookny.com
SUMMARY:Building Department Hours
DESCRIPTION:
URL:https://villageofmillbrookny.com/event/building-department-hours-2/2023-09-18/
LOCATION:NY
CATEGORIES:Building Department
END:VEVENT
BEGIN:VEVENT
DTSTART;TZID=America/New_York:20230911T170000
DTEND;TZID=America/New_York:20230911T190000
DTSTAMP:20260422T042523
CREATED:20230912T175745Z
LAST-MODIFIED:20230912T175745Z
UID:10001092-1694451600-1694458800@villageofmillbrookny.com
SUMMARY:Building Department Hours
DESCRIPTION:
URL:https://villageofmillbrookny.com/event/building-department-hours/2023-09-11/
LOCATION:NY
CATEGORIES:Building Department
END:VEVENT
BEGIN:VEVENT
DTSTART;TZID=America/New_York:20230911T063000
DTEND;TZID=America/New_York:20230911T143000
DTSTAMP:20260422T042523
CREATED:20220927T155100Z
LAST-MODIFIED:20230203T160720Z
UID:10000062-1694413800-1694442600@villageofmillbrookny.com
SUMMARY:Brush Pick-Up
DESCRIPTION:Daily Brush Pick-Up: April 1st – May 31st\nSummer Brush Pick-Up: Second Monday in July\, August & September\nThe rules for curbside brush pickup shall be strictly followed and will be enforced with no exceptions. \nBrush pick-up is a service provided to Village Residents from April 1st to May 31st with additional pick-up days during the summer months which include the second Monday of July\, August & September. The Village also offers storm damage removal up to (2) weeks after a storm. This does NOT include tree trunks or stumps. \nFor more information visit Department of Public Works Brush Pick-Up
URL:https://villageofmillbrookny.com/event/brush-pick-up/2023-09-11/
LOCATION:NY
CATEGORIES:Highway Department
ATTACH;FMTTYPE=image/jpeg:https://cdn.townweb.com/villageofmillbrookny.com/wp-content/uploads/2022/09/637297310582670000.jpg
END:VEVENT
BEGIN:VEVENT
DTSTART;TZID=America/New_York:20230904T170000
DTEND;TZID=America/New_York:20230904T190000
DTSTAMP:20260422T042523
CREATED:20230912T175745Z
LAST-MODIFIED:20230912T175745Z
UID:10001091-1693846800-1693854000@villageofmillbrookny.com
SUMMARY:Building Department Hours
DESCRIPTION:
URL:https://villageofmillbrookny.com/event/building-department-hours/2023-09-04/
LOCATION:NY
CATEGORIES:Building Department
END:VEVENT
BEGIN:VEVENT
DTSTART;VALUE=DATE:20230904
DTEND;VALUE=DATE:20230905
DTSTAMP:20260422T042523
CREATED:20230828T112314Z
LAST-MODIFIED:20230828T112314Z
UID:10000874-1693785600-1693871999@villageofmillbrookny.com
SUMMARY:Village Hall Closed
DESCRIPTION:The Village Hall will be closed Monday\, September 4\, 2023 in observance of Labor Day. 
URL:https://villageofmillbrookny.com/event/village-hall-closed-11/
LOCATION:NY
CATEGORIES:Village
ATTACH;FMTTYPE=image/jpeg:https://cdn.townweb.com/villageofmillbrookny.com/wp-content/uploads/2022/10/office-closed-2.jpg
END:VEVENT
BEGIN:VEVENT
DTSTART;TZID=America/New_York:20230814T063000
DTEND;TZID=America/New_York:20230814T143000
DTSTAMP:20260422T042523
CREATED:20220927T155100Z
LAST-MODIFIED:20230203T155219Z
UID:10000582-1691994600-1692023400@villageofmillbrookny.com
SUMMARY:Brush Pick-Up Day
DESCRIPTION:Daily Brush Pick-Up: April 1st – May 31st\nSummer Brush Pick-Up: Second Monday in July\, August & September\nThe rules for curbside brush pickup shall be strictly followed and will be enforced with no exceptions. \nBrush pick-up is a service provided to Village Residents from April 1st to May 31st with additional pick-up days during the summer months which include the second Monday of July\, August & September. The Village also offers storm damage removal up to (2) weeks after a storm. This does NOT include tree trunks or stumps. \nFor more information visit Department of Public Works Brush Pick-Up
URL:https://villageofmillbrookny.com/event/brush-pick-up-2023-08-14/
LOCATION:NY
CATEGORIES:Highway Department
ATTACH;FMTTYPE=image/jpeg:https://cdn.townweb.com/villageofmillbrookny.com/wp-content/uploads/2022/09/637297310582670000.jpg
END:VEVENT
BEGIN:VEVENT
DTSTART;TZID=America/New_York:20230809T180000
DTEND;TZID=America/New_York:20230809T180000
DTSTAMP:20260422T042523
CREATED:20230816T140712Z
LAST-MODIFIED:20230816T140712Z
UID:10000869-1691604000-1691604000@villageofmillbrookny.com
SUMMARY:Board of Trustees Meeting
DESCRIPTION:
URL:https://villageofmillbrookny.com/event/board-of-trustees-meeting-5/
LOCATION:NY
CATEGORIES:Board of Trustees
END:VEVENT
BEGIN:VEVENT
DTSTART;TZID=America/New_York:20230719T180000
DTEND;TZID=America/New_York:20230719T180000
DTSTAMP:20260422T042523
CREATED:20230719T151921Z
LAST-MODIFIED:20230719T151921Z
UID:10000815-1689789600-1689789600@villageofmillbrookny.com
SUMMARY:Emergency Board Meeting
DESCRIPTION:An emergency board meeting will occur tonight 7/19/23 at 6PM at the Village Hall\, 35 Merritt Ave. \nTopic: Sewer main lining project. \nVRI will review the bids with the Board who will vote to select a contractor. \nAny questions please contact Mayor Collopy at villageofmillbrookmayor@gmail.com
URL:https://villageofmillbrookny.com/event/emergency-board-meeting/
LOCATION:NY
CATEGORIES:Board of Trustees
ATTACH;FMTTYPE=image/jpeg:https://cdn.townweb.com/villageofmillbrookny.com/wp-content/uploads/2023/07/important-announcement.jpg
END:VEVENT
BEGIN:VEVENT
DTSTART;TZID=America/New_York:20230712T180000
DTEND;TZID=America/New_York:20230712T180000
DTSTAMP:20260422T042523
CREATED:20230816T140757Z
LAST-MODIFIED:20230816T140757Z
UID:10000870-1689184800-1689184800@villageofmillbrookny.com
SUMMARY:Board of Trustees Meeting
DESCRIPTION:
URL:https://villageofmillbrookny.com/event/board-of-trustees-meeting-6/
LOCATION:NY
CATEGORIES:Board of Trustees
END:VEVENT
BEGIN:VEVENT
DTSTART;TZID=America/New_York:20230710T063000
DTEND;TZID=America/New_York:20230710T143000
DTSTAMP:20260422T042523
CREATED:20220927T155100Z
LAST-MODIFIED:20230203T155530Z
UID:10000002-1688970600-1688999400@villageofmillbrookny.com
SUMMARY:Brush Pick-Up Day
DESCRIPTION:Daily Brush Pick-Up: April 1st – May 31st\nSummer Brush Pick-Up: Second Monday in July\, August & September\nThe rules for curbside brush pickup shall be strictly followed and will be enforced with no exceptions. \nBrush pick-up is a service provided to Village Residents from April 1st to May 31st with additional pick-up days during the summer months which include the second Monday of July\, August & September. The Village also offers storm damage removal up to (2) weeks after a storm. This does NOT include tree trunks or stumps. \nFor more information visit Department of Public Works Brush Pick-Up
URL:https://villageofmillbrookny.com/event/brush-pick-up-2023-07-10/
LOCATION:NY
CATEGORIES:Highway Department
ATTACH;FMTTYPE=image/jpeg:https://cdn.townweb.com/villageofmillbrookny.com/wp-content/uploads/2022/09/637297310582670000.jpg
END:VEVENT
END:VCALENDAR