BEGIN:VCALENDAR
VERSION:2.0
PRODID:-//Village of Millbrook - ECPv6.15.17.1//NONSGML v1.0//EN
CALSCALE:GREGORIAN
METHOD:PUBLISH
X-WR-CALNAME:Village of Millbrook
X-ORIGINAL-URL:https://villageofmillbrookny.com
X-WR-CALDESC:Events for Village of Millbrook
REFRESH-INTERVAL;VALUE=DURATION:PT1H
X-Robots-Tag:noindex
X-PUBLISHED-TTL:PT1H
BEGIN:VTIMEZONE
TZID:America/New_York
BEGIN:DAYLIGHT
TZOFFSETFROM:-0500
TZOFFSETTO:-0400
TZNAME:EDT
DTSTART:20260308T070000
END:DAYLIGHT
BEGIN:STANDARD
TZOFFSETFROM:-0400
TZOFFSETTO:-0500
TZNAME:EST
DTSTART:20261101T060000
END:STANDARD
BEGIN:DAYLIGHT
TZOFFSETFROM:-0500
TZOFFSETTO:-0400
TZNAME:EDT
DTSTART:20270314T070000
END:DAYLIGHT
BEGIN:STANDARD
TZOFFSETFROM:-0400
TZOFFSETTO:-0500
TZNAME:EST
DTSTART:20271107T060000
END:STANDARD
BEGIN:DAYLIGHT
TZOFFSETFROM:-0500
TZOFFSETTO:-0400
TZNAME:EDT
DTSTART:20280312T070000
END:DAYLIGHT
BEGIN:STANDARD
TZOFFSETFROM:-0400
TZOFFSETTO:-0500
TZNAME:EST
DTSTART:20281105T060000
END:STANDARD
BEGIN:DAYLIGHT
TZOFFSETFROM:-0500
TZOFFSETTO:-0400
TZNAME:EDT
DTSTART:20290311T070000
END:DAYLIGHT
BEGIN:STANDARD
TZOFFSETFROM:-0400
TZOFFSETTO:-0500
TZNAME:EST
DTSTART:20291104T060000
END:STANDARD
END:VTIMEZONE
BEGIN:VEVENT
DTSTART;TZID=America/New_York:20271227T170000
DTEND;TZID=America/New_York:20271227T190000
DTSTAMP:20260421T203731
CREATED:20240308T182147Z
LAST-MODIFIED:20240308T182742Z
UID:10001464-1829926800-1829934000@villageofmillbrookny.com
SUMMARY:Building Department Hours
DESCRIPTION:
URL:https://villageofmillbrookny.com/event/building-department-hours-3/2027-12-27/
LOCATION:Millbrook Village Hall\, 35 Merritt Avenue\, Millbrook\, NY\, 12545\, United States
CATEGORIES:Building Department
END:VEVENT
BEGIN:VEVENT
DTSTART;TZID=America/New_York:20280103T170000
DTEND;TZID=America/New_York:20280103T190000
DTSTAMP:20260421T203731
CREATED:20240308T182147Z
LAST-MODIFIED:20240308T182742Z
UID:10001465-1830531600-1830538800@villageofmillbrookny.com
SUMMARY:Building Department Hours
DESCRIPTION:
URL:https://villageofmillbrookny.com/event/building-department-hours-3/2028-01-03/
LOCATION:Millbrook Village Hall\, 35 Merritt Avenue\, Millbrook\, NY\, 12545\, United States
CATEGORIES:Building Department
END:VEVENT
BEGIN:VEVENT
DTSTART;TZID=America/New_York:20280110T170000
DTEND;TZID=America/New_York:20280110T190000
DTSTAMP:20260421T203731
CREATED:20240308T182147Z
LAST-MODIFIED:20240308T182742Z
UID:10001466-1831136400-1831143600@villageofmillbrookny.com
SUMMARY:Building Department Hours
DESCRIPTION:
URL:https://villageofmillbrookny.com/event/building-department-hours-3/2028-01-10/
LOCATION:Millbrook Village Hall\, 35 Merritt Avenue\, Millbrook\, NY\, 12545\, United States
CATEGORIES:Building Department
END:VEVENT
BEGIN:VEVENT
DTSTART;TZID=America/New_York:20280117T170000
DTEND;TZID=America/New_York:20280117T190000
DTSTAMP:20260421T203731
CREATED:20240308T182147Z
LAST-MODIFIED:20240308T182742Z
UID:10001467-1831741200-1831748400@villageofmillbrookny.com
SUMMARY:Building Department Hours
DESCRIPTION:
URL:https://villageofmillbrookny.com/event/building-department-hours-3/2028-01-17/
LOCATION:Millbrook Village Hall\, 35 Merritt Avenue\, Millbrook\, NY\, 12545\, United States
CATEGORIES:Building Department
END:VEVENT
BEGIN:VEVENT
DTSTART;TZID=America/New_York:20280124T170000
DTEND;TZID=America/New_York:20280124T190000
DTSTAMP:20260421T203731
CREATED:20240308T182147Z
LAST-MODIFIED:20240308T182742Z
UID:10001468-1832346000-1832353200@villageofmillbrookny.com
SUMMARY:Building Department Hours
DESCRIPTION:
URL:https://villageofmillbrookny.com/event/building-department-hours-3/2028-01-24/
LOCATION:Millbrook Village Hall\, 35 Merritt Avenue\, Millbrook\, NY\, 12545\, United States
CATEGORIES:Building Department
END:VEVENT
BEGIN:VEVENT
DTSTART;TZID=America/New_York:20280131T170000
DTEND;TZID=America/New_York:20280131T190000
DTSTAMP:20260421T203731
CREATED:20240308T182147Z
LAST-MODIFIED:20240308T182742Z
UID:10001469-1832950800-1832958000@villageofmillbrookny.com
SUMMARY:Building Department Hours
DESCRIPTION:
URL:https://villageofmillbrookny.com/event/building-department-hours-3/2028-01-31/
LOCATION:Millbrook Village Hall\, 35 Merritt Avenue\, Millbrook\, NY\, 12545\, United States
CATEGORIES:Building Department
END:VEVENT
BEGIN:VEVENT
DTSTART;TZID=America/New_York:20280207T170000
DTEND;TZID=America/New_York:20280207T190000
DTSTAMP:20260421T203731
CREATED:20240308T182147Z
LAST-MODIFIED:20240308T182742Z
UID:10001470-1833555600-1833562800@villageofmillbrookny.com
SUMMARY:Building Department Hours
DESCRIPTION:
URL:https://villageofmillbrookny.com/event/building-department-hours-3/2028-02-07/
LOCATION:Millbrook Village Hall\, 35 Merritt Avenue\, Millbrook\, NY\, 12545\, United States
CATEGORIES:Building Department
END:VEVENT
BEGIN:VEVENT
DTSTART;TZID=America/New_York:20280214T170000
DTEND;TZID=America/New_York:20280214T190000
DTSTAMP:20260421T203731
CREATED:20240308T182147Z
LAST-MODIFIED:20240308T182742Z
UID:10001471-1834160400-1834167600@villageofmillbrookny.com
SUMMARY:Building Department Hours
DESCRIPTION:
URL:https://villageofmillbrookny.com/event/building-department-hours-3/2028-02-14/
LOCATION:Millbrook Village Hall\, 35 Merritt Avenue\, Millbrook\, NY\, 12545\, United States
CATEGORIES:Building Department
END:VEVENT
BEGIN:VEVENT
DTSTART;TZID=America/New_York:20280221T170000
DTEND;TZID=America/New_York:20280221T190000
DTSTAMP:20260421T203731
CREATED:20240308T182147Z
LAST-MODIFIED:20240308T182742Z
UID:10001472-1834765200-1834772400@villageofmillbrookny.com
SUMMARY:Building Department Hours
DESCRIPTION:
URL:https://villageofmillbrookny.com/event/building-department-hours-3/2028-02-21/
LOCATION:Millbrook Village Hall\, 35 Merritt Avenue\, Millbrook\, NY\, 12545\, United States
CATEGORIES:Building Department
END:VEVENT
BEGIN:VEVENT
DTSTART;TZID=America/New_York:20280228T170000
DTEND;TZID=America/New_York:20280228T190000
DTSTAMP:20260421T203731
CREATED:20240308T182147Z
LAST-MODIFIED:20240308T182742Z
UID:10001473-1835370000-1835377200@villageofmillbrookny.com
SUMMARY:Building Department Hours
DESCRIPTION:
URL:https://villageofmillbrookny.com/event/building-department-hours-3/2028-02-28/
LOCATION:Millbrook Village Hall\, 35 Merritt Avenue\, Millbrook\, NY\, 12545\, United States
CATEGORIES:Building Department
END:VEVENT
BEGIN:VEVENT
DTSTART;TZID=America/New_York:20280306T170000
DTEND;TZID=America/New_York:20280306T190000
DTSTAMP:20260421T203731
CREATED:20240308T182147Z
LAST-MODIFIED:20240308T182742Z
UID:10001474-1835974800-1835982000@villageofmillbrookny.com
SUMMARY:Building Department Hours
DESCRIPTION:
URL:https://villageofmillbrookny.com/event/building-department-hours-3/2028-03-06/
LOCATION:Millbrook Village Hall\, 35 Merritt Avenue\, Millbrook\, NY\, 12545\, United States
CATEGORIES:Building Department
END:VEVENT
BEGIN:VEVENT
DTSTART;TZID=America/New_York:20280313T170000
DTEND;TZID=America/New_York:20280313T190000
DTSTAMP:20260421T203731
CREATED:20240308T182147Z
LAST-MODIFIED:20240308T182742Z
UID:10001475-1836579600-1836586800@villageofmillbrookny.com
SUMMARY:Building Department Hours
DESCRIPTION:
URL:https://villageofmillbrookny.com/event/building-department-hours-3/2028-03-13/
LOCATION:Millbrook Village Hall\, 35 Merritt Avenue\, Millbrook\, NY\, 12545\, United States
CATEGORIES:Building Department
END:VEVENT
BEGIN:VEVENT
DTSTART;TZID=America/New_York:20280320T170000
DTEND;TZID=America/New_York:20280320T190000
DTSTAMP:20260421T203731
CREATED:20240308T182147Z
LAST-MODIFIED:20240308T182742Z
UID:10001476-1837184400-1837191600@villageofmillbrookny.com
SUMMARY:Building Department Hours
DESCRIPTION:
URL:https://villageofmillbrookny.com/event/building-department-hours-3/2028-03-20/
LOCATION:Millbrook Village Hall\, 35 Merritt Avenue\, Millbrook\, NY\, 12545\, United States
CATEGORIES:Building Department
END:VEVENT
BEGIN:VEVENT
DTSTART;TZID=America/New_York:20280327T170000
DTEND;TZID=America/New_York:20280327T190000
DTSTAMP:20260421T203731
CREATED:20240308T182147Z
LAST-MODIFIED:20240308T182742Z
UID:10001477-1837789200-1837796400@villageofmillbrookny.com
SUMMARY:Building Department Hours
DESCRIPTION:
URL:https://villageofmillbrookny.com/event/building-department-hours-3/2028-03-27/
LOCATION:Millbrook Village Hall\, 35 Merritt Avenue\, Millbrook\, NY\, 12545\, United States
CATEGORIES:Building Department
END:VEVENT
BEGIN:VEVENT
DTSTART;TZID=America/New_York:20280403T170000
DTEND;TZID=America/New_York:20280403T190000
DTSTAMP:20260421T203731
CREATED:20240308T182147Z
LAST-MODIFIED:20240308T182742Z
UID:10001478-1838394000-1838401200@villageofmillbrookny.com
SUMMARY:Building Department Hours
DESCRIPTION:
URL:https://villageofmillbrookny.com/event/building-department-hours-3/2028-04-03/
LOCATION:Millbrook Village Hall\, 35 Merritt Avenue\, Millbrook\, NY\, 12545\, United States
CATEGORIES:Building Department
END:VEVENT
BEGIN:VEVENT
DTSTART;TZID=America/New_York:20280410T170000
DTEND;TZID=America/New_York:20280410T190000
DTSTAMP:20260421T203731
CREATED:20240308T182147Z
LAST-MODIFIED:20240308T182742Z
UID:10001479-1838998800-1839006000@villageofmillbrookny.com
SUMMARY:Building Department Hours
DESCRIPTION:
URL:https://villageofmillbrookny.com/event/building-department-hours-3/2028-04-10/
LOCATION:Millbrook Village Hall\, 35 Merritt Avenue\, Millbrook\, NY\, 12545\, United States
CATEGORIES:Building Department
END:VEVENT
BEGIN:VEVENT
DTSTART;TZID=America/New_York:20280417T170000
DTEND;TZID=America/New_York:20280417T190000
DTSTAMP:20260421T203731
CREATED:20240308T182147Z
LAST-MODIFIED:20240308T182742Z
UID:10001480-1839603600-1839610800@villageofmillbrookny.com
SUMMARY:Building Department Hours
DESCRIPTION:
URL:https://villageofmillbrookny.com/event/building-department-hours-3/2028-04-17/
LOCATION:Millbrook Village Hall\, 35 Merritt Avenue\, Millbrook\, NY\, 12545\, United States
CATEGORIES:Building Department
END:VEVENT
BEGIN:VEVENT
DTSTART;TZID=America/New_York:20280424T170000
DTEND;TZID=America/New_York:20280424T190000
DTSTAMP:20260421T203731
CREATED:20240308T182147Z
LAST-MODIFIED:20240308T182742Z
UID:10001481-1840208400-1840215600@villageofmillbrookny.com
SUMMARY:Building Department Hours
DESCRIPTION:
URL:https://villageofmillbrookny.com/event/building-department-hours-3/2028-04-24/
LOCATION:Millbrook Village Hall\, 35 Merritt Avenue\, Millbrook\, NY\, 12545\, United States
CATEGORIES:Building Department
END:VEVENT
BEGIN:VEVENT
DTSTART;TZID=America/New_York:20280501T170000
DTEND;TZID=America/New_York:20280501T190000
DTSTAMP:20260421T203731
CREATED:20240308T182147Z
LAST-MODIFIED:20240308T182742Z
UID:10001482-1840813200-1840820400@villageofmillbrookny.com
SUMMARY:Building Department Hours
DESCRIPTION:
URL:https://villageofmillbrookny.com/event/building-department-hours-3/2028-05-01/
LOCATION:Millbrook Village Hall\, 35 Merritt Avenue\, Millbrook\, NY\, 12545\, United States
CATEGORIES:Building Department
END:VEVENT
BEGIN:VEVENT
DTSTART;TZID=America/New_York:20280508T170000
DTEND;TZID=America/New_York:20280508T190000
DTSTAMP:20260421T203731
CREATED:20240308T182147Z
LAST-MODIFIED:20240308T182742Z
UID:10001483-1841418000-1841425200@villageofmillbrookny.com
SUMMARY:Building Department Hours
DESCRIPTION:
URL:https://villageofmillbrookny.com/event/building-department-hours-3/2028-05-08/
LOCATION:Millbrook Village Hall\, 35 Merritt Avenue\, Millbrook\, NY\, 12545\, United States
CATEGORIES:Building Department
END:VEVENT
BEGIN:VEVENT
DTSTART;TZID=America/New_York:20280515T170000
DTEND;TZID=America/New_York:20280515T190000
DTSTAMP:20260421T203731
CREATED:20240308T182147Z
LAST-MODIFIED:20240308T182742Z
UID:10001484-1842022800-1842030000@villageofmillbrookny.com
SUMMARY:Building Department Hours
DESCRIPTION:
URL:https://villageofmillbrookny.com/event/building-department-hours-3/2028-05-15/
LOCATION:Millbrook Village Hall\, 35 Merritt Avenue\, Millbrook\, NY\, 12545\, United States
CATEGORIES:Building Department
END:VEVENT
BEGIN:VEVENT
DTSTART;TZID=America/New_York:20280522T170000
DTEND;TZID=America/New_York:20280522T190000
DTSTAMP:20260421T203731
CREATED:20240308T182147Z
LAST-MODIFIED:20240308T182742Z
UID:10001485-1842627600-1842634800@villageofmillbrookny.com
SUMMARY:Building Department Hours
DESCRIPTION:
URL:https://villageofmillbrookny.com/event/building-department-hours-3/2028-05-22/
LOCATION:Millbrook Village Hall\, 35 Merritt Avenue\, Millbrook\, NY\, 12545\, United States
CATEGORIES:Building Department
END:VEVENT
BEGIN:VEVENT
DTSTART;TZID=America/New_York:20280529T170000
DTEND;TZID=America/New_York:20280529T190000
DTSTAMP:20260421T203731
CREATED:20240308T182147Z
LAST-MODIFIED:20240308T182742Z
UID:10001486-1843232400-1843239600@villageofmillbrookny.com
SUMMARY:Building Department Hours
DESCRIPTION:
URL:https://villageofmillbrookny.com/event/building-department-hours-3/2028-05-29/
LOCATION:Millbrook Village Hall\, 35 Merritt Avenue\, Millbrook\, NY\, 12545\, United States
CATEGORIES:Building Department
END:VEVENT
BEGIN:VEVENT
DTSTART;TZID=America/New_York:20280605T170000
DTEND;TZID=America/New_York:20280605T190000
DTSTAMP:20260421T203731
CREATED:20240308T182147Z
LAST-MODIFIED:20240308T182742Z
UID:10001487-1843837200-1843844400@villageofmillbrookny.com
SUMMARY:Building Department Hours
DESCRIPTION:
URL:https://villageofmillbrookny.com/event/building-department-hours-3/2028-06-05/
LOCATION:Millbrook Village Hall\, 35 Merritt Avenue\, Millbrook\, NY\, 12545\, United States
CATEGORIES:Building Department
END:VEVENT
BEGIN:VEVENT
DTSTART;TZID=America/New_York:20280612T170000
DTEND;TZID=America/New_York:20280612T190000
DTSTAMP:20260421T203731
CREATED:20240308T182147Z
LAST-MODIFIED:20240308T182742Z
UID:10001488-1844442000-1844449200@villageofmillbrookny.com
SUMMARY:Building Department Hours
DESCRIPTION:
URL:https://villageofmillbrookny.com/event/building-department-hours-3/2028-06-12/
LOCATION:Millbrook Village Hall\, 35 Merritt Avenue\, Millbrook\, NY\, 12545\, United States
CATEGORIES:Building Department
END:VEVENT
BEGIN:VEVENT
DTSTART;TZID=America/New_York:20280619T170000
DTEND;TZID=America/New_York:20280619T190000
DTSTAMP:20260421T203731
CREATED:20240308T182147Z
LAST-MODIFIED:20240308T182742Z
UID:10001489-1845046800-1845054000@villageofmillbrookny.com
SUMMARY:Building Department Hours
DESCRIPTION:
URL:https://villageofmillbrookny.com/event/building-department-hours-3/2028-06-19/
LOCATION:Millbrook Village Hall\, 35 Merritt Avenue\, Millbrook\, NY\, 12545\, United States
CATEGORIES:Building Department
END:VEVENT
BEGIN:VEVENT
DTSTART;TZID=America/New_York:20280626T170000
DTEND;TZID=America/New_York:20280626T190000
DTSTAMP:20260421T203731
CREATED:20240308T182147Z
LAST-MODIFIED:20240308T182742Z
UID:10001490-1845651600-1845658800@villageofmillbrookny.com
SUMMARY:Building Department Hours
DESCRIPTION:
URL:https://villageofmillbrookny.com/event/building-department-hours-3/2028-06-26/
LOCATION:Millbrook Village Hall\, 35 Merritt Avenue\, Millbrook\, NY\, 12545\, United States
CATEGORIES:Building Department
END:VEVENT
BEGIN:VEVENT
DTSTART;TZID=America/New_York:20280703T170000
DTEND;TZID=America/New_York:20280703T190000
DTSTAMP:20260421T203731
CREATED:20240308T182147Z
LAST-MODIFIED:20240308T182742Z
UID:10001491-1846256400-1846263600@villageofmillbrookny.com
SUMMARY:Building Department Hours
DESCRIPTION:
URL:https://villageofmillbrookny.com/event/building-department-hours-3/2028-07-03/
LOCATION:Millbrook Village Hall\, 35 Merritt Avenue\, Millbrook\, NY\, 12545\, United States
CATEGORIES:Building Department
END:VEVENT
BEGIN:VEVENT
DTSTART;TZID=America/New_York:20280710T170000
DTEND;TZID=America/New_York:20280710T190000
DTSTAMP:20260421T203731
CREATED:20240308T182147Z
LAST-MODIFIED:20240308T182742Z
UID:10001492-1846861200-1846868400@villageofmillbrookny.com
SUMMARY:Building Department Hours
DESCRIPTION:
URL:https://villageofmillbrookny.com/event/building-department-hours-3/2028-07-10/
LOCATION:Millbrook Village Hall\, 35 Merritt Avenue\, Millbrook\, NY\, 12545\, United States
CATEGORIES:Building Department
END:VEVENT
BEGIN:VEVENT
DTSTART;TZID=America/New_York:20280717T170000
DTEND;TZID=America/New_York:20280717T190000
DTSTAMP:20260421T203731
CREATED:20240308T182147Z
LAST-MODIFIED:20240308T182742Z
UID:10001493-1847466000-1847473200@villageofmillbrookny.com
SUMMARY:Building Department Hours
DESCRIPTION:
URL:https://villageofmillbrookny.com/event/building-department-hours-3/2028-07-17/
LOCATION:Millbrook Village Hall\, 35 Merritt Avenue\, Millbrook\, NY\, 12545\, United States
CATEGORIES:Building Department
END:VEVENT
END:VCALENDAR