BEGIN:VCALENDAR
VERSION:2.0
PRODID:-//Village of Millbrook - ECPv6.15.17.1//NONSGML v1.0//EN
CALSCALE:GREGORIAN
METHOD:PUBLISH
X-WR-CALNAME:Village of Millbrook
X-ORIGINAL-URL:https://villageofmillbrookny.com
X-WR-CALDESC:Events for Village of Millbrook
REFRESH-INTERVAL;VALUE=DURATION:PT1H
X-Robots-Tag:noindex
X-PUBLISHED-TTL:PT1H
BEGIN:VTIMEZONE
TZID:America/New_York
BEGIN:DAYLIGHT
TZOFFSETFROM:-0500
TZOFFSETTO:-0400
TZNAME:EDT
DTSTART:20230312T070000
END:DAYLIGHT
BEGIN:STANDARD
TZOFFSETFROM:-0400
TZOFFSETTO:-0500
TZNAME:EST
DTSTART:20231105T060000
END:STANDARD
BEGIN:DAYLIGHT
TZOFFSETFROM:-0500
TZOFFSETTO:-0400
TZNAME:EDT
DTSTART:20240310T070000
END:DAYLIGHT
BEGIN:STANDARD
TZOFFSETFROM:-0400
TZOFFSETTO:-0500
TZNAME:EST
DTSTART:20241103T060000
END:STANDARD
BEGIN:DAYLIGHT
TZOFFSETFROM:-0500
TZOFFSETTO:-0400
TZNAME:EDT
DTSTART:20250309T070000
END:DAYLIGHT
BEGIN:STANDARD
TZOFFSETFROM:-0400
TZOFFSETTO:-0500
TZNAME:EST
DTSTART:20251102T060000
END:STANDARD
END:VTIMEZONE
BEGIN:VEVENT
DTSTART;TZID=America/New_York:20241118T170000
DTEND;TZID=America/New_York:20241118T190000
DTSTAMP:20260421T142810
CREATED:20240308T182147Z
LAST-MODIFIED:20240308T182742Z
UID:10001302-1731949200-1731956400@villageofmillbrookny.com
SUMMARY:Building Department Hours
DESCRIPTION:
URL:https://villageofmillbrookny.com/event/building-department-hours-3/2024-11-18/
LOCATION:Millbrook Village Hall\, 35 Merritt Avenue\, Millbrook\, NY\, 12545\, United States
CATEGORIES:Building Department
END:VEVENT
BEGIN:VEVENT
DTSTART;TZID=America/New_York:20241111T180000
DTEND;TZID=America/New_York:20241111T180000
DTSTAMP:20260421T142810
CREATED:20241001T112408Z
LAST-MODIFIED:20241001T112408Z
UID:10001598-1731348000-1731348000@villageofmillbrookny.com
SUMMARY:Cancelled: Planning Board Meeting
DESCRIPTION:The Planning Board will not meet on Veterans Day\, Monday\, November 11th. The meeting is rescheduled to the following Monday\, November 18th.
URL:https://villageofmillbrookny.com/event/cancelled-planning-board-meeting/
LOCATION:Millbrook Village Hall\, 35 Merritt Avenue\, Millbrook\, NY\, 12545\, United States
END:VEVENT
BEGIN:VEVENT
DTSTART;TZID=America/New_York:20241104T170000
DTEND;TZID=America/New_York:20241104T190000
DTSTAMP:20260421T142810
CREATED:20240308T182147Z
LAST-MODIFIED:20240308T182742Z
UID:10001300-1730739600-1730746800@villageofmillbrookny.com
SUMMARY:Building Department Hours
DESCRIPTION:
URL:https://villageofmillbrookny.com/event/building-department-hours-3/2024-11-04/
LOCATION:Millbrook Village Hall\, 35 Merritt Avenue\, Millbrook\, NY\, 12545\, United States
CATEGORIES:Building Department
END:VEVENT
BEGIN:VEVENT
DTSTART;TZID=America/New_York:20241028T170000
DTEND;TZID=America/New_York:20241028T190000
DTSTAMP:20260421T142810
CREATED:20240308T182147Z
LAST-MODIFIED:20240308T182742Z
UID:10001299-1730134800-1730142000@villageofmillbrookny.com
SUMMARY:Building Department Hours
DESCRIPTION:
URL:https://villageofmillbrookny.com/event/building-department-hours-3/2024-10-28/
LOCATION:Millbrook Village Hall\, 35 Merritt Avenue\, Millbrook\, NY\, 12545\, United States
CATEGORIES:Building Department
END:VEVENT
BEGIN:VEVENT
DTSTART;TZID=America/New_York:20241021T170000
DTEND;TZID=America/New_York:20241021T190000
DTSTAMP:20260421T142810
CREATED:20240308T182147Z
LAST-MODIFIED:20240308T182742Z
UID:10001298-1729530000-1729537200@villageofmillbrookny.com
SUMMARY:Building Department Hours
DESCRIPTION:
URL:https://villageofmillbrookny.com/event/building-department-hours-3/2024-10-21/
LOCATION:Millbrook Village Hall\, 35 Merritt Avenue\, Millbrook\, NY\, 12545\, United States
CATEGORIES:Building Department
END:VEVENT
BEGIN:VEVENT
DTSTART;TZID=America/New_York:20241007T170000
DTEND;TZID=America/New_York:20241007T190000
DTSTAMP:20260421T142810
CREATED:20240308T182147Z
LAST-MODIFIED:20240308T182742Z
UID:10001296-1728320400-1728327600@villageofmillbrookny.com
SUMMARY:Building Department Hours
DESCRIPTION:
URL:https://villageofmillbrookny.com/event/building-department-hours-3/2024-10-07/
LOCATION:Millbrook Village Hall\, 35 Merritt Avenue\, Millbrook\, NY\, 12545\, United States
CATEGORIES:Building Department
END:VEVENT
BEGIN:VEVENT
DTSTART;TZID=America/New_York:20240930T170000
DTEND;TZID=America/New_York:20240930T190000
DTSTAMP:20260421T142810
CREATED:20240308T182147Z
LAST-MODIFIED:20240308T182742Z
UID:10001295-1727715600-1727722800@villageofmillbrookny.com
SUMMARY:Building Department Hours
DESCRIPTION:
URL:https://villageofmillbrookny.com/event/building-department-hours-3/2024-09-30/
LOCATION:Millbrook Village Hall\, 35 Merritt Avenue\, Millbrook\, NY\, 12545\, United States
CATEGORIES:Building Department
END:VEVENT
BEGIN:VEVENT
DTSTART;TZID=America/New_York:20240923T170000
DTEND;TZID=America/New_York:20240923T190000
DTSTAMP:20260421T142810
CREATED:20240308T182147Z
LAST-MODIFIED:20240308T182742Z
UID:10001294-1727110800-1727118000@villageofmillbrookny.com
SUMMARY:Building Department Hours
DESCRIPTION:
URL:https://villageofmillbrookny.com/event/building-department-hours-3/2024-09-23/
LOCATION:Millbrook Village Hall\, 35 Merritt Avenue\, Millbrook\, NY\, 12545\, United States
CATEGORIES:Building Department
END:VEVENT
BEGIN:VEVENT
DTSTART;TZID=America/New_York:20240916T170000
DTEND;TZID=America/New_York:20240916T190000
DTSTAMP:20260421T142810
CREATED:20240308T182147Z
LAST-MODIFIED:20240308T182742Z
UID:10001293-1726506000-1726513200@villageofmillbrookny.com
SUMMARY:Building Department Hours
DESCRIPTION:
URL:https://villageofmillbrookny.com/event/building-department-hours-3/2024-09-16/
LOCATION:Millbrook Village Hall\, 35 Merritt Avenue\, Millbrook\, NY\, 12545\, United States
CATEGORIES:Building Department
END:VEVENT
BEGIN:VEVENT
DTSTART;TZID=America/New_York:20240909T170000
DTEND;TZID=America/New_York:20240909T190000
DTSTAMP:20260421T142810
CREATED:20240308T182147Z
LAST-MODIFIED:20240308T182742Z
UID:10001292-1725901200-1725908400@villageofmillbrookny.com
SUMMARY:Building Department Hours
DESCRIPTION:
URL:https://villageofmillbrookny.com/event/building-department-hours-3/2024-09-09/
LOCATION:Millbrook Village Hall\, 35 Merritt Avenue\, Millbrook\, NY\, 12545\, United States
CATEGORIES:Building Department
END:VEVENT
BEGIN:VEVENT
DTSTART;TZID=America/New_York:20240909T100000
DTEND;TZID=America/New_York:20240909T110000
DTSTAMP:20260421T142810
CREATED:20240904T165220Z
LAST-MODIFIED:20240906T160503Z
UID:10001596-1725876000-1725879600@villageofmillbrookny.com
SUMMARY:Shade Tree Meeting
DESCRIPTION:AGENDA \nShade Tree Commission\nSeptember 09\, 2024\nVillage Hall \nOld Business \n\nApprove minutes from the April 16th\, 2024 meeting\nMove to adopt a new village tree responsibility policy from 25 ft from center of the road to\nwithin 6 ft from edge of road\n\nNew Business \n\nDiscussion of positions for 2025\nReview present by-laws\nDiscuss locations of trees for inspection\, removal\, replacement and treatment\nSet new meeting
URL:https://villageofmillbrookny.com/event/shade-tree-meeting-9-9-24/
LOCATION:Millbrook Village Hall\, 35 Merritt Avenue\, Millbrook\, NY\, 12545\, United States
CATEGORIES:Shade Tree
END:VEVENT
BEGIN:VEVENT
DTSTART;TZID=America/New_York:20240826T170000
DTEND;TZID=America/New_York:20240826T190000
DTSTAMP:20260421T142810
CREATED:20240308T182147Z
LAST-MODIFIED:20240308T182742Z
UID:10001290-1724691600-1724698800@villageofmillbrookny.com
SUMMARY:Building Department Hours
DESCRIPTION:
URL:https://villageofmillbrookny.com/event/building-department-hours-3/2024-08-26/
LOCATION:Millbrook Village Hall\, 35 Merritt Avenue\, Millbrook\, NY\, 12545\, United States
CATEGORIES:Building Department
END:VEVENT
BEGIN:VEVENT
DTSTART;TZID=America/New_York:20240819T170000
DTEND;TZID=America/New_York:20240819T190000
DTSTAMP:20260421T142810
CREATED:20240308T182147Z
LAST-MODIFIED:20240308T182742Z
UID:10001289-1724086800-1724094000@villageofmillbrookny.com
SUMMARY:Building Department Hours
DESCRIPTION:
URL:https://villageofmillbrookny.com/event/building-department-hours-3/2024-08-19/
LOCATION:Millbrook Village Hall\, 35 Merritt Avenue\, Millbrook\, NY\, 12545\, United States
CATEGORIES:Building Department
END:VEVENT
BEGIN:VEVENT
DTSTART;TZID=America/New_York:20240812T170000
DTEND;TZID=America/New_York:20240812T190000
DTSTAMP:20260421T142810
CREATED:20240308T182147Z
LAST-MODIFIED:20240308T182742Z
UID:10001288-1723482000-1723489200@villageofmillbrookny.com
SUMMARY:Building Department Hours
DESCRIPTION:
URL:https://villageofmillbrookny.com/event/building-department-hours-3/2024-08-12/
LOCATION:Millbrook Village Hall\, 35 Merritt Avenue\, Millbrook\, NY\, 12545\, United States
CATEGORIES:Building Department
END:VEVENT
BEGIN:VEVENT
DTSTART;TZID=America/New_York:20240805T170000
DTEND;TZID=America/New_York:20240805T190000
DTSTAMP:20260421T142810
CREATED:20240308T182147Z
LAST-MODIFIED:20240308T182742Z
UID:10001287-1722877200-1722884400@villageofmillbrookny.com
SUMMARY:Building Department Hours
DESCRIPTION:
URL:https://villageofmillbrookny.com/event/building-department-hours-3/2024-08-05/
LOCATION:Millbrook Village Hall\, 35 Merritt Avenue\, Millbrook\, NY\, 12545\, United States
CATEGORIES:Building Department
END:VEVENT
BEGIN:VEVENT
DTSTART;TZID=America/New_York:20240729T170000
DTEND;TZID=America/New_York:20240729T190000
DTSTAMP:20260421T142810
CREATED:20240308T182147Z
LAST-MODIFIED:20240308T182742Z
UID:10001286-1722272400-1722279600@villageofmillbrookny.com
SUMMARY:Building Department Hours
DESCRIPTION:
URL:https://villageofmillbrookny.com/event/building-department-hours-3/2024-07-29/
LOCATION:Millbrook Village Hall\, 35 Merritt Avenue\, Millbrook\, NY\, 12545\, United States
CATEGORIES:Building Department
END:VEVENT
BEGIN:VEVENT
DTSTART;TZID=America/New_York:20240722T170000
DTEND;TZID=America/New_York:20240722T190000
DTSTAMP:20260421T142810
CREATED:20240308T182147Z
LAST-MODIFIED:20240308T182742Z
UID:10001285-1721667600-1721674800@villageofmillbrookny.com
SUMMARY:Building Department Hours
DESCRIPTION:
URL:https://villageofmillbrookny.com/event/building-department-hours-3/2024-07-22/
LOCATION:Millbrook Village Hall\, 35 Merritt Avenue\, Millbrook\, NY\, 12545\, United States
CATEGORIES:Building Department
END:VEVENT
BEGIN:VEVENT
DTSTART;TZID=America/New_York:20240715T170000
DTEND;TZID=America/New_York:20240715T190000
DTSTAMP:20260421T142810
CREATED:20240308T182147Z
LAST-MODIFIED:20240308T182742Z
UID:10001284-1721062800-1721070000@villageofmillbrookny.com
SUMMARY:Building Department Hours
DESCRIPTION:
URL:https://villageofmillbrookny.com/event/building-department-hours-3/2024-07-15/
LOCATION:Millbrook Village Hall\, 35 Merritt Avenue\, Millbrook\, NY\, 12545\, United States
CATEGORIES:Building Department
END:VEVENT
BEGIN:VEVENT
DTSTART;TZID=America/New_York:20240710T180000
DTEND;TZID=America/New_York:20240710T180000
DTSTAMP:20260421T142810
CREATED:20240626T174003Z
LAST-MODIFIED:20240626T174225Z
UID:10001573-1720634400-1720634400@villageofmillbrookny.com
SUMMARY:Board of Trustees Meeting
DESCRIPTION:THE JULY MEETING WILL BE HELD AT THE VILLAGE HALL – 35 MERRITT AVE
URL:https://villageofmillbrookny.com/event/board-of-trustees-7-10-24/
LOCATION:Millbrook Village Hall\, 35 Merritt Avenue\, Millbrook\, NY\, 12545\, United States
CATEGORIES:Board of Trustees
END:VEVENT
BEGIN:VEVENT
DTSTART;TZID=America/New_York:20240708T170000
DTEND;TZID=America/New_York:20240708T190000
DTSTAMP:20260421T142810
CREATED:20240308T182147Z
LAST-MODIFIED:20240308T182742Z
UID:10001283-1720458000-1720465200@villageofmillbrookny.com
SUMMARY:Building Department Hours
DESCRIPTION:
URL:https://villageofmillbrookny.com/event/building-department-hours-3/2024-07-08/
LOCATION:Millbrook Village Hall\, 35 Merritt Avenue\, Millbrook\, NY\, 12545\, United States
CATEGORIES:Building Department
END:VEVENT
BEGIN:VEVENT
DTSTART;TZID=America/New_York:20240701T170000
DTEND;TZID=America/New_York:20240701T190000
DTSTAMP:20260421T142810
CREATED:20240308T182147Z
LAST-MODIFIED:20240308T182742Z
UID:10001282-1719853200-1719860400@villageofmillbrookny.com
SUMMARY:Building Department Hours
DESCRIPTION:
URL:https://villageofmillbrookny.com/event/building-department-hours-3/2024-07-01/
LOCATION:Millbrook Village Hall\, 35 Merritt Avenue\, Millbrook\, NY\, 12545\, United States
CATEGORIES:Building Department
END:VEVENT
BEGIN:VEVENT
DTSTART;TZID=America/New_York:20240624T170000
DTEND;TZID=America/New_York:20240624T190000
DTSTAMP:20260421T142810
CREATED:20240308T182147Z
LAST-MODIFIED:20240308T182742Z
UID:10001281-1719248400-1719255600@villageofmillbrookny.com
SUMMARY:Building Department Hours
DESCRIPTION:
URL:https://villageofmillbrookny.com/event/building-department-hours-3/2024-06-24/
LOCATION:Millbrook Village Hall\, 35 Merritt Avenue\, Millbrook\, NY\, 12545\, United States
CATEGORIES:Building Department
END:VEVENT
BEGIN:VEVENT
DTSTART;TZID=America/New_York:20240617T170000
DTEND;TZID=America/New_York:20240617T190000
DTSTAMP:20260421T142810
CREATED:20240308T182147Z
LAST-MODIFIED:20240308T182742Z
UID:10001280-1718643600-1718650800@villageofmillbrookny.com
SUMMARY:Building Department Hours
DESCRIPTION:
URL:https://villageofmillbrookny.com/event/building-department-hours-3/2024-06-17/
LOCATION:Millbrook Village Hall\, 35 Merritt Avenue\, Millbrook\, NY\, 12545\, United States
CATEGORIES:Building Department
END:VEVENT
BEGIN:VEVENT
DTSTART;TZID=America/New_York:20240610T170000
DTEND;TZID=America/New_York:20240610T190000
DTSTAMP:20260421T142810
CREATED:20240308T182147Z
LAST-MODIFIED:20240308T182742Z
UID:10001279-1718038800-1718046000@villageofmillbrookny.com
SUMMARY:Building Department Hours
DESCRIPTION:
URL:https://villageofmillbrookny.com/event/building-department-hours-3/2024-06-10/
LOCATION:Millbrook Village Hall\, 35 Merritt Avenue\, Millbrook\, NY\, 12545\, United States
CATEGORIES:Building Department
END:VEVENT
BEGIN:VEVENT
DTSTART;TZID=America/New_York:20240603T170000
DTEND;TZID=America/New_York:20240603T190000
DTSTAMP:20260421T142810
CREATED:20240308T182147Z
LAST-MODIFIED:20240308T182742Z
UID:10001278-1717434000-1717441200@villageofmillbrookny.com
SUMMARY:Building Department Hours
DESCRIPTION:
URL:https://villageofmillbrookny.com/event/building-department-hours-3/2024-06-03/
LOCATION:Millbrook Village Hall\, 35 Merritt Avenue\, Millbrook\, NY\, 12545\, United States
CATEGORIES:Building Department
END:VEVENT
BEGIN:VEVENT
DTSTART;TZID=America/New_York:20240520T170000
DTEND;TZID=America/New_York:20240520T190000
DTSTAMP:20260421T142811
CREATED:20240308T182147Z
LAST-MODIFIED:20240308T182742Z
UID:10001276-1716224400-1716231600@villageofmillbrookny.com
SUMMARY:Building Department Hours
DESCRIPTION:
URL:https://villageofmillbrookny.com/event/building-department-hours-3/2024-05-20/
LOCATION:Millbrook Village Hall\, 35 Merritt Avenue\, Millbrook\, NY\, 12545\, United States
CATEGORIES:Building Department
END:VEVENT
BEGIN:VEVENT
DTSTART;TZID=America/New_York:20240513T170000
DTEND;TZID=America/New_York:20240513T190000
DTSTAMP:20260421T142811
CREATED:20240308T182147Z
LAST-MODIFIED:20240308T182742Z
UID:10001275-1715619600-1715626800@villageofmillbrookny.com
SUMMARY:Building Department Hours
DESCRIPTION:
URL:https://villageofmillbrookny.com/event/building-department-hours-3/2024-05-13/
LOCATION:Millbrook Village Hall\, 35 Merritt Avenue\, Millbrook\, NY\, 12545\, United States
CATEGORIES:Building Department
END:VEVENT
BEGIN:VEVENT
DTSTART;TZID=America/New_York:20240506T170000
DTEND;TZID=America/New_York:20240506T190000
DTSTAMP:20260421T142811
CREATED:20240308T182147Z
LAST-MODIFIED:20240308T182742Z
UID:10001274-1715014800-1715022000@villageofmillbrookny.com
SUMMARY:Building Department Hours
DESCRIPTION:
URL:https://villageofmillbrookny.com/event/building-department-hours-3/2024-05-06/
LOCATION:Millbrook Village Hall\, 35 Merritt Avenue\, Millbrook\, NY\, 12545\, United States
CATEGORIES:Building Department
END:VEVENT
BEGIN:VEVENT
DTSTART;TZID=America/New_York:20240429T170000
DTEND;TZID=America/New_York:20240429T190000
DTSTAMP:20260421T142811
CREATED:20240308T182147Z
LAST-MODIFIED:20240308T182742Z
UID:10001273-1714410000-1714417200@villageofmillbrookny.com
SUMMARY:Building Department Hours
DESCRIPTION:
URL:https://villageofmillbrookny.com/event/building-department-hours-3/2024-04-29/
LOCATION:Millbrook Village Hall\, 35 Merritt Avenue\, Millbrook\, NY\, 12545\, United States
CATEGORIES:Building Department
END:VEVENT
BEGIN:VEVENT
DTSTART;TZID=America/New_York:20240424T180000
DTEND;TZID=America/New_York:20240424T200000
DTSTAMP:20260421T142811
CREATED:20240404T143508Z
LAST-MODIFIED:20240423T112448Z
UID:10001566-1713981600-1713988800@villageofmillbrookny.com
SUMMARY:Board of Trustees Special Meeting - WWTP
DESCRIPTION:Village of Millbrook\nBoard of Trustees Agenda\nWednesday\, 4/24/2024 – 6 PM \nLocation: Village Hall- 35 Merritt Ave\, Millbrook \nResidents are welcome to attend in-person.\nThis meeting will be broadcast on YouTube Live & then will be posted to the Village website \n\nOpen Meeting: Pledge of allegiance & roll call of trustees\nPresentation: Wastewater Treatment Plant Upgrade (WWTP)- Tighe and Bond\nExecutive Session: Police Chief\nUpcoming Board Meetings: Next Regular Board Meeting – Wednesday\, 5/8/2024 – 6PM\nAdjournment
URL:https://villageofmillbrookny.com/event/board-of-trustees-special-meeting-wwtp/
LOCATION:Millbrook Village Hall\, 35 Merritt Avenue\, Millbrook\, NY\, 12545\, United States
CATEGORIES:Board of Trustees,Village
END:VEVENT
END:VCALENDAR