BEGIN:VCALENDAR
VERSION:2.0
PRODID:-//Village of Millbrook - ECPv6.15.17.1//NONSGML v1.0//EN
CALSCALE:GREGORIAN
METHOD:PUBLISH
X-WR-CALNAME:Village of Millbrook
X-ORIGINAL-URL:https://villageofmillbrookny.com
X-WR-CALDESC:Events for Village of Millbrook
REFRESH-INTERVAL;VALUE=DURATION:PT1H
X-Robots-Tag:noindex
X-PUBLISHED-TTL:PT1H
BEGIN:VTIMEZONE
TZID:America/New_York
BEGIN:DAYLIGHT
TZOFFSETFROM:-0500
TZOFFSETTO:-0400
TZNAME:EDT
DTSTART:20220313T070000
END:DAYLIGHT
BEGIN:STANDARD
TZOFFSETFROM:-0400
TZOFFSETTO:-0500
TZNAME:EST
DTSTART:20221106T060000
END:STANDARD
BEGIN:DAYLIGHT
TZOFFSETFROM:-0500
TZOFFSETTO:-0400
TZNAME:EDT
DTSTART:20230312T070000
END:DAYLIGHT
BEGIN:STANDARD
TZOFFSETFROM:-0400
TZOFFSETTO:-0500
TZNAME:EST
DTSTART:20231105T060000
END:STANDARD
BEGIN:DAYLIGHT
TZOFFSETFROM:-0500
TZOFFSETTO:-0400
TZNAME:EDT
DTSTART:20240310T070000
END:DAYLIGHT
BEGIN:STANDARD
TZOFFSETFROM:-0400
TZOFFSETTO:-0500
TZNAME:EST
DTSTART:20241103T060000
END:STANDARD
BEGIN:DAYLIGHT
TZOFFSETFROM:-0500
TZOFFSETTO:-0400
TZNAME:EDT
DTSTART:20250309T070000
END:DAYLIGHT
BEGIN:STANDARD
TZOFFSETFROM:-0400
TZOFFSETTO:-0500
TZNAME:EST
DTSTART:20251102T060000
END:STANDARD
END:VTIMEZONE
BEGIN:VEVENT
DTSTART;TZID=America/New_York:20240603T170000
DTEND;TZID=America/New_York:20240603T190000
DTSTAMP:20260421T164104
CREATED:20240308T182147Z
LAST-MODIFIED:20240308T182742Z
UID:10001278-1717434000-1717441200@villageofmillbrookny.com
SUMMARY:Building Department Hours
DESCRIPTION:
URL:https://villageofmillbrookny.com/event/building-department-hours-3/2024-06-03/
LOCATION:Millbrook Village Hall\, 35 Merritt Avenue\, Millbrook\, NY\, 12545\, United States
CATEGORIES:Building Department
END:VEVENT
BEGIN:VEVENT
DTSTART;TZID=America/New_York:20240520T170000
DTEND;TZID=America/New_York:20240520T190000
DTSTAMP:20260421T164104
CREATED:20240308T182147Z
LAST-MODIFIED:20240308T182742Z
UID:10001276-1716224400-1716231600@villageofmillbrookny.com
SUMMARY:Building Department Hours
DESCRIPTION:
URL:https://villageofmillbrookny.com/event/building-department-hours-3/2024-05-20/
LOCATION:Millbrook Village Hall\, 35 Merritt Avenue\, Millbrook\, NY\, 12545\, United States
CATEGORIES:Building Department
END:VEVENT
BEGIN:VEVENT
DTSTART;TZID=America/New_York:20240513T170000
DTEND;TZID=America/New_York:20240513T190000
DTSTAMP:20260421T164104
CREATED:20240308T182147Z
LAST-MODIFIED:20240308T182742Z
UID:10001275-1715619600-1715626800@villageofmillbrookny.com
SUMMARY:Building Department Hours
DESCRIPTION:
URL:https://villageofmillbrookny.com/event/building-department-hours-3/2024-05-13/
LOCATION:Millbrook Village Hall\, 35 Merritt Avenue\, Millbrook\, NY\, 12545\, United States
CATEGORIES:Building Department
END:VEVENT
BEGIN:VEVENT
DTSTART;TZID=America/New_York:20240506T170000
DTEND;TZID=America/New_York:20240506T190000
DTSTAMP:20260421T164104
CREATED:20240308T182147Z
LAST-MODIFIED:20240308T182742Z
UID:10001274-1715014800-1715022000@villageofmillbrookny.com
SUMMARY:Building Department Hours
DESCRIPTION:
URL:https://villageofmillbrookny.com/event/building-department-hours-3/2024-05-06/
LOCATION:Millbrook Village Hall\, 35 Merritt Avenue\, Millbrook\, NY\, 12545\, United States
CATEGORIES:Building Department
END:VEVENT
BEGIN:VEVENT
DTSTART;TZID=America/New_York:20240429T170000
DTEND;TZID=America/New_York:20240429T190000
DTSTAMP:20260421T164104
CREATED:20240308T182147Z
LAST-MODIFIED:20240308T182742Z
UID:10001273-1714410000-1714417200@villageofmillbrookny.com
SUMMARY:Building Department Hours
DESCRIPTION:
URL:https://villageofmillbrookny.com/event/building-department-hours-3/2024-04-29/
LOCATION:Millbrook Village Hall\, 35 Merritt Avenue\, Millbrook\, NY\, 12545\, United States
CATEGORIES:Building Department
END:VEVENT
BEGIN:VEVENT
DTSTART;TZID=America/New_York:20240424T180000
DTEND;TZID=America/New_York:20240424T200000
DTSTAMP:20260421T164104
CREATED:20240404T143508Z
LAST-MODIFIED:20240423T112448Z
UID:10001566-1713981600-1713988800@villageofmillbrookny.com
SUMMARY:Board of Trustees Special Meeting - WWTP
DESCRIPTION:Village of Millbrook\nBoard of Trustees Agenda\nWednesday\, 4/24/2024 – 6 PM \nLocation: Village Hall- 35 Merritt Ave\, Millbrook \nResidents are welcome to attend in-person.\nThis meeting will be broadcast on YouTube Live & then will be posted to the Village website \n\nOpen Meeting: Pledge of allegiance & roll call of trustees\nPresentation: Wastewater Treatment Plant Upgrade (WWTP)- Tighe and Bond\nExecutive Session: Police Chief\nUpcoming Board Meetings: Next Regular Board Meeting – Wednesday\, 5/8/2024 – 6PM\nAdjournment
URL:https://villageofmillbrookny.com/event/board-of-trustees-special-meeting-wwtp/
LOCATION:Millbrook Village Hall\, 35 Merritt Avenue\, Millbrook\, NY\, 12545\, United States
CATEGORIES:Board of Trustees,Village
END:VEVENT
BEGIN:VEVENT
DTSTART;TZID=America/New_York:20240422T170000
DTEND;TZID=America/New_York:20240422T190000
DTSTAMP:20260421T164104
CREATED:20240308T182147Z
LAST-MODIFIED:20240308T182742Z
UID:10001272-1713805200-1713812400@villageofmillbrookny.com
SUMMARY:Building Department Hours
DESCRIPTION:
URL:https://villageofmillbrookny.com/event/building-department-hours-3/2024-04-22/
LOCATION:Millbrook Village Hall\, 35 Merritt Avenue\, Millbrook\, NY\, 12545\, United States
CATEGORIES:Building Department
END:VEVENT
BEGIN:VEVENT
DTSTART;TZID=America/New_York:20240417T180000
DTEND;TZID=America/New_York:20240417T190000
DTSTAMP:20260421T164104
CREATED:20240411T173647Z
LAST-MODIFIED:20240411T173915Z
UID:10001568-1713376800-1713380400@villageofmillbrookny.com
SUMMARY:Special Meeting 4/17 Personnel
DESCRIPTION:Police Chief Interviews
URL:https://villageofmillbrookny.com/event/special-meeting-4-17-personnel/
LOCATION:Millbrook Village Hall\, 35 Merritt Avenue\, Millbrook\, NY\, 12545\, United States
CATEGORIES:Board of Trustees
END:VEVENT
BEGIN:VEVENT
DTSTART;TZID=America/New_York:20240416T180000
DTEND;TZID=America/New_York:20240416T190000
DTSTAMP:20260421T164104
CREATED:20240411T173543Z
LAST-MODIFIED:20240411T174034Z
UID:10001567-1713290400-1713294000@villageofmillbrookny.com
SUMMARY:Special Meeting 4/16 Personnel
DESCRIPTION:Police Chief Interviews
URL:https://villageofmillbrookny.com/event/special-meeting-4-16-personnel/
LOCATION:Millbrook Village Hall\, 35 Merritt Avenue\, Millbrook\, NY\, 12545\, United States
CATEGORIES:Board of Trustees
END:VEVENT
BEGIN:VEVENT
DTSTART;TZID=America/New_York:20240415T170000
DTEND;TZID=America/New_York:20240415T190000
DTSTAMP:20260421T164104
CREATED:20240308T182147Z
LAST-MODIFIED:20240308T182742Z
UID:10001271-1713200400-1713207600@villageofmillbrookny.com
SUMMARY:Building Department Hours
DESCRIPTION:
URL:https://villageofmillbrookny.com/event/building-department-hours-3/2024-04-15/
LOCATION:Millbrook Village Hall\, 35 Merritt Avenue\, Millbrook\, NY\, 12545\, United States
CATEGORIES:Building Department
END:VEVENT
BEGIN:VEVENT
DTSTART;TZID=America/New_York:20240408T170000
DTEND;TZID=America/New_York:20240408T190000
DTSTAMP:20260421T164104
CREATED:20240308T182147Z
LAST-MODIFIED:20240308T182742Z
UID:10001270-1712595600-1712602800@villageofmillbrookny.com
SUMMARY:Building Department Hours
DESCRIPTION:
URL:https://villageofmillbrookny.com/event/building-department-hours-3/2024-04-08/
LOCATION:Millbrook Village Hall\, 35 Merritt Avenue\, Millbrook\, NY\, 12545\, United States
CATEGORIES:Building Department
END:VEVENT
BEGIN:VEVENT
DTSTART;TZID=America/New_York:20240403T180000
DTEND;TZID=America/New_York:20240403T200000
DTSTAMP:20260421T164104
CREATED:20240104T155231Z
LAST-MODIFIED:20240125T183118Z
UID:10001252-1712167200-1712174400@villageofmillbrookny.com
SUMMARY:Board of Trustees Total Budget
DESCRIPTION:
URL:https://villageofmillbrookny.com/event/board-of-trustees-total-budget/
LOCATION:Millbrook Village Hall\, 35 Merritt Avenue\, Millbrook\, NY\, 12545\, United States
CATEGORIES:Board of Trustees
END:VEVENT
BEGIN:VEVENT
DTSTART;TZID=America/New_York:20240401T170000
DTEND;TZID=America/New_York:20240401T190000
DTSTAMP:20260421T164104
CREATED:20240308T182147Z
LAST-MODIFIED:20240308T182742Z
UID:10001269-1711990800-1711998000@villageofmillbrookny.com
SUMMARY:Building Department Hours
DESCRIPTION:
URL:https://villageofmillbrookny.com/event/building-department-hours-3/2024-04-01/
LOCATION:Millbrook Village Hall\, 35 Merritt Avenue\, Millbrook\, NY\, 12545\, United States
CATEGORIES:Building Department
END:VEVENT
BEGIN:VEVENT
DTSTART;TZID=America/New_York:20240325T170000
DTEND;TZID=America/New_York:20240325T190000
DTSTAMP:20260421T164104
CREATED:20240308T182147Z
LAST-MODIFIED:20240308T182742Z
UID:10001268-1711386000-1711393200@villageofmillbrookny.com
SUMMARY:Building Department Hours
DESCRIPTION:
URL:https://villageofmillbrookny.com/event/building-department-hours-3/2024-03-25/
LOCATION:Millbrook Village Hall\, 35 Merritt Avenue\, Millbrook\, NY\, 12545\, United States
CATEGORIES:Building Department
END:VEVENT
BEGIN:VEVENT
DTSTART;TZID=America/New_York:20240320T180000
DTEND;TZID=America/New_York:20240320T200000
DTSTAMP:20260421T164104
CREATED:20240104T154859Z
LAST-MODIFIED:20240125T183051Z
UID:10001251-1710957600-1710964800@villageofmillbrookny.com
SUMMARY:Board of Trustees Budget Highway & Front Office
DESCRIPTION:
URL:https://villageofmillbrookny.com/event/board-of-trustees-budget-highway-front-office/
LOCATION:Millbrook Village Hall\, 35 Merritt Avenue\, Millbrook\, NY\, 12545\, United States
CATEGORIES:Board of Trustees
END:VEVENT
BEGIN:VEVENT
DTSTART;TZID=America/New_York:20240318T170000
DTEND;TZID=America/New_York:20240318T190000
DTSTAMP:20260421T164104
CREATED:20240308T182147Z
LAST-MODIFIED:20240308T182742Z
UID:10001267-1710781200-1710788400@villageofmillbrookny.com
SUMMARY:Building Department Hours
DESCRIPTION:
URL:https://villageofmillbrookny.com/event/building-department-hours-3/2024-03-18/
LOCATION:Millbrook Village Hall\, 35 Merritt Avenue\, Millbrook\, NY\, 12545\, United States
CATEGORIES:Building Department
END:VEVENT
BEGIN:VEVENT
DTSTART;TZID=America/New_York:20240318T103000
DTEND;TZID=America/New_York:20240318T113000
DTSTAMP:20260421T164104
CREATED:20240315T173709Z
LAST-MODIFIED:20240315T173855Z
UID:10001527-1710757800-1710761400@villageofmillbrookny.com
SUMMARY:Shade Tree Meeting 3/18/24
DESCRIPTION:
URL:https://villageofmillbrookny.com/event/shade-tree-meeting-3-18-24/
LOCATION:Millbrook Village Hall\, 35 Merritt Avenue\, Millbrook\, NY\, 12545\, United States
CATEGORIES:Shade Tree
END:VEVENT
BEGIN:VEVENT
DTSTART;TZID=America/New_York:20240306T180000
DTEND;TZID=America/New_York:20240306T200000
DTSTAMP:20260421T164104
CREATED:20240104T154843Z
LAST-MODIFIED:20240125T183030Z
UID:10001250-1709748000-1709755200@villageofmillbrookny.com
SUMMARY:Board of Trustees Budget Police & Fire
DESCRIPTION:
URL:https://villageofmillbrookny.com/event/board-of-trustees-budget-police-fire/
LOCATION:Millbrook Village Hall\, 35 Merritt Avenue\, Millbrook\, NY\, 12545\, United States
CATEGORIES:Board of Trustees
END:VEVENT
BEGIN:VEVENT
DTSTART;TZID=America/New_York:20240228T180000
DTEND;TZID=America/New_York:20240228T200000
DTSTAMP:20260421T164104
CREATED:20240104T144028Z
LAST-MODIFIED:20240125T182952Z
UID:10001249-1709143200-1709150400@villageofmillbrookny.com
SUMMARY:Board of Trustees Budget Water & Sewer
DESCRIPTION:
URL:https://villageofmillbrookny.com/event/board-of-trustees-budget-water-sewer/
LOCATION:Millbrook Village Hall\, 35 Merritt Avenue\, Millbrook\, NY\, 12545\, United States
CATEGORIES:Board of Trustees
END:VEVENT
BEGIN:VEVENT
DTSTART;TZID=America/New_York:20240118T100000
DTEND;TZID=America/New_York:20240118T110000
DTSTAMP:20260421T164104
CREATED:20240112T182330Z
LAST-MODIFIED:20240116T175438Z
UID:10001254-1705572000-1705575600@villageofmillbrookny.com
SUMMARY:Shade Tree Commission Meeting 1/18/24
DESCRIPTION:Shade Tree Commission will hold a meeting on Thursday\, January 18th at 10:00 am at the Village Hall. The agenda will include the following: \n\nRequests by Village residents to remove trees (2)\nReview policy of Village tree responsibility extending from 25 feet of road center\nDiscussion of Arbor Day Plans and Tree planting ceremony\nDesignation of provider for Spring Plantings on Franklin Avenue\nRecommendation for funding of Shade Tree Commission in 24-25 budget\nReview of requests for Spring Plantings other than Franklin Avenue\n\nAny questions or comments contact Mike Herzog at mhtrusteevom@gmail.com \nView Agenda \n 
URL:https://villageofmillbrookny.com/event/shade-tree-commission-meeting-1-18-24/
LOCATION:Millbrook Village Hall\, 35 Merritt Avenue\, Millbrook\, NY\, 12545\, United States
CATEGORIES:Shade Tree
END:VEVENT
BEGIN:VEVENT
DTSTART;TZID=America/New_York:20240108T180000
DTEND;TZID=America/New_York:20240108T190000
DTSTAMP:20260421T164104
CREATED:20231211T195439Z
LAST-MODIFIED:20240103T123952Z
UID:10001220-1704736800-1704740400@villageofmillbrookny.com
SUMMARY:Planning Board Meeting
DESCRIPTION:Village of MillbrookPlanning Board AgendaJanuary 8\, 2024 \nFRISINA SUBDIVISION WORKSHOP36 Nine Partners LaneParcel #6764-02-82488 \nBENNETT PARK RESCHEDULE PUBLIC HEARINGThe Planning Board has not received responses from all parties regarding this application.
URL:https://villageofmillbrookny.com/event/planning-board-meeting-3-2/
LOCATION:35 Merritt Avenue\, Millbrook\, NY\, 12545\, United States
CATEGORIES:Planning Board
END:VEVENT
BEGIN:VEVENT
DTSTART;TZID=America/New_York:20240103T180000
DTEND;TZID=America/New_York:20240103T180000
DTSTAMP:20260421T164104
CREATED:20231220T181049Z
LAST-MODIFIED:20231220T181526Z
UID:10001245-1704304800-1704304800@villageofmillbrookny.com
SUMMARY:Board of Trustees Re-Org Meeting
DESCRIPTION:
URL:https://villageofmillbrookny.com/event/board-of-trustees-re-org-meeting/
LOCATION:Millbrook Village Hall\, 35 Merritt Avenue\, Millbrook\, NY\, 12545\, United States
CATEGORIES:Board of Trustees
END:VEVENT
BEGIN:VEVENT
DTSTART;TZID=America/New_York:20231120T180000
DTEND;TZID=America/New_York:20231120T190000
DTSTAMP:20260421T164104
CREATED:20231114T153737Z
LAST-MODIFIED:20231116T174237Z
UID:10001209-1700503200-1700506800@villageofmillbrookny.com
SUMMARY:Planning Board Meeting
DESCRIPTION:
URL:https://villageofmillbrookny.com/event/planning-board-meeting-6/
LOCATION:Millbrook Village Hall\, 35 Merritt Avenue\, Millbrook\, NY\, 12545\, United States
CATEGORIES:Planning Board
END:VEVENT
BEGIN:VEVENT
DTSTART;TZID=America/New_York:20231120T170000
DTEND;TZID=America/New_York:20231120T190000
DTSTAMP:20260421T164104
CREATED:20230912T180245Z
LAST-MODIFIED:20230912T180245Z
UID:10001102-1700499600-1700506800@villageofmillbrookny.com
SUMMARY:Building Department Hours
DESCRIPTION:
URL:https://villageofmillbrookny.com/event/building-department-hours-2/2023-11-20/
LOCATION:35 Merritt Avenue\, Millbrook\, NY\, 12545\, United States
CATEGORIES:Building Department
END:VEVENT
BEGIN:VEVENT
DTSTART;TZID=America/New_York:20231113T170000
DTEND;TZID=America/New_York:20231113T190000
DTSTAMP:20260421T164104
CREATED:20230912T180245Z
LAST-MODIFIED:20230912T180245Z
UID:10001101-1699894800-1699902000@villageofmillbrookny.com
SUMMARY:Building Department Hours
DESCRIPTION:
URL:https://villageofmillbrookny.com/event/building-department-hours-2/2023-11-13/
LOCATION:35 Merritt Avenue\, Millbrook\, NY\, 12545\, United States
CATEGORIES:Building Department
END:VEVENT
BEGIN:VEVENT
DTSTART;TZID=America/New_York:20231106T170000
DTEND;TZID=America/New_York:20231106T190000
DTSTAMP:20260421T164104
CREATED:20230912T180245Z
LAST-MODIFIED:20230912T180245Z
UID:10001100-1699290000-1699297200@villageofmillbrookny.com
SUMMARY:Building Department Hours
DESCRIPTION:
URL:https://villageofmillbrookny.com/event/building-department-hours-2/2023-11-06/
LOCATION:35 Merritt Avenue\, Millbrook\, NY\, 12545\, United States
CATEGORIES:Building Department
END:VEVENT
BEGIN:VEVENT
DTSTART;TZID=America/New_York:20231030T170000
DTEND;TZID=America/New_York:20231030T190000
DTSTAMP:20260421T164104
CREATED:20230912T180245Z
LAST-MODIFIED:20230912T180245Z
UID:10001099-1698685200-1698692400@villageofmillbrookny.com
SUMMARY:Building Department Hours
DESCRIPTION:
URL:https://villageofmillbrookny.com/event/building-department-hours-2/2023-10-30/
LOCATION:35 Merritt Avenue\, Millbrook\, NY\, 12545\, United States
CATEGORIES:Building Department
END:VEVENT
BEGIN:VEVENT
DTSTART;TZID=America/New_York:20231023T170000
DTEND;TZID=America/New_York:20231023T190000
DTSTAMP:20260421T164104
CREATED:20230912T180245Z
LAST-MODIFIED:20230912T180245Z
UID:10001098-1698080400-1698087600@villageofmillbrookny.com
SUMMARY:Building Department Hours
DESCRIPTION:
URL:https://villageofmillbrookny.com/event/building-department-hours-2/2023-10-23/
LOCATION:35 Merritt Avenue\, Millbrook\, NY\, 12545\, United States
CATEGORIES:Building Department
END:VEVENT
BEGIN:VEVENT
DTSTART;VALUE=DATE:20231023
DTEND;VALUE=DATE:20231024
DTSTAMP:20260421T164104
CREATED:20231023T133424Z
LAST-MODIFIED:20231127T152312Z
UID:10001204-1698019200-1698105599@villageofmillbrookny.com
SUMMARY:No Building Department Hours
DESCRIPTION:Due to mandatory training the Building Inspector will not have office hours today\, Monday\, October 23. You can reach him by cell phone at 845-240-2118.
URL:https://villageofmillbrookny.com/event/no-building-department-hours-2/
LOCATION:Millbrook Village Hall\, 35 Merritt Avenue\, Millbrook\, NY\, 12545\, United States
CATEGORIES:Building Department
END:VEVENT
BEGIN:VEVENT
DTSTART;TZID=America/New_York:20231016T170000
DTEND;TZID=America/New_York:20231016T190000
DTSTAMP:20260421T164104
CREATED:20230912T180245Z
LAST-MODIFIED:20230912T180245Z
UID:10001097-1697475600-1697482800@villageofmillbrookny.com
SUMMARY:Building Department Hours
DESCRIPTION:
URL:https://villageofmillbrookny.com/event/building-department-hours-2/2023-10-16/
LOCATION:35 Merritt Avenue\, Millbrook\, NY\, 12545\, United States
CATEGORIES:Building Department
END:VEVENT
END:VCALENDAR